{"text_format":"3","workbook":"xlsx","n_sheets":12,"sheets":["Cover Page","Summary sheet","Standards","Checklist 2.1","Checklist 2.6","Annex 1.3a","Annex 2.1a- 2.14a","Annex 3.1a-3.11a","Action Plan","DataSheet_Extract","Calculation Sheet","Sheet1"],"not_rendered":{"images":1,"defined_names":68},"read":"whole","date_system":"1900"}

{"sheet":"Cover Page","index":0,"n_rows":35,"n_cols":7,"rows_kept":35,"merged":[[19,1,19,9],[20,1,20,9],[21,4,21,5],[23,3,23,8],[34,2,38,9]]}
{"$rows_empty":19}
[null,"Checklist to Identify the Gaps in Quality  Improvement of Secondary Hospitals \nwith General Services"]
[null,{"$f":"'Summary sheet'!C5","v":0}]
[{"$nulls":4},{"$f":"'Summary sheet'!C9","v":0},null,{"$f":"'Summary sheet'!D9","v":""}]
[]
[{"$nulls":3},{"$f":"'Summary sheet'!C7","v":"00:00:00"}]
[]
[]
[]
[]
[]
[null,null,"\n"]
[]
[]
[]
[]
[null,null,"Government of Nepal\nMinistry of Health and Population\nQuality Assessment and Regulation Division"]

{"sheet":"Summary sheet","index":1,"n_rows":52,"n_cols":9,"rows_kept":52,"merged":[[0,0,0,8],[2,2,2,3],[4,0,4,8],[10,4,10,8],[11,1,11,4],[13,1,13,4],[14,1,14,4],[15,1,15,4],[16,1,16,4],[17,1,17,4],[18,1,18,4],[21,1,21,4],[22,1,22,4],[23,1,23,4],[24,1,24,4],[25,1,25,4],[26,1,26,4],[27,1,27,4],[28,1,28,4],[29,1,29,4],[30,1,30,4],[31,1,31,4],[32,1,32,4],[33,1,33,4],[38,1,38,4],[39,1,39,4],[40,1,40,4],[41,1,41,4],[42,1,42,4],[43,1,43,4],[44,1,44,4],[45,1,45,4],[46,1,46,4],[47,1,47,4],[48,1,48,4]]}
["SUMMARY SHEET (Secondary A Hospital)"]
[]
["Province :",null,"Province_Name"]
[]
["Hospital Name"]
[]
["Date of Assessment : ",{"$nulls":5},"दिन","महिना","साल"]
[]
["Event:",null,null,{"$f":"IF(OR(C9=\"Workshop\", C9=\"Follow Up\"),\"?\", \"\")","v":""}]
[]
["Completed by:",{"$nulls":3},{"$f":"IF(C11=\"Joint Assessment\", \"MoHP/MoSD/PHD/NSI\", \"\")","v":""}]
["Section Number","Section Name",{"$nulls":3},"No. of standards","Max score","Obtained Score","Obtained percentage"]
["SECTION I :","Governance and Management Standards (20% Weightage)"]
[1.1,"Governance",{"$nulls":3},27,{"$f":"+Standards!E32","v":27},{"$f":"+Standards!D32","v":0},{"$f":"$H14/$G14","v":{"v":0,"d":"0%"}}]
[1.2,"Organizational Management",{"$nulls":3},15,{"$f":"Standards!E55","v":15},{"$f":"+Standards!D55","v":0},{"$f":"$H15/$G15","v":{"v":0,"d":"0%"}}]
[1.3,"Human Resources Management and Development",{"$nulls":3},17,{"$f":"+Standards!E79","v":19},{"$f":"+Standards!D79","v":0},{"v":0,"d":"0%"}]
[1.4,"Financial Management",{"$nulls":3},17,{"$f":"+Standards!E103","v":17},{"$f":"+Standards!D103","v":0},{"v":0,"d":"0%"}]
[1.5,"Medical Records and Information Management",{"$nulls":3},14,{"$f":"+Standards!E124","v":14},{"$f":"+Standards!D124","v":0},{"v":0,"d":"0%"}]
[1.6,"Quality Management",{"$nulls":3},15,{"$f":"+Standards!E147","v":17},{"$f":"+Standards!D147","v":0},{"v":0,"d":"0%"}]
["SECTION I : Total Governance and Management Standards",{"$nulls":4},{"$f":"SUM($F$14:$F$19)","v":105},{"$f":"SUM($G$14:$G$19)","v":109},{"$f":"SUM(H14:H19)","v":0},{"v":0,"d":"0%"}]
["SECTION II :","Clinical Management  (60% Weightage)"]
[2.1,"OPD Service",{"$nulls":3},31,{"$f":"+Standards!E187","v":73},{"$f":"+Standards!D187","v":0},{"v":0,"d":"0%"}]
[2.2,"Speical Clinic",{"$nulls":3},67,{"$f":"+Standards!E210+Standards!E235+Standards!E260+Standards!E287","v":75},{"$f":"+Standards!D210+Standards!D235+Standards!D260+Standards!D287","v":0},{"v":0,"d":"0%"}]
[2.3,"Emergency Service",{"$nulls":3},36,{"$f":"+Standards!E330","v":44},{"$f":"+Standards!D330","v":0},{"v":0,"d":"0%"}]
[2.4,"Dressing Injections and Procedures Room",{"$nulls":3},12,{"$f":"+Standards!E349","v":20},{"$f":"+Standards!D349","v":0},{"v":0,"d":"0%"}]
[2.5,"Pharmacy Service",{"$nulls":3},35,{"$f":"+Standards!E392","v":39},{"$f":"+Standards!D392","v":0},{"v":0,"d":"0%"}]
[2.6,"Inpatient Service (General Ward)",{"$nulls":3},34,{"$f":"+Standards!E436","v":96},{"$f":"+Standards!D436","v":0},{"v":0,"d":"0%"}]
[2.7,"Delivery Service",{"$nulls":3},{"$f":"33","v":33},{"$f":"+Standards!E478","v":39},{"$f":"+Standards!D478","v":0},{"v":0,"d":"0%"}]
[2.7,"Maternity Inpatient Service (General Ward)",{"$nulls":3},27,{"$f":"+Standards!E513","v":33},{"$f":"+Standards!D513","v":0},{"v":0,"d":"0%"}]
[2.8,"Surgery/ Operation Service",{"$nulls":3},44,{"$f":"+Standards!E565","v":59},{"$f":"+Standards!D565","v":0},{"v":0,"d":"0%"}]
[2.9,"Diagnostic and Laboratory Services",{"$nulls":3},70,{"$f":"+Standards!E599+Standards!E629+Standards!E655+Standards!E674+Standards!E690","v":99},{"$f":"+Standards!D599+Standards!D629+Standards!D655+Standards!D674+Standards!D690","v":0},{"v":0,"d":"0%"}]
["2.10","Dental Services",{"$nulls":3},18,{"$f":"+Standards!E715","v":22},{"$f":"+Standards!D715","v":0},{"v":0,"d":"0%"}]
[2.11,"Post-Mortem and Morturay Service",{"$nulls":3},14,{"$f":"Standards!E736","v":16},{"$f":"Standards!D736","v":0},{"v":0,"d":"0%"}]
[2.12,"Medico-legal Services",{"$nulls":3},11,{"$f":"Standards!E754","v":13},{"$f":"Standards!D754","v":0},{"v":0,"d":"0%"}]
[2.13,"One stop crisis management center (OCMC)",{"$nulls":3},27,{"$f":"Standards!E788","v":33},{"$f":"Standards!D788","v":0},{"v":0,"d":"0%"}]
[2.14,"Physiotherapy (Physical Rehabilitation)",{"$nulls":3},19,{"$f":"Standards!E814","v":21},{"$f":"Standards!D814","v":0},{"v":0,"d":"0%"}]
["SECTION II: Clinical Servince Management Standards",{"$nulls":4},{"$f":"SUM($F$22:$F$36)","v":478},{"$f":"SUM(G22:G36)","v":682},{"$f":"SUM(H22:H36)","v":0},{"v":0,"d":"0%"}]
["SECTION III :","Hospital Support Services Standards  (20% Weightage)"]
[3.1,"Central Supply Sterile Department (CSSD)",{"$nulls":3},17,{"$f":"+Standards!E838","v":19},{"$f":"+Standards!D838","v":0},{"$f":"$H39/$G39","v":{"v":0,"d":"0%"}}]
["3.2","Laundry",{"$nulls":3},17,{"$f":"+Standards!E862","v":19},{"$f":"+Standards!D862","v":0},{"v":0,"d":"0%"}]
["3.3","Housekeeping",{"$nulls":3},13,{"$f":"+Standards!E882","v":15},{"$f":"+Standards!D882","v":0},{"v":0,"d":"0%"}]
["3.4","Repair, Maintenance and Power System",{"$nulls":3},12,{"$f":"+Standards!E901","v":12},{"$f":"+Standards!D901","v":0},{"v":0,"d":"0%"}]
["3.5","Water Supply",{"$nulls":3},4,{"$f":"+Standards!E912","v":4},{"$f":"+Standards!D912","v":0},{"v":0,"d":"0%"}]
["3.6","Hospital Waste Management",{"$nulls":3},17,{"$f":"+Standards!E936","v":17},{"$f":"+Standards!D936","v":0},{"v":0,"d":"0%"}]
["3.7","Safety and Security",{"$nulls":3},15,{"$f":"+Standards!E958","v":17},{"$f":"Standards!D958","v":0},{"v":0,"d":"0%"}]
["3.8","Transportation and Communication",{"$nulls":3},8,{"$f":"+Standards!E973","v":8},{"$f":"+Standards!D973","v":0},{"v":0,"d":"0%"}]
["3.9","Store ( Medical and Logistics)",{"$nulls":3},7,{"$f":"+Standards!E987","v":7},{"$f":"+Standards!D987","v":0},{"v":0,"d":"0%"}]
["3.10","Hospital Canteen",{"$nulls":3},16,{"$f":"+Standards!E1010","v":16},{"$f":"+Standards!D1010","v":0},{"v":0,"d":"0%"}]
[3.11,"SSU",{"$nulls":3},12,{"$f":"+Standards!E1029","v":14},{"$f":"+Standards!D1029","v":0},{"v":0,"d":"0%"}]
["SECTION III: Hospital Support Services Standards",{"$nulls":4},{"$f":"SUM($F$39:$F$49)","v":138},{"$f":"SUM(G39:G49)","v":148},{"$f":"SUM(H39:H49)","v":0},{"$f":"$H$50/$G$50","v":{"v":0,"d":"0%"}}]
["Total",{"$nulls":4},{"$f":"$F$20+$F$37+$F$50","v":721},{"$f":"$G$20+$G$37+$G$50","v":939},{"$f":"+H50+H37+H20","v":0}]
["Overall MSS Score (Weightage Average Score)",{"$nulls":4},{"$f":"($I$20*0.2)+($I$37*0.6)+($I$50*0.2)","v":{"v":0,"d":"0%"}}]

{"sheet":"Standards","index":2,"n_rows":1030,"n_cols":5,"rows_kept":1030,"merged":[[0,2,1,4],[6,0,14,0],[7,2,7,4],[15,0,16,0],[19,0,25,0],[26,0,27,0],[31,0,32,1],[35,2,36,4],[38,0,39,0],[44,0,45,0],[46,0,53,0],[48,2,48,4],[54,0,55,1],[58,2,59,4],[63,0,64,0],[67,0,70,0],[71,0,73,0],[74,0,77,0],[78,0,79,1],[82,2,83,4],[85,0,86,0],[87,0,88,0],[91,0,93,0],[94,0,95,0],[96,0,98,0],[99,0,100,0],[102,0,103,1],[106,2,107,4],[109,0,111,0],[112,0,114,0],[115,0,119,0],[120,0,122,0],[123,0,124,1],[127,2,128,4],[130,0,131,0],[137,0,138,0],[139,0,145,0],[140,2,140,4],[146,0,147,1],[150,2,151,4],[153,0,155,0],[156,0,157,0],[159,0,160,0],[161,0,168,0],[163,2,163,4],[169,0,174,0],[169,2,169,4],[176,0,179,0],[181,0,185,0],[186,0,187,1],[190,2,192,4],[198,0,199,0],[200,0,201,0],[202,0,203,0],[204,0,208,0],[209,0,210,1],[213,2,215,4],[221,0,222,0],[225,0,226,0],[227,0,228,0],[229,0,233,0],[234,0,235,1],[238,2,239,4],[245,0,246,0],[248,0,249,0],[250,0,251,0],[252,0,253,0],[254,0,258,0],[259,0,260,1],[263,2,265,4],[269,0,270,0],[272,0,273,0],[275,0,276,0],[277,0,278,0],[279,0,280,0],[281,0,285,0],[286,0,287,1],[290,2,291,4],[294,0,295,0],[296,0,302,0],[304,0,305,0],[306,0,307,0],[308,0,311,0],[314,0,317,0],[321,0,323,0],[325,0,328,0],[329,0,330,1],[333,2,334,4],[340,0,341,0],[342,0,346,0],[348,0,349,1],[352,2,353,4],[356,0,358,0],[356,2,356,4],[359,0,361,0],[362,0,367,0],[369,0,371,0],[377,0,379,0],[380,0,382,0],[384,0,385,0],[388,0,389,0],[391,0,392,1],[395,2,396,4],[398,0,400,0],[401,0,405,0],[401,2,401,4],[406,0,409,0],[406,2,406,4],[414,0,419,0],[415,2,415,4],[421,0,425,0],[429,0,434,0],[435,0,436,1],[439,2,441,4],[443,0,446,0],[447,0,451,0],[447,2,447,4],[456,0,458,0],[460,0,463,0],[464,0,466,0],[467,0,476,0],[477,0,478,1],[481,2,483,4],[485,0,488,0],[491,0,492,0],[495,0,497,0],[498,0,502,0],[506,0,511,0],[512,0,513,1],[516,2,517,4],[519,0,522,0],[523,0,526,0],[527,0,529,0],[530,0,532,0],[535,0,538,0],[539,0,543,0],[539,2,539,4],[547,0,552,0],[553,0,554,0],[555,2,555,4],[564,0,565,1],[568,2,570,4],[572,0,574,0],[577,0,579,0],[581,0,583,0],[584,0,586,0],[587,0,588,0],[589,0,590,0],[591,0,597,0],[598,0,599,1],[602,2,603,4],[607,0,610,0],[613,0,614,0],[615,0,618,0],[619,0,620,0],[621,0,627,0],[628,0,629,1],[632,2,633,4],[635,0,636,0],[640,0,641,0],[642,0,644,0],[647,0,648,0],[650,0,653,0],[654,0,655,1],[658,2,659,4],[666,0,667,0],[669,0,670,0],[671,0,672,0],[673,0,674,1],[677,2,678,4],[685,0,686,0],[687,0,688,0],[689,0,690,1],[693,2,694,4],[696,0,698,0],[701,0,702,0],[703,0,705,0],[709,0,713,0],[714,0,715,1],[718,2,719,4],[721,0,724,0],[730,0,734,0],[735,0,736,1],[739,2,740,4],[745,0,746,0],[749,0,752,0],[753,0,754,1],[757,2,758,4],[762,0,763,0],[765,0,766,0],[767,0,769,0],[770,0,771,0],[772,0,773,0],[776,0,777,0],[778,0,781,0],[782,0,786,0],[787,0,788,1],[791,2,792,4],[795,0,796,0],[802,0,803,0],[805,0,806,0],[808,0,812,0],[813,0,814,1],[817,2,818,4],[820,0,821,0],[825,0,827,0],[830,0,831,0],[833,0,836,0],[837,0,838,1],[841,2,842,4],[844,0,845,0],[848,0,849,0],[851,0,852,0],[857,0,860,0],[861,0,862,1],[865,2,866,4],[869,0,870,0],[872,0,878,0],[881,0,882,1],[885,2,886,4],[888,0,889,0],[890,0,895,0],[896,0,899,0],[900,0,901,1],[904,2,905,4],[908,0,909,0],[911,0,912,1],[915,2,916,4],[919,0,920,0],[927,0,932,0],[935,0,936,1],[939,2,940,4],[942,0,944,0],[949,0,956,0],[957,0,958,1],[961,2,962,4],[964,0,966,0],[967,0,971,0],[972,0,973,1],[976,2,977,4],[980,0,981,0],[982,0,983,0],[986,0,987,1],[990,2,991,4],[995,0,998,0],[1003,0,1007,0],[1009,0,1010,1],[1013,2,1014,4],[1016,0,1017,0],[1021,0,1023,0],[1024,0,1027,0],[1028,0,1029,1]]}
["Area","Code","Verification "]
["Governance",1.1]
["Components",null,"Standards","Obtained Score","Maximum Score"]
["1.1.1 Formation of Hospital Management Committee (HMC)","1.1.1","Hospital Management Committee is formed",null,1]
["1.1.2 Capacity building of HMC","1.1.2","All HMC members have received an orientation on HMC functions",null,1]
["1.1.3 Availability of Medical Superintendent","1.1.3","Medical Superintendent is fulfill as per organogram",null,1]
["1.1.4 Functional HMC","1.1.4.1","HMC meetings called upon by member secretary / Medical Superintendent headed by chairperson conducted at least 3 times per year or as per need",null,1]
[null," 1.1.4.2","HMC meetings have covered at least following  agenda (See minutes of last meetings):"]
[null," 1.1.4.2.1","Hospital services and utilization",null,1]
[null," 1.1.4.2.2","Hospital’s financial issues",null,1]
[null,"1.1.4.2.3","Patient rights issues e.g. patient facilities, analysis of complaints received, patient security",null,1]
[null,"1.1.4.2.4","Management issues- HR issues, security issues",null,1]
[null,"1.1.4.2.5","Infrastructure/ Equipment issues",null,1]
[null,"1.1.4.2.6","Coordination issues with local governance- rural municipality/ municipality, provincial, federal, DoHS, MoHP",null,1]
[null,"1.1.4.2.7","Review of decisions and recommendations of staff meeting and QI Committee meetings discussions",null,1]
["1.1.5 Support in health financing","1.1.5.1","Hospital implements health insurance program",null,1]
[null,"1.1.5.2","All targeted women receive Aama Surakhsya program incentives on time (in last quarter)",null,1]
["1.1.6 Annual plan & budget","1.1.6","Annual plan & budget is approved by HMC before the fiscal year starts",null,1]
["1.1.7 Storage of HMC documents","1.1.7","There is a separate locker for HMC documents.",null,1]
["1.1.8 Accountability "," 1.1.8.1","Updated citizens charter is displayed",null,1]
[null," 1.1.8.2","Notices of public concern are displayed publicly",null,1]
[null," 1.1.8.3","Complaint boxes are kept in a visible place  ",null,1]
[null," 1.1.8.4","Information officer opens complaint box at least once a week and issues are timely addressed",null,1]
[null," 1.1.8.5","Hospital has a website or social media account like- Facebook, Viber or Twitter- available and functional with latest information",null,1]
[null,"1.1.8.6","Hospital has geriatrics friendly infrastructure (like side rails for mobilization and support)",null,1]
[null,"1.1.8.7","Hospital has friendly environment for people with disability (like ramps)",null,1]
["1.1.9 Grievance and complain handling","1.1.9.1","Mechanism for grievance and complain handling institutionalized   ",null,1]
[null,"1.1.9.2","Grievance and complains are effectively addressed",null,1]
["1.1.10 Hospital has Operational Manual","1.1.10","Hospital has its own operational manual with clear information on how the hospital operates its' services",null,1]
["1.1.11 Hospital produces an Annual Report"," 1.1.11","Hospital Annual Report is available in website",null,1]
["1.1.12 Conduct social audit"," 1.1.12","Social audit is conducted for last year by third party",null,1]
["Standard 1.1",null,"Total Obtained Score",{"$f":"SUM($D$4:$D$31)","v":0},{"$f":"SUM($E$4:$E$31)","v":27}]
[null,null,"Percentage = Total Obtained Score / 27 x 100",{"$f":"+$D$32/$E$32","v":{"v":0,"d":"0%"}}]
[]
[]
["Area","Code","Verification "]
["Organizational Management",1.2]
["Components",null,"Standards","Obtained Score","Maximum Score"]
["1.2.1 Organizational structure","1.2.1.1","Organogram of hospital showing departments/units with number of staffs is displayed",null,1]
[null,"1.2.1.2","Organogram of hospital is reviewed every 2 years and forwarded to higher authority",null,1]
["1.2.2 Work division and delegation of authorities"," 1.2.2","Written delegation of authorities is maintained",null,1]
["1.2.3 Maintaining client flow system","1.2.3","Navigation chart with services and departments guiding clients to access services",null,1]
["1.2.4 Queue system","1.2.4","Hospital implements token and / or queue system for users (separate for elderly, disable and pregnant)",null,1]
["1.2.5 E-Attendance ","1.2.5","All staffs of hospital use electronic attendance",null,1]
["1.2.6 Dress code for all staffs","1.2.6.1","All clinical, technical and administrative staffs have apron / uniform which is worn on duty",null,1]
[null,"1.2.6.2","All hospital staffs carry personal ID cards when on duty",null,1]
["1.2.7 Maintaining effective team work environment"," 1.2.7.1","Hand-over meetings are conducted daily and also in concerned department",null,1]
[null,"1.2.7.2","Morning conference is conducted everyday",null,1]
[null," 1.2.7.3","Regular meetings are conducted as follows (see meeting minutes):"]
[null,"1.2.7.3.1","Intra- departmental meeting every two weeks",null,1]
[null,"1.2.7.3.2","Inter-departmental meeting once a month",null,1]
[null,"1.2.7.3.3","Staff meeting once a month",null,1]
[null,"1.2.7.4","Staff quarters are provided and adequate for the staffs",null,1]
[null,"1.2.7.5","Separate space allocated for breast feeding for staffs/ Separate space in duty room designated for breast feeding",null,1]
["Standard 1.2",null,"Total Obtained Score",{"$f":"SUM($D$39:$D$54)","v":0},{"$f":"SUM($E$39:$E$54)","v":15}]
[null,null,"Percentage = Total Obtained Score / 16 x 100",{"$f":"+$D$55/$E$55","v":{"v":0,"d":"0%"}}]
[]
[]
["Area","Code","Verification"]
["Human Resource Management and Development",1.3]
["Components",null,"Standards","Obtained Score","Maximum Score"]
["1.3.1 Personnel administration policy of hospital","1.3.1","Personnel administration guideline of HMC is available (for all staffs including locally hired staff) and practiced accordingly",null,1]
["1.3.2 Human resource records","1.3.2","Individual records of all staffs including contract staffs are maintained and updated.",null,1]
["1.3.3 Staffing","1.3.3.1","Staffs available for service in hospital as per organogram (See Annex 1.3a Functional Organogram Section I: At the end of this standard)",{"$f":"'Annex 1.3a'!$D$45","v":0},3]
[null,"1.3.3.2","Maaga Akriti form (माग आकृति फारम) correspondence to fulfill vacant positions to concerned authority as per guideline",null,1]
["1.3.4 Job description","1.3.4","All staffs including HMC staffs are given a job description when they are recruited/ posted to the hospital (permanent and contract staff) ",null,1]
["1.3.5 Review of performance ","1.3.5.1","Performance appraisal (का. स. मु.) of all staffs is done as per guideline",null,1]
["1.3.6 Motivating staff and occupational safety","1.3.6.1","A training plan for the hospital is developed based on the training needs of the staff identified at the performance appraisal",null,1]
[null,"1.3.6.2","For training and related activities, at any point of time, the acceptable work absenteeism is <10% of staff",null,1]
[null,"1.3.6.3","There is activity conducted to motivate staff (staff retreat, rewards, recognition of performances, etc.) at least once a year.",null,1]
[null,"1.3.6.4","Hospital has system for addressing occupational hazard like needle stick injury, radiation exposure, vaccination",null,1]
["1.3.7 Continuous professional development (CPD)/ Continuous medical education (CME)","1.3.7.1","Hospital conducts CPD / CME classes to technical staff weekly   ",null,1]
[null,"1.3.7.2","Written record of attendance, subjects presented and discussed during CPD/CME",null,1]
[null,"1.3.7.3","Separate space with furniture, audio-visual aids and internet for CPD/CME/meeting are available.",null,1]
["1.3.8 Library facility available","1.3.8.1","Hospital has its own library  with sitting arrangement for readers  ",null,1]
[null,"1.3.8.2","A list of national health guidelines and treatment protocols available and inventory managed for readers accessing it",null,1]
[null,"1.3.8.3","Computers with printing and photocopy facility available",null,1]
[null,"1.3.8.6","Access to internet facility with institutional access to at least one of the international health related domain like HINARI",null,1]
["Standard 1.3",null,"Total Score",{"$f":"SUM($D$62:$D$78)","v":0},{"$f":"SUM($E$62:$E$78)","v":19}]
[null,null,"Percentage = Total Obtained Score / 19 x 100",{"$f":"+$D$79/$E$79","v":{"v":0,"d":"0%"}}]
[]
[]
["Area","Code","Verification"]
["Financial management",1.4]
["Components",null,"Standards","Obtained Score","Maximum Score"]
["1.4.1 Account department of hospital","1.4.1.1","Dedicated account department of hospital with space and furniture",null,1]
[null,"1.4.1.2","At least one accountant available for hospital financial management ",null,1]
["1.4.2 Formulation and approval of Annual Hospital Budget","1.4.2.1","An annual hospital budget is developed incorporating the revenue from services, government grants, and support provided by other organizations.",null,1]
[null,"1.4.2.2","Internal income is reviewed during budgeting every year.",null,1]
["1.4.3 Service fees","1.4.3","The service fees of the hospital are fixed by HMC every year.",null,1]
["1.4.4 Daily income","1.4.4","Daily income is deposited in the bank every day.",null,1]
["1.4.5 Financial review and audit","1.4.5.1","Budget absorption rate of last fiscal year is as per national target",null,1]
[null,"1.4.5.2","Internal audit, financial and physical progress review is done at least once each trimester (once in every 4 months).",null,1]
[null," 1.4.5.3","Final audit/ external audited accounts are available for last year.",null,1]
["1.4.6 Electronic database","1.4.6.1","The hospital uses central electronic billing system  ",null,1]
[null,"1.4.6.2","The hospital uses TABUCS/ LMBIS for accounting including local income and expenses by HMC.",null,1]
["1.4.7 Hospital prepares financial reports  ","1.4.7.1","The hospital prepares and keeps monthly financial report.",null,1]
[null,"1.4.7.2","Trimester financial report is produced (every 4 months) and financial status tracked and discussed in meetings",null,1]
[null,"1.4.7.3","Annual financial report is submitted to HMC.",null,1]
["1.4.8 Clearing financial irregularities","1.4.8.1","Financial irregularities are responded within 35 days  ",null,1]
[null,"1.4.8.2","Clearance of financial authorities is done as per national target",null,1]
["1.4.9 Inventory inspection","1.4.9","Inventory inspection is done once in a year and managed accordingly",null,1]
["Standard 1.4",null,"Total Score",{"$f":"SUM($D$86:$D$102)","v":0},{"$f":"SUM($E$86:$E$102)","v":17}]
[null,null,"Percentage = Total Obtained Score / 17 x 100",{"$f":"+$D$103/$E$103","v":{"v":0,"d":"0%"}}]
[]
[]
["Area","Code","Verification"]
["Medical Records and Information Management",1.5]
["Components",null,"Standards","Obtained Score","Maximum Score"]
["1.5.1 Managing medical records and use of electronic database","1.5.1.1","Client registration is digitized using standard software ",null,1]
[null,"1.5.1.2","Referral in and out records are kept using the standard form (HMIS 1.4) and register.",null,1]
[null,"1.5.1.3","Electronic health record system that generates the HMIS monthly report (HMIS 9.4)is in place",null,1]
["1.5.2 Infrastructure and supplies for information management","1.5.2.1","There is a functional Medical Record Section ",null,1]
[null,"1.5.2.2","All patients' records are kept in individual folders in racks or held digitally.",null,1]
[null,"1.5.2.3","There is a set of functional computer and printer available for maintaining medical records.",null,1]
["1.5.3 Evidence generation and utilization","1.5.3.1","Hospital monthly reports (HMIS 9.4) of the last three months are shared to the national database  ",null,1]
[null,"1.5.3.2","Hospital services utilization statistics are analyzed at least every month and shared with all the HODs and in-charge via email, paper and/or dashboard. (Check last three months status)",null,1]
[null,"1.5.3.3","Statistics including OPD morbidity pattern data, IPD data, surveillance data are analyzed and discussed in staff meeting and CPD/CME (Check the status in the last meeting)",null,1]
[null,"1.5.3.4","Key statistics of service utilization is displayed in respective Departments/ Wards ",null,1]
[null,"1.5.3.5","Medico-legal incidents and services are recorded",null,1]
["1.5.4 Focal person for information management  ","1.5.4.1","Medical recorder is trained on ICD and DHIS2",null,1]
[null,"1.5.4.2","An information officer is specified to communicate with patients/clients, their relatives, media and other stakeholders.",null,1]
[null,"1.5.4.3","Contact details of information officer is displayed in hospital premises with photo and phone number.",null,1]
["Standard 1.5",null,"Total Score",{"$f":"SUM($D$110:$D$123)","v":0},{"$f":"SUM($E$110:$E$123)","v":14}]
[null,null,"Percentage = Total Obtained Score / 14x 100",{"$f":"+$D$124/$E$124","v":{"v":0,"d":"0%"}}]
[]
[]
["Area","Code","Verification"]
["Quality Management",1.6]
["Components",null,"Standards","Obtained Score","Maximum Score"]
["1.6.1 Hospital Quality Health Service Delivery and Management Strengthening (QHSDMS) Committee","1.6.1.1","Hospital (QHSDMS) Committee is formed according to MSS Implementation Guideline.",null,1]
[null,"1.6.1.2","Hospital (QHSDMS) Committee meetings are held at least every 4 months",null,1]
["1.6.2 Display of patients’ rights and responsibilities","1.6.2","The hospital has a statement of patient rights and responsibilities, which is posted in public places in the hospital.",null,1]
["1.6.3 Addressing issues in report of social audit","1.6.3","The findings of social audit like client exit interview are shared in whole staff meeting",null,1]
["1.6.4 Assessing hospital quality","1.6.4","The hospital has assessed the hospital quality using the MSS tool at least every 4 months",null,1]
["1.6.5 Planning to improving quality","1.6.5","The hospital has developed specific plans to improve quality based on the MSS assessment.",null,1]
["1.6.6 Hospital uses QI tools","1.6.6","Hospital uses QI tools for assessment of the major priority government programs\n(less than 50%=0, 50-70% =1, 70-85% = 2, 85-100% =3)",null,3]
["1.6.7Implementing QI plan","1.6.7.1","Hospital has implemented the specific activities based on the MSS plan.",null,1]
[null,"1.6.7.2","Hospital has implemented specific activities based on gap analysis of QI tools",null,1]
["1.6.8 Clinical Audit","1.6.8.1","The hospital has functional MPDSR committee (in program district)",null,1]
[null,"1.6.8.2","There are regular reviews, reporting and dissemination of morbidity and mortality (M&M) including"]
[null,"1.6.8.2.1","Investigations and complications of treatment including medication error",null,1]
[null,"1.6.8.2.2","Hospital acquired infections (HAI)",null,1]
[null,"1.6.8.3","Mortality audit of every death in the hospital is done and reported",null,1]
[null,"1.6.8.4","Hospital implements Robson’s classification (hospitals with CEONC services) ",null,1]
[null,"1.6.8.5","Hospital implements baby friendly initiative",null,1]
["Standard 1.6",null,"Total Obtained Score",{"$f":"SUM($D$131:$D$146)","v":0},{"$f":"SUM($E$131:$E$146)","v":17}]
[null,null,"Percentage = Total Obtained Score/17 x 100",{"$f":"+$D$147/$E$147","v":{"v":0,"d":"0%"}}]
[]
[]
["Area","Code","Verification"]
["OPD Service [1]",2.1]
["Standards",null,"Standards","Obtained Score","Maximum Score"]
["2.1.1 Time for patients","2.1.1.1","OPD is open from 10 AM to 3 PM (See Checklist 2.1 At the end of this standard for scoring).",{"$f":"+'Checklist 2.1'!$K$4","v":0},3]
[null,"2.1.1.2","Tickets for routine OPD are available till 2 pm",null,1]
[null,"2.1.1.3","EHS services from 3PM onwards and tickets available from 2PM onwards",null,1]
["2.1.2 Adequate Staffing","2.1.2.1","Doctor: OPD Patients- 1:35-50 per day for quality of care",null,1]
[null,"2.1.2.2","One screening counter with 1 paramedics",null,1]
["2.1.3 Maintaining patient privacy","2.1.3","Patient privacy maintained with separate rooms, curtains hung, maintaining queuing of patients with paging system in OPD (See Checklist 2.1 At the end of this standard for scoring).",{"$f":"'Checklist 2.1'!$K$5","v":0},3]
["2.1.4 Patient counseling","2.1.4.1","Counseling is provided to patients about the type of treatment being given and its consequences (See Checklist 2.1 At the end of this standard for scoring).",{"$f":"+'Checklist 2.1'!$K$6","v":0},3]
[null," 2.1.4.2","Appropriate IEC materials (posters, leaflets etc.) as an IEC corner available in the OPD waiting area.",null,1]
["2.1.5 Physical facilities","2.1.5.1","Adequate rooms and space for the practitioners and patients are available (See Checklist 2.1 At the end of this standard for scoring).",{"$f":"+'Checklist 2.1'!$K$7","v":0},3]
[null,"2.1.5.2","Light and ventilation are adequately maintained. (See Checklist 2.1 At the end of this standard for scoring)",{"$f":"+'Checklist 2.1'!$K$8","v":0},3]
[null,"2.1.5.3","Required furniture, supplies and space are available"]
[null,"2.1.5.3.1","General Medicine OPD (See Annex 2.1a Furniture and supplies for OPD At the end of this standard)",{"$f":"+'Annex 2.1a- 2.14a'!$D$22","v":0},3]
[null,"2.1.5.3.2","Obstetrics and Gynecology OPD (See Annex 2.1a Furniture and supplies for OPD At the end of this standard)",{"$f":"+'Annex 2.1a- 2.14a'!$D$23","v":0},3]
[null,"2.1.5.3.3","Pediatrics OPD (See Annex 2.1a Furniture and supplies for OPD At the end of this standard)",{"$f":"+'Annex 2.1a- 2.14a'!$D$24","v":0},3]
[null,"2.1.5.3.4","General surgery OPD (See Annex 2.1a Furniture and supplies for OPD At the end of this standard)",{"$f":"+'Annex 2.1a- 2.14a'!$D$25","v":0},3]
[null,"2.1.5.3.5","Orthopedics OPD (See Annex 2.1a Furniture and supplies for OPD At the end of this standard)",{"$f":"+'Annex 2.1a- 2.14a'!$D$26","v":0},3]
["2.1.6 Equipment, instrument and supplies ","2.1.6","Equipment, instrument and supplies to carry out the OPD works are available and functioning"]
[null,"2.1.6.1","General OPD (See Annex 2.1b Basic Equipment and Instrument for OPD At the end of this standard)",{"$f":"+'Annex 2.1a- 2.14a'!$D$65","v":0},3]
[null,"2.1.6.2","Obstetrics and Gynecology OPD (See Annex 2.1b Basic Equipment and Instrument for OPD At the end of this standard)",{"$f":"+'Annex 2.1a- 2.14a'!$D$66","v":0},3]
[null,"2.1.6.3","Pediatrics OPD (See Annex 2.1b Basic Equipment and Instrument for OPD At the end of this standard)",{"$f":"+'Annex 2.1a- 2.14a'!$D$67","v":0},3]
[null,"2.1.6.4","General surgery OPD(See Annex 2.1b Basic Equipment and Instrument for OPD At the end of this standard)",{"$f":"+'Annex 2.1a- 2.14a'!$D$68","v":0},3]
[null,"2.1.6.5","Orthopedics OPD (See Annex 2.1b Basic Equipment and Instrument for OPD At the end of this standard)",{"$f":"+'Annex 2.1a- 2.14a'!$D$69","v":0},3]
["2.1.7 Duty rosters","2.1.7","Duty rosters of all OPDs are developed regularly and available in appropriate location.",null,1]
["2.1.8 Facilities for patients ","2.1.8.1","Availability of waiting space  with sitting arrangement is available for at least 150 persons in waiting lobby (for total OPDs)",null,1]
[null,"2.1.8.2","Safe drinking water is available in the waiting lobby throughout the day.",null,1]
[null,"2.1.8.3","There are at least four toilets with hand‑washing facilities (2 for males and 2 for females separate, one each universal toilet)",null,1]
[null,"2.1.8.4","Hand‑washing facilities are available for patients",null,1]
["2.1.9 Recording and reporting","2.1.9","OPD register available in every OPD with ICD 10 classification for diagnosis recorded (electronic health recording system) (See checklist 2.1 At the end of this standard for scoring)",{"$f":"+'Checklist 2.1'!$K$9","v":0},3]
["2.1.10 Infection prevention ","2.1.10.1","Masks and gloves are available and used (See Checklist 2.1 At the end of this standard for scoring)",{"$f":"+'Checklist 2.1'!$K$10","v":0},3]
[null,"2.1.10.2","There are well labelled colored bins for waste segregation and disposal as per HCWM guideline 2014 (MoHP) (See Checklist 2.1 At the end of this standard for scoring)",{"$f":"+'Checklist 2.1'!$K$11","v":0},3]
[null,"2.1.10.3","Hand‑washing facility with running water and soap or hand sanitizer is available for practitioners (See Checklist 2.1 At the end of this standard for scoring)",{"$f":"+'Checklist 2.1'!$K$12","v":0},3]
[null,"2.1.10.4","Needle cutter is used (See Checklist 2.1 At the end of this standard for scoring)",{"$f":"+'Checklist 2.1'!$K$13","v":0},3]
[null,"2.1.10.5","Chlorine solution is available and utilized for decontamination (See Checklist 2.1 At the end of this standard for scoring). ",{"$f":"+'Checklist 2.1'!$K$14","v":0},3]
["Standard 2.1",null,"Total Obtained Score",{"$f":"SUM($D$154:$D$186)","v":0},{"$f":"SUM($E$154:$E$186)","v":73}]
[null,null,"Total Percentage (Total Obtained Score/ 73 x100)",{"$f":"+$D$187/$E$187","v":{"v":0,"d":"0%"}}]
[]
[]
["Area","Code","Verification"]
["Special Clinics",2.2]
["Immunization and Growth Monitoring Clinic","2.2.1"]
["Components",null,"Standards","Obtained Score","Maximum Score"]
["2.2.1.1 Time for patients","2.2.1.1","Immunization and growth monitoring service is available from 10 AM to 3 PM.",null,1]
["2.2.1.2 Staffing","2.2.1.2","Adequate numbers of healthcare workers are available (at least 2 mid-level health workers are assigned)",null,1]
["2.2.1.3 Maintaining patient privacy","2.2.1.3","Appropriate techniques have been used to ensure the patient privacy (separate rooms, curtains hung, maintaining queuing of patients).",null,1]
["2.2.1.4 Patient counseling","2.2.1.4.1","Counseling is provided to caretaker about the type of vaccine, its schedule, nutritional status of child.",null,1]
["2.2.1.5 Instrument, equipment and supplies available","2.2.1.4.2","Appropriate IEC/BCC materials on vaccine, schedule and child growth and nutrition are available in clinic",null,1]
[null,"2.2.1.5","Immunization and growth monitoring instrument, equipment and supplies are available (See Annex 2.2.1a Immunization and growth monitoring At the end of this standard)",{"$f":"+'Annex 2.1a- 2.14a'!$E$91","v":0},3]
["2.2.1.6 Physical facilities","2.2.1.6.1","Adequate rooms and space for health worker and patients are available with at least one working table, chair for health worker and two patients’ chair",null,1]
[null,"2.2.1.6.2","Light and ventilation are adequately maintained.",null,1]
["2.2.1.7 Recording and reporting","2.2.1.7.1","Patient’s card (Health card, growth chart) and register available and services recorded",null,1]
[null,"2.2.1.7.2","An adverse event following immunization, complication, severe under-nutrition and referral to other sites recorded and reported",null,1]
["2.2.1.8 Infection prevention ","2.2.1.8.1","Masks and gloves are available and used",null,1]
[null,"2.2.1.8.2","There are well labelled colored bins for waste segregation and disposal as per HCWM guideline 2014 (MoHP)",null,1]
[null,"2.2.1.8.3","Hand‑washing facility with running water and soap is available for practitioners.",null,1]
[null,"2.2.1.8.4","Needle cutter is used.",null,1]
[null,"2.2.1.8.5","Chlorine solution is available and utilized. ",null,1]
["Standard 2.2.1",null,"Total Score",{"$f":"SUM($D$195:$D$209)","v":0},{"$f":"SUM($E$195:$E$209)","v":17}]
[null,null,"Total Percentage (Total Score/ 17 x100)",{"$f":"+$D$210/$E$210","v":{"v":0,"d":"0%"}}]
[]
[]
["Area","Code","Verification"]
["Special Clinics",2.2]
["Family planning Clinic","2.2.2"]
["Components",null,"Standards","Obtained Score","Maximum Score"]
["2.2.2.1 Time for patients","2.2.2.1","Family planning service is available from 10 AM to 3 PM.",null,1]
["2.2.2.2 Space","2.2.2.2","A separate area dedicated for FP counseling and services ",null,1]
["2.2.2.3 Staffing","2.2.2.3","Adequate numbers of healthcare workers are available (at least 2 mid-level health workers are assigned)",null,1]
["2.2.2.4 Maintaining patient privacy","2.2.2.4","Appropriate techniques have been used to ensure the patient privacy (separate rooms, curtains hung, maintaining queuing of patients).",null,1]
["2.2.2.5 Patient counseling","2.2.2.5.1","Counseling is provided to users for family planning methods",null,1]
[null,"2.2.2.5.2","Appropriate IEC/BCC materials on family planning including DMT tool used for counseling",null,1]
["2.2.2.6 Supplies available","2.2.2.6","Supplies for Family Planning Services available (See Annex 2.2.2a Supplies for FP services At the end of this standard)",{"$f":"+'Annex 2.1a- 2.14a'!$E$113","v":0},3]
["2.2.2.7 Equipment and supplies available","2.2.2.7","Functional BP set, stethoscope, thermometer, and weighing scale available",null,1]
["2.2.2.8 Physical facilities","2.2.2.8.1","Adequate rooms and space for health worker and patients are available with at least one working table, chair for health worker and two patients’ chair and one examination bed",null,1]
[null,"2.2.2.8.2","Light and ventilation are adequately maintained.",null,1]
["2.2.2.9 Recording and reporting","2.2.2.9.1","Patient’s health card and register available and services recorded",null,1]
[null,"2.2.2.9.2","FP related complication, defaulter and contraceptive failure are recorded and reported",null,1]
["2.2.2.10 Infection prevention ","2.2.2.10.1","Masks and gloves are available and used",null,1]
[null,"2.2.2.10.2","There are well labelled colored bins for waste segregation and disposal as per HCWM guideline 2014 (MoHP)",null,1]
[null,"2.2.2.10.3","Hand‑washing facility with running water and soap is available for practitioners.",null,1]
[null,"2.2.2.10.4","Needle cutter is used.",null,1]
[null,"2.2.2.10.5","Chlorine solution is available and utilized. ",null,1]
["Standard 2.2.2",null,"Total Obtained Score",{"$f":"SUM($D$218:$D$234)","v":0},{"$f":"SUM($E$218:$E$234)","v":19}]
[null,null,"Total Percentage (Total Obtained Score/ 19 x100)",{"$f":"+$D$235/$E$235","v":{"v":0,"d":"0%"}}]
[]
[]
["Area","Code","Verification"]
["ATT, ART clinic ","2.2.3"]
["Components",null,"Standards","Obtained Score","Maximum Score"]
["2.2.3.1 Time for patients","2.2.3.1","Clinic is open from 10 AM to 3 PM.",null,1]
["2.2.3.2 Staffing","2.2.3.2","Adequate numbers of healthcare workers are available in OPD (at least 2 mid-level health workers are assigned)",null,1]
["2.2.3.3 Maintaining patient privacy","2.2.3.3","Appropriate techniques have been used to ensure the patient privacy (separate rooms, curtains hung, maintaining queuing of patients).",null,1]
["2.2.3.4 Patient counseling","2.2.3.4.1","Counseling is provided to patients about the type of treatment being given and its consequences.",null,1]
["2.2.3.5 Medicine available","2.2.3.4.2","Appropriate IEC/BCC materials on TB, HIV/AIDS (posters, leaflets) are available in the OPD waiting area.",null,1]
[null,"2.2.3.5","Medicines for TB, HIV/AIDS as per government treatment protocol available in OPD",null,1]
["2.2.3.6 Equipment and supplies available","2.2.3.6","OPD has functional BP set, stethoscope, thermometer and weighing scale",null,1]
["2.2.3.7 Physical facilities","2.2.3.7.1","Adequate rooms and space for health worker and patients are available with at least one working table, chair for health worker and two patients’ chair",null,1]
[null,"2.2.3.7.2","Light and ventilation are adequately maintained.",null,1]
["2.2.3.8 Facilities for patients","2.2.3.8.1","Safe drinking water with mug or glass is available for taking medicine",null,1]
[null,"2.2.3.8.2","Hand‑washing facilities are available for patients.",null,1]
["2.2.3.9 Recording and reporting","2.2.3.9.1","Patient’s card (TB, ART) and register available and services recorded",null,1]
[null,"2.2.3.9.2","Drug resistance, complication and referral to other sites recorded and reported",null,1]
["2.2.3.10 Infection prevention ","2.2.3.10.1","Masks and gloves are available and used",null,1]
[null,"2.2.3.10.2","There are well labelled colored bins for waste segregation and disposal as per HCWM guideline 2014 (MoHP)",null,1]
[null,"2.2.3.10.3","Hand‑washing facility with running water and soap is available for practitioners.",null,1]
[null,"2.2.3.10.4","Needle cutter is used",null,1]
[null,"2.2.3.10.5","Chlorine solution is available and utilized. ",null,1]
["Standard 2.2.3",null,"Total Obtained Score",{"$f":"SUM($D$242:$D$259)","v":0},{"$f":"SUM($E$242:$E$259)","v":18}]
[null,null,"Total Percentage (Total Obtained Score/ 18 x100)",{"$f":"+$D$260/$E$260","v":{"v":0,"d":"0%"}}]
[]
[]
["Area","Code","Verification"]
["Special Clinics",2.2]
["Safe Abortion Services","2.2.4"]
["Components",null,"Standards","Obtained Score","Maximum Score"]
["2.2.4.1 Time for patients","2.2.4.1","Safe abortion services is available from 10 AM to 3 PM.",null,1]
["2.2.4.2 Space","2.2.4.2","A separate area dedicated for Safe Abortion counseling and services, area is washable and has separate instrument processing space for decontamination",null,1]
["2.2.4.3 Staffing","2.2.4.3.1","At least one medical officer or gynecologist trained and certified in first trimester SAS is available",null,1]
[null,"2.2.4.3.2","For surgical abortion, at least one medical officer or gynecologist or MDGP trained and certified in second trimester SAS is available",null,1]
["2.2.4.4 Maintaining patient privacy","2.2.4.4","Appropriate techniques have been used to ensure the patient privacy (separate rooms, curtains hung, maintaining queuing of patients).",null,1]
["2.2.4.5 Patient counseling","2.2.4.5.1","Counseling is provided to users on Safe Abortion Services, complication and family planning post abortion along with clear discharge instructions",null,1]
[null,"2.2.4.5.2","Appropriate IEC/BCC materials on safe abortion services and post abortion family planning services –Medical Abortion Chart, CAC counseling flip chart, second trimester counseling flipchart, DMT Tools used for counseling",null,1]
["2.2.4.6 WHO Safe Surgery Checklist available ","2.2.4.6","WHO safe surgery checklist is available and used for safe abortion services including written informed consent",null,1]
["2.2.4.7 Instruments, equipments and Supplies available","2.2.4.7.1","Instruments, equipments and supplies for Safe Abortion Services available (See Annex 2.2.2a Instruments, equipments and supplies for Safe Abortion services At the end of this standard)",{"$f":"+'Annex 2.1a- 2.14a'!$E$169","v":0},3]
[null,"2.2.4.7.2","Functional BP set, stethoscope, thermometer, and weighing scale available",null,1]
["2.2.4.8Physical facilities","2.2.4.8.1","Adequate rooms and space for health worker and patients are available with at least one working table, chair for health worker and two patients’ chair, one examination bed, one procedure table and one foot step ",null,1]
[null,"2.2.4.8.2","Light and ventilation are adequately maintained.",null,1]
["2.2.4.9 Recording, reporting and histological examination","2.2.4.9.1","Patient’s health card and register available and services recorded along with complications if any",null,1]
[null,"2.2.4.9.2"," Product of conception is sent for histopathlogical examination and reports followed up",null,1]
["2.2.4.10 Infection prevention ","2.2.4.10.1","Utility Gloves, Gumboot, Mask, Plastic Apron, Caps are available and used",null,1]
[null,"2.2.4.10.2","There are well labelled colored bins for waste segregation and disposal as per HCWM guideline 2014 (MoHP)",null,1]
[null,"2.2.4.10.3","Hand‑washing facility with running water and soap is available for practitioners.",null,1]
[null,"2.2.4.10.4","Needle cutter is used.",null,1]
[null,"2.2.4.10.5","Chlorine solution is available and utilized. ",null,1]
["Standard 2.2.4",null,"Total Obtained Score",{"$f":"SUM($D$268:$D$286)","v":0},{"$f":"SUM($E$268:$E$286)","v":21}]
[null,null,"Total Percentage (Total Obtained Score/ 21 x100)",{"$f":"+$D$287/$E$287","v":{"v":0,"d":"0%"}}]
[]
[]
["Area","Code","Verification"]
["Emergency Service",2.3]
["Components",null,"Standards","Obtained score","Maximum score"]
["2.3.1 Time for patients","2.3.1","Emergency room/ward is open 24 hours ",null,1]
["2.3.2 Staffing (per shift in ER)","2.3.2.1","For 5-10 ER beds (Doctor: Nurse: Paramedics: Office Assistant = 1:1:1:1)",null,1]
[null,"2.3.2.2","The doctor, nurse and paramedics are trained in PTC, ETM, BLS and ACLS [1]training",null,1]
["2.3.3 Physical facilities","2.3.3.1","10% of the total hospital beds are allocated for ER of which 1% for red, 2% for yellow, 3% for green and 1 % for black color coded ",null,1]
[null,"2.3.3.2","Adequate furniture and supplies (See Annex 2.3a Furniture and General Supplies for ER At the end of this standard)",{"$f":"+'Annex 2.1a- 2.14a'!$E$203","v":0},3]
[null,"2.3.3.3","Light and ventilation are adequately maintained.",null,1]
[null,"2.3.3.4","Designated area for nursing station centrally placed in ER and all beds visible from nursing station",null,1]
[null,"2.3.3.5","Space allocated for duty room and changing room separate for male and female staffs with facilities of tea room ",null,1]
[null,"2.3.3.6","Separate toilets for staffs at least one each-male, female and universal ",null,1]
[null,"2.3.3.7","Separate land line/ mobile phone for emergency  ",null,1]
["2.3.4 Instruments/ equipment","2.3.4","Instruments and equipment to carry out the ER works are available and functioning (See Annex 2.3b ER Instruments and Equipment At the end of this standard)",{"$f":"+'Annex 2.1a- 2.14a'!$D$255","v":0},3]
["2.3.5 Medicines and supplies","2.3.5.1","Medicines and supplies to carry out the ER works are available (See Annex 2.3c Medicines and Supplies for ER At the end of this standard)",{"$f":"+'Annex 2.1a- 2.14a'!$D$307","v":0},3]
[null,"2.3.5.2","Emergency stock of medicines and supplies for mass casualty management",null,1]
["2.3.6 Triage","2.3.6.1","Hospital maintains a triage system in the ER with 24 hours triage service ",null,1]
[null,"2.3.6.2","Triage category board and information to the public (Red, Yellow, Green Board) (descriptive flex)",null,1]
["2.3.7 Emergency protocol in place","2.3.7.1","In red area one of the bed is Resuscitation bed with availability of emergency crash trolley with emergency lifesaving drugs, cardiac monitor, non-invasive ventilator, oxygen concentrator   ",null,1]
[null,"2.3.7.2","Development of 001 or Blue code call system whenever any patient visited in Emergency collapses and need immediate and urgent emergency care",null,1]
[null,"2.3.7.3"," Emergency disposition of the patient either in observation ward or definite care ward or referral or discharge within 3-6 hours",null,1]
[null,"2.3.7.4","Critical patient transfer from emergency to OT or Inter-hospital transfer is accompanied at least by paramedics or Nurse for handover of patient   ",null,1]
["2.3.8 Maintaining patient privacy","2.3.8","Appropriate methods have been used to ensure patient privacy (separate rooms, curtains hung)",null,1]
["2.3.9 Security","2.3.9","The hospital has maintained security system for ER for 24 hours with CCTV coverage",null,1]
["2.3.10 Mass casualty/ disaster preparedness","2.3.10.1","The hospital has mass casualty management protocol, and all staffs are updated with well labelled direction, prepositioning clipboards",null,1]
[null,"2.3.10.2","Disaster area identified with adequate furniture to carry out Triage in case of disaster",null,1]
[null,"2.3.10.3","Hospital carried out at least one mock preparedness once a year ",null,1]
[null,"2.3.10.4","There must be disaster store in ER with required medicines, supplies and equipment (See Annex 2.3d List of medicine, supplies and equipment for Disaster Store At the end of this standard)",{"$f":"+'Annex 2.1a- 2.14a'!$E$394","v":0},3]
["2.3.11 Duty rosters","2.3.11","Duty rosters of the ER are developed regularly and available in appropriate location",null,1]
["2.3.12 Maintaining inventory","2.3.12","Separate inventories for emergency lifesaving drugs/equipment and narcotics are maintained",null,1]
["2.3.13 Securing narcotic drugs","2.3.13","Narcotic drugs are kept separately and securely with mandatory recording system",null,1]
["2.3.14 Facilities for patients ","2.3.14.1","Safe drinking water is available 24 hours",null,1]
[null,"2.3.14.2","Hand‑washing facility with running water and liquid soap",null,1]
[null,"2.3.14.3","There are at least 3 toilets with hand‑washing facilities (1 for males, 1 for females, and 1 universal) for every 10 ER beds and for additional beds increase proportionately for male and female ",null,1]
["2.3.15 Decontamination area","2.3.15","Decontamination area specified and practiced",null,1]
["2.3.16 Infection prevention ","2.3.16.1","Staff wear mask and gloves at work",null,1]
[null,"2.3.16.2","There are clearly labelled colored bins for waste segregation and disposal as per HCWM Guideline 2014 (MoHP)",null,1]
[null,"2.3.16.3","Needle cutter is used",null,1]
[null,"2.3.16.4","Chlorine solution is available and utilized for decontamination",null,1]
["Standard 2.3",null,"Total Obtained Score",{"$f":"SUM($D$294:$D$329)","v":0},{"$f":"SUM($E$294:$E$329)","v":44}]
[null,null,"Total Percentage (Total Obtained Score/ 46 x100)",{"$f":"+$D$330/$E$330","v":{"v":0,"d":"0%"}}]
[]
[]
["Area","Code ","Verification"]
["Dressing and injections, Routine procedures (DIRP)",2.4]
["Components",null,"Standards","Obtained Score","Maximum Score"]
["2.4.1 Working space","2.4.1","A separate room for dresesing and injection service is available",null,1]
["2.4.2 Furniture & general supplies","2.4.2","Adequate furniture and general supplies are available (See Annex 2.4a Furniture and General Supplies for ER Minor OT At the end of this standard).",{"$f":"+'Annex 2.1a- 2.14a'!$E$416","v":0},3]
["2.4.3 Services available","2.4.3","Minimum dressing services and routine procedures are available (See Annex 2.4b List of Minimum Services from ER Minor OT At the end of this standard).",{"$f":"+'Annex 2.1a- 2.14a'!$E$438","v":0},3]
["2.4.4Disposable supplies","2.4.4","Medicines and supplies needed for surgical procedures available (See Annex 2.4c Medicine and Supplies for Minor OT At the end of this standard).",{"$f":"+'Annex 2.1a- 2.14a'!$E$465","v":0},3]
["2.4.5Sterile supplies","2.4.5.1","Sterile supply for Minor OT are available (See Annex 2.4d Sterile Supplies for Minor OT At the end of this standard).",{"$f":"+'Annex 2.1a- 2.14a'!$E$489","v":0},3]
[null,"2.4.5.2","Separate containers for sterile gauze and cotton balls are available.",null,1]
["2.4.6 Infection prevention and waste disposal","2.4.6.1","Mask, gloves, plastic apron, boots and goggles are available and used whenever required.",null,1]
[null,"2.4.6.2","At least three color coded waste bins as per HCWM guideline are available and used",null,1]
[null,"2.4.6.3","Supplies trolley with needle cutter is available and used",null,1]
[null,"2.4.6.4","Hand‑washing facility with running water and soap ",null,1]
[null,"2.4.6.5","Chlorine solution is available and utilized for decontamination",null,1]
["2.4.7Documentation","2.4.7","Proper records of all procedures are kept and reported.",null,1]
["Standard 2.4",null,"Total Obtained Score",{"$f":"SUM($D$337:$D$348)","v":0},{"$f":"SUM($E$337:$E$348)","v":20}]
[null,null,"Total Percentage (Total Obtained Score/ 27 x100)",{"$f":"+$D$349/$E$349","v":{"v":0,"d":"0%"}}]
[]
[]
["Area","Code","Verification"]
["Hospital Pharmacy Service",2.5]
["Components",null," Standards","Obtained Score","Maximum Score"]
["2.5.1 Pharmacy unit available","2.5.1","Hospital has designated pharmacy department",null,1]
["2.5.2 Governance committee for hospital pharmacy services","2.5.2.","Governance committee for hospital are formed based on hospital pharmacy-service guideline:"]
[null,"2.5.2.1","Drug and Therapeutic committee (DTC)",null,1]
[null,"2.5.2.2","Hospital pharmacy operation committee",null,1]
["2.5.3 Hospital formulary \nHeading: Availability of medicines and supplies","2.5.3.1","Hospital has prepared formulary list based on Nepalese National Formulary (NNF) approved by DTC  ",null,1]
[null,"2.5.3.2","Hospital formulary includes all medicines and supplies as per services provided by hospital",null,1]
[null,"2.5.3.3","Hospital has all ,medicines and supplies available as per approved hospital formulary list",null,1]
["2.5.4 Good procurement practice ","2.5.4.1","Annual procurement plan for medicines and supplies for pharmacy services is available",null,1]
[null,"2.5.4.2","Procurement is done based on public procurement guideline",null,1]
[null,"2.5.4.3","Product specification for each medicine and related supplies of approved formulary list is available",null,1]
[null,"2.5.4.4","Technical criteria on quality assurance of procured medicines is included in standard bidding document",null,1]
[null,"2.5.4.5","Certificate of analysis (CoA) from manufacturer of each batch of procured medicine is available",null,1]
[null,"2.5.4.6","Selling price of the drugs does not exceed 20% of the procurement price",null,1]
["2.5.5 Pharmacy service hours","2.5.5","The pharmacy is open 24x7",null,1]
["2.5.6 Staffing as per hospital pharmacy service guideline 2072","2.5.6.1"," Pharmacy department is led by at least one clinical pharmacist",null,1]
[null,"2.5.6.2","Pharmacy has at least 3 pharmacist, 6 assistant pharmacist and 2 office assistants",null,1]
[null,"2.5.6.3","Duty roster of pharmacy to cover 24 hours service is prepared and visibly placed",null,1]
["2.5.7 Display of list of free medicines","2.5.7","The list of free medicines is displayed in a clearly visible place.",null,1]
["2.5.8 Availability of medicines for specific programs","2.5.8","All of the required medicines and supplies for specific programs are available in pharmacy (less than 50%= 0; 50-70 =1, 70-85=2 85-100= 3)",null,3]
["2.5.9 Inpatient pharmacy services available","2.5.9","Hospital pharmacy directly supplies  inpatient medicine and supplies to wards and OT",null,1]
["2.5.10 Electronic record keeping","2.5.10","Pharmacy uses computer with software for inventory management and medicine use",null,1]
["2.5.11 Pharmacy stock available","2.5.11","Number of items of hospital formulary stocked in pharmacy(less than 50%= 0; 50-70 =1, 70-85=2 85-100= 3)",null,3]
["2.5.12 Display and storage of medicines","2.5.12.1","All the medicines and supplies are displayed in clean racks following either alphabetical orders and generic names or grouping as use",null,1]
[null,"2.5.12.2","Temperature of pharmacy is monitored and recorded and is maintained in range of (25+/-2°C)",null,1]
[null,"2.5.12.3","Functional freeze +/-4°C for thermolabile medicine",null,1]
["2.5.13 Information to patients","2.5.13.1","Pharmacy department has its allocated separate information and counseling unit with reference books or e-books",null,1]
[null,"2.5.13.2","Information regarding the medicines is provided to the patients.",null,1]
[null,"2.5.13.3","IEC materials (posters, leaflets, national hospital formulary) about the appropriate use for medicines are available in the pharmacy area.",null,1]
["2.5.14 Generic prescription","2.5.14","Hospital has pre-printed list of medicines for  generic prescription  available",null,1]
["2.5.15 Dispensing medicines","2.5.15.1"," Medicine is dispensed using electronic billing with barcode system",null,1]
[null,"2.5.15.2","Each medicine is given with written instructions on how to take ",null,1]
["2.5.16  First In First Out (FIFO)","2.5.16","FIFO system is maintained using standard stock book/cards.",null,1]
["2.5.17 Pharmacy Inventory","2.5.17","Every month, all medicines and supplies are counted, out- of-date discarded, and tallied with the medical store.",null,1]
["2.5.18 Drug utilization review and quantification of data","2.5.18.1","Pharmacy department operates pharmacovigilance  activities and adverse drug reaction (ADR) Reporting",null,1]
[null,"2.5.18.2","Pharmacy department conducts studies on drug utilization and quantification ",null,1]
["2.5.19 Pharmaceutical waste disposal","2.5.19","Pharmaceutical waste (expired or unused pharmaceutical products, spilled contaminated pharmaceutical products surplus drugs, vaccines or sera, etc) management is done based on HCWM guideline 2014 (MoHP) or returned to the supplier on time",null,1]
["Standard 2.5",null,"Total Obtained Score",{"$f":"SUM($D$356:$D$391)","v":0},{"$f":"SUM($E$356:$E$391)","v":39}]
[null,null,"Total Percentage (Total Obtained Score/39 x100)",{"$f":"+$D$392/$E$392","v":{"v":0,"d":"0%"}}]
[]
[]
["Area","Code","Verification"]
["Inpatient Service[1]",2.6]
["Components",null,"Standards","Obtained Score","Maximum Score"]
["2.6.1 Space for work","2.6.1.1","Separate space for nursing station is available in each ward (See Checklist 2.6 At the end of this standard for scoring)",{"$f":"+'Checklist 2.6'!$I$4","v":0},3]
[null," 2.6.1.2","Separate changing room available for male and female staffs (See Checklist 2.6 At the end of this standard for scoring)",{"$f":"+'Checklist 2.6'!$I$5","v":0},3]
[null,"2.6.1.3","Separate store room is available (See Checklist 2.6 At the end of this standard for scoring)",{"$f":"+'Checklist 2.6'!$I$6","v":0},3]
["2.6.2 Furniture and supplies available and functioning","2.6.2","Furniture and supplies to carry out the inpatient services are available and functioning "]
[null,"2.6.2.1","Medicine Ward (See Annex 2.6a Furniture and supplies for inpatient wards At the end of this standard)",{"$f":"+'Annex 2.1a- 2.14a'!$E$534","v":0},3]
[null,"2.6.2.2","Surgery Ward(See Annex 2.6a Furniture and supplies for inpatient wards At the end of this standard)",{"$f":"+'Annex 2.1a- 2.14a'!$E$535","v":0},3]
[null,"2.6.2.3.1","Pediatrics Ward (See Annex 2.6a Furniture and supplies for inpatient wards At the end of this standard)",{"$f":"+'Annex 2.1a- 2.14a'!$E$536","v":0},3]
[null,"2.6.2.3.2","Separate area dedicated for play room with play materials for different pediatric age groups",null,1]
["2.6.3 Medicine and supplies available ","2.6.3","Medicine and supplies to carry out the inpatient services are available in  wards"]
[null,"2.6.3.1","Medicine Ward (See Annex 2.6b medicine and supplies for inpatient wards At the end of this standard)",{"$f":"+'Annex 2.1a- 2.14a'!$E$563","v":0},3]
[null,"2.6.3.2","Surgery Ward (See Annex 2.6b medicine and supplies for inpatient wards At the end of this standard)",{"$f":"+'Annex 2.1a- 2.14a'!$E$564","v":0},3]
[null,"2.6.3.3","Pediatrics Ward (See Annex 2.6b medicine and supplies for inpatient wards At the end of this standard)",{"$f":"+'Annex 2.1a- 2.14a'!$E$565","v":0},3]
["2.6.4 Nursing station","2.6.4","There is a set of at least one table and two chairs in the nursing station and shelves for storage of charts and inpatient forms and formats (See Checklist 2.6 At the end of this standard for scoring)",{"$f":"+'Checklist 2.6'!$I$7","v":0},3]
["2.6.5 Nursing staff and support for inpatient service"," 2.6.5","Adequate numbers of nursing staff are available in ward per shift (nurse patient ratio 1:6 in general ward, 1:4 in pediatric ward, 1:2 in high dependency or intermediate ward or post-operative ward or burn/plastic) and at least one trained office assistant/ward attendant per shift in each ward (See Checklist 2.6 At the end of this standard for scoring)",{"$f":"+'Checklist 2.6'!$I$8","v":0},3]
["2.6.6 Duty rosters","2.6.6","Duty roster of doctors, nurses, paramedics and support staffs kept visibly in nursing station (See Checklist 2.6 At the end of this standard for scoring)",{"$f":"+'Checklist 2.6'!$I$9","v":0},3]
["2.6.7 Communication","2.6.7","Telephone facility is available with list of important contact numbers and hospital codes visibly kept (See Checklist 2.6 At the end of this standard for scoring)",{"$f":"+'Checklist 2.6'!$I$10","v":0},3]
["2.6.8 Emergency management of inpatients","2.6.8.1","All staffs in wards are trained for BLS and oriented about emergency code 001 or blue code (See Checklist 2.6 At the end of this standard for scoring)",{"$f":"+'Checklist 2.6'!$I$11","v":0},3]
[null,"2.6.8.2","At least one emergency trolley with emergency medicine available in ward "]
[null,"2.6.8.2.1","Medicine Ward (See Annex 2.6c Emergency Trolley for Inpatient At the end of this standard)",{"$f":"'Annex 2.1a- 2.14a'!$E$612","v":0},3]
[null,"2.6.8.2.2","Surgery Ward (See Annex 2.6c Emergency Trolley for Inpatient At the end of this standard)",{"$f":"'Annex 2.1a- 2.14a'!$E$613","v":0},3]
[null,"2.6.8.2.3","Pediatrics Ward (See Annex 2.6c Emergency Trolley for Inpatient At the end of this standard)",{"$f":"'Annex 2.1a- 2.14a'!$E$614","v":0},3]
[null,"2.6.8.3","At least one defibrillator in immediate accessible area (See Checklist 2.6 At the end of this standard for scoring)",{"$f":"+'Checklist 2.6'!$I$12","v":0},3]
["2.6.9 Safe Abortion Service (SAS) available","2.6.9","Safe abortion service (SAS) is available as per National SAS Implementation Guideline",null,1]
["2.6.10 Physical facilities for patient ","2.6.10.1","Separate area designated for admission of male and female inpatients in wards (See Checklist 2.6 At the end of this standard for scoring)",{"$f":"+'Checklist 2.6'!$I$13","v":0},3]
[null,"2.6.10.2","There are adequate separate toilets for male and female patients in each ward (1 for 6 female bed and 1 for 8 male beds) and also adequate wash basins/sinks for the patients. (See Checklist 2.6 At the end of this standard for scoring)",{"$f":"+'Checklist 2.6'!$I$14","v":0},3]
[null,"2.6.10.3","Safe drinking water is available 24 hours for inpatients(See Checklist 2.6 At the end of this standard for scoring)",{"$f":"+'Checklist 2.6'!$I$15","v":0},3]
[null,"2.6.10.4","Hours/ Time allocated for visitors to meet the inpatients and controlled traffic to prevent cross infection (See Checklist 2.6 At the end of this standard for scoring)",{"$f":"+'Checklist 2.6'!$I$16","v":0},3]
[null,"2.6.10.5","Separate space is available for patients’ visitors (KuruwaGhar).",null,1]
["2.6.11 Communication"," 2.6.11","Basic information regarding admitted patients is displayed in a separate board  (See Checklist 2.6 At the end of this standard for scoring)",{"$f":"+'Checklist 2.6'!$I$18","v":0},3]
["2.6.12 IEC/BCC Materials","2.6.12","Appropriate IEC/BCC materials (posters, leaflets etc.) are available in the inpatient ward with focus on infection prevention (See Checklist 2.6 At the end of this standard for scoring)",{"$f":"+'Checklist 2.6'!$I$19","v":0},3]
["2.6.13 Recording and reporting","2.6.13","Admission and discharge registers are available and are being filled completely (HMIS 8.1 and 8.2) (See Checklist 2.6 At the end of this standard for scoring)",{"$f":"+'Checklist 2.6'!$I$20","v":0},3]
["2.6.14 Infection prevention ","2.6.14.1","PPE[2] are available and used whenever required (See Checklist 2.6 At the end of this standard for scoring)",{"$f":"+'Checklist 2.6'!$I$21","v":0},3]
[null,"2.6.14.2","Each ward has hand sanitizer in visible place for health workers to use before and after touching patients (See Checklist 2.6 At the end of this standard for scoring)",{"$f":"+'Checklist 2.6'!$I$22","v":0},3]
[null,"2.6.14.3","There are well labelled color-coded bins for waste segregation and disposal as per HCWM[3] guideline 2014 (MoHP) (See Checklist 2.6 At the end of this standard for scoring)",{"$f":"+'Checklist 2.6'!$I$23","v":0},3]
[null,"2.6.14.4","Hand‑washing facility with running water and liquid soap is available and being practiced (See Checklist 2.6 At the end of this standard for scoring)",{"$f":"+'Checklist 2.6'!$I$24","v":0},3]
[null,"2.6.14.5","Needle cutter is used (See Checklist 2.6 At the end of this standard for scoring)",{"$f":"+'Checklist 2.6'!$I$25","v":0},3]
[null,"2.6.14.6","Chlorine solution is available and utilized for decontamination (See Checklist 2.6 At the end of this standard for scoring)",{"$f":"+'Checklist 2.6'!$I$26","v":0},3]
["Standard 2.6",null,"Total Obtained Score",{"$f":"SUM($D$399:$D$435)","v":0},{"$f":"SUM($E$399:$E$435)","v":96}]
[null,null,"Total Percentage (Total Obtained Score/ 96x100)",{"$f":"+$D$436/$E$436","v":{"v":0,"d":"0%"}}]
[]
[]
["Area","Code","Verification"]
["Maternity Services",2.7]
["Delivery Services","2.7.1"]
["Components",null,"Standards","Obtained Score","Maximum Score"]
["2.7.1.1 Availability of delivery service","2.7.1.1.1","Separate pre-labor room/ labor room with privacy is available.",null,1]
[null,"2.7.1.1.2","Delivery service is available round the clock",null,1]
[null,"2.7.1.1.3","At least one delivery bed is assigned for every 15 maternity beds",null,1]
[null,"2.7.1.1.4","Labor room has adequate space for accommodating team of health workers during emergencies and easy access to OT",null,1]
["2.7.1.2 Trained Human Resource for Delivery Services ","2.7.1.2.1 ","Hospital delivery service has adequate and trained staffing"]
[null,"2.7.1.2.1.1","Nurse: pregnant women ratio 1:2 in pre-labor; 2:1 per delivery table and 1:6 in post-natal ward",null,1]
[null,"2.7.1.2.1.2"," At least one ASBA trained medical officer on duty ",null,1]
[null,"2.7.1.2.1.3"," At least one office assistant is available per shift",null,1]
[null,"2.7.1.2.2","All staffs- nursing, medical practitioner designated for delivery services are trained skilled birth attendants",null,1]
["2.7.1.3 Duty rosters","2.7.1.3","Duty roster to cover 24 hours shift is developed and placed in visible place",null,1]
["2.7.1.4 Appropriate use of partograph for decision making","2.7.1.4","Partograph available and being used rationally",null,1]
["2.7.1.5 KMC done for low birth weight babies","2.7.1.5","At least 2 KMC chairs available for providing KMC to premature and preterm babies",null,1]
["2.7.1.6 Birth certificate prepared and released","2.7.1.6","A formally signed standard birth certificate is issued.",null,1]
["2.7.1.7 Patient counseling","2.7.1.7.1","Pre-labor/ during labor patient and patients’ family are adequately given counseling on labor, possible complications and written consent taken",null,1]
[null,"2.7.1.7.2","Health education on PNC, danger signs of mother and child, Immunization, nutrition, hygiene and family planning is given ",null,1]
[null,"2.7.1.7.3","Postpartum family planning and breastfeeding- early, exclusive and extended counseling is done prior to discharge.",null,1]
[" 2.7.1.8 IEC/BCC [1] materials","2.7.1.8","Appropriate IEC/BCC materials (posters, leaflets etc.) on postnatal care, breastfeeding- early, exclusive and extended, nutrition, immunization are used and available for users",null,1]
["2.7.1.9 Furniture, equipment, instrument, medicine and supplies for labor room "," 2.7.1.9.1","Separate store room for delivery service related logistics",null,1]
[null,"2.7.1.9.2","The facility has adequate equipment, instrument and general supplies for delivery services (See Annex 2.7.1a Furniture, equipment, instrument and general supplies for labor room At the end of this standard)",{"$f":"+'Annex 2.1a- 2.14a'!$E$680","v":0},3]
[null,"2.7.1.9.3","Labor room has medicines and supplies available for delivery services (See Annex 2.7.1bmedicines and supplies for Labor Room At the end of this standard)",{"$f":"+'Annex 2.1a- 2.14a'!$D$747","v":0},3]
[null,"2.7.1.9.4","Labor room has emergency cart with medicines and supplies available (See Annex 2.7.1c Medicines and Supplies for ER[2] Trolley Labor Room At the end of this standard)",{"$f":"+'Annex 2.1a- 2.14a'!$E$795","v":0},3]
["2.7.1.10 Facilities for patients ","2.7.1.10.1","Safe drinking water is available 24 hours.",null,1]
[null,"2.7.1.10.2","Separate toilet for patient is available in pre-labor room and accessible to patient after delivery",null,1]
[null,"2.7.1.10.3","There should be maternity waiting homes[3]where there is more than 20 deliveries per day and the waiting home must be taken round by every shift with at least one visit (by nurse)",null,1]
["2.7.1.11 Infection prevention ","2.7.1.11.1","Personal protective equipment are available and used whenever required.",null,1]
[null,"2.7.1.11.2","Washable labor room",null,1]
[null,"2.7.1.11.3","Separate slipper designated for labor room and hand sanitizer placed in visible place for use",null,1]
[null,"2.7.1.11.4","There are at well labelled color-coded bins for waste segregation and disposal as per HCWM guideline 2014 (MoHP)",null,1]
[null,"2.7.1.11.5","Hand‑washing facility with running water and liquid soap is available",null,1]
[null,"2.7.1.11.6","Needle cutter is used.",null,1]
[null,"2.7.1.11.7"," Liquid sodium hypochoride (0.5% Chlorine solution) is available and utilized for decontamination. ",null,1]
[null,"2.7.1.11.8","Dry gauze and cotton are stored separately in clean containers.",null,1]
[null,"2.7.1.11.9","Separate bowls/ bucket for placenta and plastic ",null,1]
[null,"2.7.1.11.10","Placenta pit is used to dispose placenta.",null,1]
["Standard 2.7.1",null,"Total Obtained Score",{"$f":"SUM($D$444:$D$477)","v":0},{"$f":"SUM($E$444:$E$477)","v":39}]
[null,null,"Total Percentage = Total Obtained Score/ 39 x100",{"$f":"+$D$478/$E$478","v":{"v":0,"d":"0%"}}]
[]
[]
["Area","Code","Verification"]
["Maternity Services",2.7]
["Maternity Inpatient Service","2.7.2"]
["Components",null,"Standards","Obtained Score","Maximum Score"]
["2.7.2.1 Space for work","2.7.2.1.1","Separate space for nursing station is available ",null,1]
[null," 2.7.2.1.2","Separate changing room available for male and female staffs",null,1]
[null,"2.7.2.1.3","Separate store room is available ",null,1]
[null,"2.7.2.1.4","Separate space dedicated for pre-labor, labor and post-labor patients",null,1]
["2.7.2.2 Furniture and supplies available and functioning","2.7.2.2","Furniture and supplies to carry out the inpatient services are available and functioning (See annex 2.7.2a Furniture and supplies for maternity inpatient wards At the end of this standard ) (including nursing station)",{"$f":"+'Annex 2.1a- 2.14a'!$D$839","v":0},3]
["2.7.2.3 Medicine and supplies available ","2.7.2.3","Medicine and supplies to carry out the inpatient services are available General Ward (See Annex 2.7.2bmedicine and supplies for maternity inpatient wards At the end of this standard)",{"$f":"+'Annex 2.1a- 2.14a'!$D$865","v":0},3]
["2.7.2.4 Nursing and support staff for inpatient service"," 2.7.2.4.1","Adequate numbers of nursing staff are available in ward per shift (nurse patient ratio 1:6 in general ward)    ",null,1]
[null,"2.7.2.4.2","At least one trained office assistant per shift in each ward",null,1]
["2.7.2.5 Duty rosters","2.7.2.5","Duty roster of doctors, nurses, paramedics and support staffs kept visibly in nursing station ",null,1]
["2.7.2.6 Communication","2.7.2.6","Telephone facility is available with list of important contact numbers and hospital codes visibly kept ",null,1]
["2.7.2.7 Emergency management of inpatients","2.7.2.7.1","All staffs in wards are trained for BLS and oriented about emergency code 001 or blue code",null,1]
[null,"2.7.2.7.2","At least one emergency trolley with emergency medicine available in ward (Annex 2.7.2c Medicine and Supplies for ER Trolley for Maternity In patient Ward At the end of this standard) ",{"$f":"+'Annex 2.1a- 2.14a'!$E$911","v":0},3]
[null,"2.7.2.7.3","At least one defibrillator in immediate accessible area ",null,1]
["2.7.2.8  Physical facilities for patient ","2.7.2.8.1","Separate area designated for admission of male and female inpatients in general ward",null,1]
[null,"2.7.2.8.2","There are adequate toilets for male and female patients in each ward (1 for 6 female bed)",null,1]
[null,"2.7.2.8.3","Safe drinking water is available 24 hours for inpatients",null,1]
[null,"2.7.2.8.4","Hours/ Time allocated for visitors to meet the inpatients and controlled traffic to prevent cross infection",null,1]
[null,"2.7.2.8.5","Separate space is available for patients’ visitors (Kuruwa Ghar).",null,1]
["2.7.2.9 Communication"," 2.7.2.9","Basic information regarding admitted patients is displayed in a separate board  ",null,1]
["2.7.2.10 IEC/BCC Materials","2.7.2.10","Appropriate IEC materials (posters, leaflets etc.) are available in the inpatient ward with focus on infection prevention",null,1]
["2.7.2.11 Recording and reporting","2.7.2.11","Admission and discharge registers are available and are being filled completely (HMIS 8.1 and 8.2)",null,1]
["2.7.2.12 Infection prevention ","2.7.2.12.1","Personal Protective equipment are available and used whenever required ",null,1]
[null,"2.7.2.12.2","Each ward has hand sanitizer in visible place for health workers to use before and after touching patients",null,1]
[null,"2.7.2.12.3","There are well labelled color-coded bins for waste segregation and disposal as per HCWM guideline 2014 (MoHP)",null,1]
[null,"2.7.2.12.4","Hand washing facility with running water and liquid soap is available and being practiced ",null,1]
[null,"2.7.2.12.5","Needle cutter  is used",null,1]
[null,"2.7.2.12.6","Chlorine solution is available and utilized for decontamination ",null,1]
["Standard 2.7.2",null,"Total Obtained Score",{"$f":"SUM($D$486:$D$512)","v":0},{"$f":"SUM($E$486:$E$512)","v":33}]
[null,null,"Total Percentage (Total Obtained Score/ 33 x100)",{"$f":"+$D$513/$E$513","v":{"v":0,"d":"0%"}}]
[]
[]
["Area","Code","Verification"]
["Surgery / Operation Services",2.8]
["Components",null,"Standards","Obtained Score","Maximum Score"]
["2.8.1 Time for surgical services/ operations","2.8.1.1.1","Routine minor and intermediate surgeries available on scheduled days",null,1]
[null,"2.8.1.1.2","Routine major surgeries available on scheduled days",null,1]
[null,"2.8.1.2","Emergency surgeries available round the clock",null,1]
[null,"2.8.1.3","At least four functional operating rooms",null,1]
["2.8.2 Staffing","2.8.2.1","For one surgery, at least a team is composed of: MS/MDGP with one trained medical officer, two OT trained nurse (one scrub and one circulating), one Anesthesiologist/MDGP, one anesthesia assistant and one office assistant ( for cleaning and helping)",null,1]
[null,"2.8.2.2","For overall management of operation theatre, there is one OT nurse (with minimum bachelors degree) assigned as OT in-charge",null,1]
[null,"2.8.2.3","At least two nurses in pre-anesthesia area for receiving and transferring of the patient and ",null,1]
[null,"2.8.2.4","At least two ICU trained nurses for post anesthesia care for receiving patient after OT ",null,1]
["2.8.3 Surgical services available","2.8.3.1","General Surgeries (See Annex 2.8a List of Minimum Surgeries Available At the end of this standard)",{"$f":"+'Annex 2.1a- 2.14a'!$D$960","v":0},3]
[null,"2.8.3.2","Casaerian Section",null,1]
[null,"2.8.3.3","Orthopedic Surgeries (See Annex 2.8b List of Minimum Orthopedics Surgeries Available At the end of this standard)",{"$f":"+'Annex 2.1a- 2.14a'!$D$986","v":0},3]
["2.8.4 Patient counseling and ","2.8.4.1","Indications and reviews the clinical history and physical examination is documented ",null,1]
[null,"2.8.4.2","Pre-anesthesia checkup done for routine surgeries and documented",null,1]
[null,"2.8.4.3","Informed consent is taken before surgery; patients and caretakers are given appropriate counseling about the surgery",null,1]
["2.8.5  WHO safe surgery checklist","2.8.5","The WHO Safe Surgery Checklist is available in OT and used",null,1]
["2.8.6 Patient preparation","2.8.6","Preoperative instructions for patient preparation are given and practiced with routine pre-anesthesia check up",null,1]
["2.8.7 Operation Theatre/Room","2.8.7.1","OT has appropriate physical set up (See Annex 2.8c Physical Set Up for OT At the end of this standard)",{"$f":"+'Annex 2.1a- 2.14a'!$D$1008","v":0},3]
[null,"2.8.7.2","Each operating room has general equipment, instruments and supplies available (See Annex 2.8d Furniture, Equipment, Instruments and Supplies for OT At the end of this standard)",{"$f":"+'Annex 2.1a- 2.14a'!$E$1070","v":0},3]
[null,"2.8.7.3","Each operating room has medicines and supplies available (See Annex 2.8e General Medicine and Supplies for OT At the end of this standard)",{"$f":"+'Annex 2.1a- 2.14a'!$E$1102","v":0},3]
[null,"2.8.7.4","Surgical sets for minimum list of the surgical services available (See Annex 2.8f Surgical sets for Minimum list of the surgical procedures At the end of this standard) ",{"$f":"+'Annex 2.1a- 2.14a'!$E$1131","v":0},3]
["2.8.8.1 Availability of anesthesia Services","2.8.8.1","Anesthesia service is provided following the standards operating procedure"]
[null,"2.8.8.1.1","Local anesthesia ",null,1]
[null,"2.8.8.1.2","Regional anesthesia ",null,1]
[null,"2.8.8.1.3","Spinal anesthesia  ",null,1]
[null,"2.8.8.1.4","General anesthesia",null,1]
["2.8.8.2Equipment, instruments and supplies for anesthesia","2.8.8.2","Equipment, instrument and supplies for anesthesia available (See Annex 2.8g Equipment, Instrument and Supplies for Anesthesia At the end of this standard)",{"$f":"+'Annex 2.1a- 2.14a'!$E$1168","v":0},3]
["2.8.8.3 Medicine and supplies for anesthesia","2.8.8.3","Medicine and supplies for anesthesia available (See Annex 2.8h Medicine and Supplies for Anesthesia At the end of this standard)",{"$f":"+'Annex 2.1a- 2.14a'!$E$1241","v":0},3]
["2.8.8.4 Staffing and supervision ","2.8.8.4.1","Anesthesia should be provided, led, or overseen by an anesthesiologist",null,1]
["2.8.9 Pre anesthesia  and post-operative care","2.8.9.1","Dedicated space for pre-anesthesia assessment  and post-anesthesia recovery with patient bed, IV stand, IV cannula, fixing tapes, infusion sets, burette sets, syringes, three-way stop cocks and at least one cardiac monitor ",null,1]
[null,"2.8.9.2","Separate area designated for post-operative care to stabilize the patient after surgery",null,1]
[null,"2.8.9.3","Staffs are specified for the post-operative care including close monitoring of the vital signs and observation of patient",null,1]
[null,"2.8.9.4","Patients’ pain management is prioritized, measures well documented and analgesic effect followed up",null,1]
[null,"2.8.9.5","Patient undergoing surgical procedure is done pre- anesthetic check-up, continuously monitored during and at least 2 hours post- anesthesia",null,1]
[null,"2.8.9.6","Adequate information shared for patient care and patient followed by at least one nurse/doctor for hand over or transfer of patient within or outside the hospital",null,1]
["2.8.10 Recording ","2.8.10.1","Recording is done for all surgeries procedure including observation, management and complications if any",null,1]
[null,"2.8.10.2","Records of all anesthetic procedures are kept and reported",null,1]
["2.8.11",null," Infection prevention protocol is strictly followed by all staffs in operation theatre/room"]
["2.8.11.1 Hand hygiene","2.8.11.1","Hand‑washing and scrubbing facility with running water and soap is available and being practiced with elbow tap",null,1]
["2.8.11.2 Appropriate PPE","2.8.11.2","Gowns and sterile drapes for patients and sterile gown for surgery team are available and used whenever required.",null,1]
["2.8.11.3 Fumigation","2.8.11.3","Fumigation is done at least once a week in the OT on Saturdays and as per need",null,1]
["2.8.11.4 Disinfection of instruments","2.8.11.4","High Level Disinfection (e.g. Cidex) facility is available and being practiced.",null,1]
["2.8.11.5 High Wash","2.8.11.5","High wash is done at least once a month in OT",null,1]
["2.8.11.6 Appropriate segregation of waste","2.8.11.6","Separate colored waste bins based on HCWM guideline 2014 (MoHP) are available and used",null,1]
["2.8.11.7 Disposal of sharps","2.8.11.7","Needle cutter is used.",null,1]
["2.8.11.8 Cleaning ","2.8.11.8","Chlorine solution is available and utilized for decontamination. ",null,1]
["Standard 2.8",null,"Total Obtained Score",{"$f":"SUM($D$520:$D$564)","v":0},{"$f":"SUM($E$520:$E$564)","v":59}]
[null,null,"Total Percentage= Total Obtained Score/ 59 x 100",{"$f":"+$D$565/$E$565","v":{"v":0,"d":"0%"}}]
[]
[]
["Area ","Code","Verification"]
["Diagnostics and laboratory",2.9]
["Laboratory","2.9.1.1"]
["Components",null,"Standards","Obtained Score","Maximum Score"]
["2.9.1.1.1Time for patients","2.9.1.1.1.1","Laboratory is open from 10 AM to 3 PM  for routine services and separate emergency lab service available round the clock",null,1]
[null,"2.9.1.1.1.2","Basic investigations are available (See Annex 2.9.1a List of investigations for Laboratory At the end of this standard)",{"$f":"+'Annex 2.1a- 2.14a'!$D$1326","v":0},3]
[null,"2.9.1.1.1.3","Histopathology service in coordination with other health facilites",null,1]
["2.9.1.1.2 Staffing","2.9.1.1.2","At least 2 medical technologist, 3 lab staffs (1 lab Technician, 1 Lab Assistant and 1 Helper) in each shift",null,1]
["2.9.1.1.3 Instruments and equipment","2.9.1.1.3","Instruments and equipment to carry out all parameters of tests are available and functioning (See Annex 2.9.1.1b Equipment and Instrument for Lab At the end of this standard)",{"$f":"+'Annex 2.1a- 2.14a'!$E$1360","v":0},3]
["2.9.1.1.4 Physical facilities","2.9.1.1.4.1","Separate space with working desk and chair designated for specific laboratory procedures like- hematology, biochemistry, microbiology, serology",null,1]
[null,"2.9.1.1.4.2","Light and ventilation are adequately maintained.",null,1]
[null,"2.9.1.1.4.3","Designated area well labelled for reception of sample and dispatch of reports ",null,1]
["2.9.1.1.5 Duty rosters","2.9.1.1.5","Duty rosters of lab are developed regularly and available in appropriate location. ",null,1]
["2.9.1.1.6 Facilities for patients ","2.9.1.1.6.1","Waiting space with sitting arrangement is available for at least 15 persons in waiting lobby.",null,1]
[null,"2.9.1.1.6.2","At least one each male, female and universal toilet for patients using laboratory services ",null,1]
[null,"2.9.1.1.6.3","Safe drinking water is available in the waiting lobby throughout the day.",null,1]
["2.9.1.1.7 Recording and reporting","2.9.1.1.7.1","Sample is adequately recorded with requisition form with detail information of patients",null,1]
[null,"2.9.1.1.7.2","Standard reporting sheets are being used and all reports are recorded in a standard register (HMIS 9.4).",null,1]
[null,"2.9.1.1.7.3","Report have adequate information of patient and checked by designated person before release",null,1]
["2.9.1.1.8 Supplies storage and stock","2.9.1.1.8.1","At least three months buffer stock of laboratory supplies is available.",null,1]
[null,"2.9.1.1.8.2","Reagents are stored at appropriate temperature in store and lab",null,1]
["2.9.1.1.9 Blood storage and supply (if hospital has its own blood bank Goto standards 2.9.2)","2.9.1.1.9.1","Blood storage is done based on Nepal Blood Bank and Transfusion Service Guideline",null,1]
[null,"2.9.1.1.9.2","Blood storage has required instrument and equipment ( See Annex 2.9.1.1c At the end of this standard)",{"$f":"+'Annex 2.1a- 2.14a'!$E$1377","v":0},3]
["2.9.1.1.10Infection prevention","2.9.1.1.10.1","Biohazard signs and symbols are used at appropriate places visibly",null,1]
[null,"2.9.1.1.10.2","All staffs know how to respond in case of spillage and other incidents",null,1]
[null,"2.9.1.1.10.3","Masks and gloves are available",null,1]
[null,"2.9.1.1.10.4","There are colored bins for waste segregation based on HCWM guideline 2014 (MoHP) and infectious waste is sterilized using autoclave before disposal",null,1]
[null,"2.9.1.1.10.5","Hand‑washing facility with running water and soap is available for practitioners ",null,1]
[null,"2.9.1.1.10.6","Needle cutter is used",null,1]
[null,"2.9.1.1.10.7","Chlorine solution and bleach is available and utilized for decontamination",null,1]
["Standard 2.9.1.1",null,"Total Obtained Score",{"$f":"SUM($D$573:$D$598)","v":0},{"$f":"SUM($E$573:$E$598)","v":32}]
[null,null,"Total Percentage (Total Obtained Score/ 32 x100)",{"$f":"+$D$599/$E$599","v":{"v":0,"d":"0%"}}]
[]
[]
["Area","Code","Verification (*Applicable if hospital has its own blood bank)"]
["Blood Bank*","2.9.1.2"]
["Components",null,"Standards","Obtained Score","Maximum Score"]
["2.9.1.2.1 Time for patients"," 2.9.1.2.1","Blood bank is open / facility is available round the clock",null,1]
["2.9.1.2.2 Staffing","2.9.1.2.2","Adequate numbers of trained healthcare workers are available in blood bank (at least 2 blood bank staffs to cover shifts including ER)",null,1]
["2.9.1.2.3 Physical facilities","2.9.1.2.3.1","Adequate rooms and space for the staffs and patients are available (area of more than 10 meter squares)",null,1]
[null,"2.9.1.2.3.2","Light and ventilation are adequately maintained.",null,1]
[null,"2.9.1.2.3.3","The required furniture and supplies are available (See Annex 2.9.1.2a Blood Bank Furniture and Supplies At the end of the standard)",{"$f":"+'Annex 2.1a- 2.14a'!$E$1401","v":0},3]
[null,"2.9.1.2.3.4","Thermometers are attached to all equipment requiring temperature control and temperatures are recorded daily ",null,1]
["2.9.1.2.4 Instruments and equipment","2.9.1.2.4","Instruments and equipment are calibrated, available and functioning with record of smear kept (See Annex 2.9.1.2b Equipment and Instrument for Blood Bank At the end of the standard)",{"$f":"+'Annex 2.1a- 2.14a'!$E$1428","v":0},3]
["2.9.1.2.5 Duty rosters","2.9.1.2.5","Duty rosters of lab are developed regularly and available in appropriate location. ",null,1]
["2.9.1.2.6 Facilities for patients ","2.9.1.2.6.1","Comfortable waiting space with sitting arrangement is available for at least 15 persons in waiting lobby.",null,1]
[null,"2.9.1.2.6.2","Safe drinking water is available in the waiting lobby throughout the day.",null,1]
["2.9.1.2.7 Recording and reporting","2.9.1.2.7.1","Sample is adequately recorded with requisition form with detail information of patients",null,1]
[null,"2.9.1.2.7.2","Standard reporting sheets are being used and all reports are recorded in a standard register or NBBTS software and computerized bill available to patients",null,1]
[null,"2.9.1.2.7.3","Report have essential information of patient and checked by designated person before release",null,1]
[null,"2.9.1.2.7.4","BTSC submits regular reports to NPHL/NBBTS of provided proficiency panels related to TTIs",null,1]
["2.9.1.2.8 Supplies storage and stock","2.9.1.2.8.1","At least three months buffer stock of laboratory supplies is available.",null,1]
[null,"2.9.1.2.8.2","Blood bags, transfusion sets, blood and blood components, reagents are stored at appropriate temperature in store and lab",null,1]
["2.9.1.2.9 Infection prevention","2.9.1.2.9.1","Biohazard signs and symbols are used at appropriate places",null,1]
[null,"2.9.1.2.9.2","All staffs know how to respond in case of spillage and other incidents",null,1]
[null,"2.9.1.2.9.3","Masks and gloves are available",null,1]
[null,"2.9.1.2.9.4","Bio-waste disposal is done based on HCWM guideline 2014 (MoHP)",null,1]
[null,"2.9.1.2.9.5","Hand‑washing facility with running water and soap is available for practitioners ",null,1]
[null,"2.9.1.2.9.6","Needle cutter is used ",null,1]
[null,"2.9.1.2.9.7","Chlorine solution and bleach is available and utilized for decontamination",null,1]
["Standard 2.9.1.2",null,"Total Obtained Score",{"$f":"SUM($D$606:$D$628)","v":0},{"$f":"SUM($E$606:$E$628)","v":27}]
[null,null,"Total Percentage (Total Obtained Score/27x100)",{"$f":"+$D$629/$E$629","v":{"v":0,"d":"0%"}}]
[]
[]
["Area","Code","Verification"]
["X-ray","2.9.2"]
["Components",null,"Standards","Obtained Score","Maximum Score"]
["2.9.2.1 Time for patients","2.9.2.1.1","X-ray service is open from 10 AM to 3 PM ",null,1]
[null,"2.9.2.1.2","Emergency x-ray service is available round the clock",null,1]
["2.9.2.2 Staffing","2.9.2.2","Adequate numbers of trained healthcare workers are available in x-ray (at least 2 staffs to cover shifts including ER) with on call radiologist",null,1]
["2.9.2.3 Patient counseling","2.9.2.3","Counseling is provided to patients about radiation hazard, site and position for x-ray",null,1]
["2.9.2.4 Information education and communication materials for patients","2.9.2.4","Radiation sign, appropriate Radiation awareness posters, leaflets are available in the department and OPD waiting area.",null,1]
["2.9.2.5 Instruments and equipment","2.9.2.5.1","General X ray unit (with minimum 125KV and 300ma X-ray machine) with floatation table top and vertical bucky",null,1]
[null,"2.9.2.5.2","Complete CR system with CR cassette at least 5 of 14 x 17 inch   and 3 of 10x12inch.",null,1]
["2.9.2.6 Physical facilities","2.9.2.6.1","X ray room of at least 4x4sqm with wall of at least 23cm of brick or 6cm RCC or 2mm lead equivalent.",null,1]
[null,"2.9.2.6.2","Light and ventilation are adequately maintained.",null,1]
[null,"2.9.2.6.3","The required furniture  and supplies including radiation protective measures for patients, visitors and staffs are available including magnetic gown",null,1]
["2.9.2.7 Duty rosters","2.9.2.7","Duty rosters of X-ray are developed regularly and available in appropriate location. ",null,1]
["2.9.2.8 Facilities for patients ","2.9.2.8","Waiting space with sitting arrangement is available for at least 5 persons in waiting lobby.",null,1]
["2.9.2.9 Recording and reporting","2.9.2.9.1","X-ray is adequately recorded as per requisition form with detail information of patients, date of x-ray and site and view",null,1]
[null,"2.9.2.9.2","Report have adequate information of patient and checked by designated person before release",null,1]
["2.9.2.10 Information to patients","2.9.2.10","Biohazard signs and symbols are used at appropriate places",null,1]
["2.9.2.11 Infection prevention  ","2.9.2.11.1","Radiological waste is disposed based on HCWM guideline 2014 (MoHP)",null,1]
[null,"2.9.2.11.2","Hand‑washing facility with running water and soap is available for practitioners ",null,1]
[null,"2.9.2.11.3","Needle cutter is used",null,1]
[null,"2.9.2.11.4","Chlorine solution and bleach is available and utilized for decontamination",null,1]
["Standard 2.9.2",null,"Total Obtained  Score",{"$f":"SUM($D$636:$D$654)","v":0},{"$f":"SUM($E$636:$E$654)","v":19}]
[null,null,"Total Percentage (Total Obtained Score/ 19 x100)",{"$f":"+$D$655/$E$655","v":{"v":0,"d":"0%"}}]
[]
[]
["Area","Code","Verification"]
["Ultrasonography (USG)","2.9.3"]
["Components",null,"Standards","Obtained Score","Maximum Score"]
["2.9.3.1 Time for patients","2.9.3.1","USG is open from 10 AM to 3 PM for obstetrics, abdominal, pelvic and superficial structure like testis, thyroid",null,1]
["2.9.3.2 Staffing","2.9.3.2","USG trained medical practitioner and mid-level health worker  in each USG room ",null,1]
["2.9.3.3 Patient counseling","2.9.3.3","Counseling is provided to patients about site and indication of USG",null,1]
["2.9.3.4 Maintaining patients’ privacy","2.9.3.4","Appropriate techniques have been used to ensure the patient privacy (separate rooms, curtains hung, maintaining queuing of patients)",null,1]
["2.9.3.5 Instruments and equipment","2.9.3.5","USG machine (advanced) with different probes, computer and printer with USG papers , gel and wipes is available and functional",null,1]
["2.9.3.6 Physical facilities","2.9.3.6.1"," Adequate space for practitioner and patient for USG with working table and examination bed one per each USG machine",null,1]
[null,"2.9.3.6.2","Proper light and ventilation maintained.",null,1]
["2.9.3.7 Facilities for patients ","2.9.3.7","Waiting space with sitting arrangement is available for at least 15 persons in waiting lobby.",null,1]
["2.9.3.8 Recording and reporting","2.9.3.8.1","USG is adequately recorded as per requisition form with detail information of patients, date of USG",null,1]
[null,"2.9.3.8.2","Report have adequate information of patient, information of area of examination and radiological opinion, further referral and checked by designated person before release",null,1]
["2.9.3.9 Infection prevention ","2.9.3.9.1","Hand‑washing facility with running water and soap is available for practitioners",null,1]
[null,"2.9.3.9.2","Chlorine solution and bleach is available and utilized for decontamination",null,1]
["Standard 2.9.3",null,"Total Obtained Score",{"$f":"SUM($D$662:$D$673)","v":0},{"$f":"SUM($E$662:$E$673)","v":12}]
[null,null,"Total Percentage (Total Obtained Score/ 12 x100)",{"$f":"+$D$674/$E$674","v":{"v":0,"d":"0%"}}]
[]
[]
["Area","Code","Verification"]
["Electrocardiogram (ECG)","2.9.4"]
["Components",null,"Standards","Obtained Score","Maximum Score"]
["2.9.4.1 Service available","2.9.4.1","ECG service is available for patients in OPD, Emergency and Indoor  ",null,1]
["2.9.4.2 Space","2.9.4.2","Separate space is dedicated for ECG Service",null,1]
["2.9.4.3 Patient counseling","2.9.4.3","Counseling is provided to patients about procedure and indication of ECG",null,1]
["2.9.4.4 Maintaining patient privacy","2.9.4.4","Appropriate techniques have been used to ensure the patient privacy (separate rooms, curtains hung, maintaining queuing of patients)",null,1]
["2.9.4.5 Instruments, equipment and supplies","2.9.4.5","Functional ECG machine (12 lead with power back up), paper, gel, wipes and hand sanitizer are available in ECG trolley ",null,1]
["2.9.4.6 Recording and reporting","2.9.4.6.1","ECG is adequately recorded as per requisition form with detail information of patients, date of ECG",null,1]
[null,"2.9.4.6.2","Reporting folder of ECG should have adequate information of patient, including analysis of 12 lead ECG with final impression of ECG diagnosis done by designated person before release",null,1]
["2.9.4.7 Infection prevention  ","2.9.4.7.1","Hand‑washing facility with running water and liquid soap is available for practitioners",null,1]
[null,"2.9.4.7.2","Chlorine solution and bleach is available and utilized for decontamination",null,1]
["Standard 2.9.4",null,"Total Obtained Score",{"$f":"SUM($D$681:$D$689)","v":0},{"$f":"SUM($E$681:$E$689)","v":9}]
[null,null,"Total Percentage (Total Obtained Score/ 9 x100)",{"$f":"+$D$690/$E$690","v":{"v":0,"d":"0%"}}]
[]
[]
["Area","Code","Verification"]
["Dental Service",{"v":2.1,"d":"2.10"}]
["Components","Std No.","Standards","Obtained Score","Maximum Score"]
["2.10.1Time for patients","2.10.1.1","Dental service is available from 10 AM to 3 PM ",null,1]
[null,"2.10.1.2","Tickets for routine dental service are available till 2 pm",null,1]
[null,"2.10.1.3","EHS services from 3PM onwards and tickets available from 2PM onwards",null,1]
["2.10..2 Adequate Staffing","2.10..2","Dental Hygienist/Dentist : OPD Patients- 1:20 per day for quality of care",null,1]
["2.10.3 Maintaining patient privacy","2.10.3","Patient privacy maintained with separate rooms, curtains hung, maintaining queuing of patients ",null,1]
["2.10.4 Patient counseling","2.10.4.1","Counseling is provided to patients about the type of treatment being given and its consequences ",null,1]
[null," 2.10.4.2","Appropriate IEC materials (posters, leaflets etc.) as an IEC corner available in the OPD waiting area.",null,1]
["2.10.5 Physical facilities","2.10.5.1","At least 1 rooms with adequate space for the practitioners and patients is dedicated for Dental Service",null,1]
[null,"2.10.5.2","Light and ventilation are adequately maintained ",null,1]
[null,"2.10.5.3","Required furniture, supplies and space are available (See Annex 2.10a Furniture and Supplies for Dental Services At the end of this standard)",{"$f":"+'Annex 2.1a- 2.14a'!$E$1451","v":0},3]
["2.10.6 Equipment, instrument and supplies","2.10.6.1","Equipment, instrument and supplies to carry out Dental Services (See Annex 2.10b Basic Equipment and Instrument for Dental Services at the end of this standard) are available and functioning",{"$f":"+'Annex 2.1a- 2.14a'!$E$1547","v":0},3]
["2.10.7 Duty rosters","2.10.7","Duty rosters developed regularly and available in appropriate location.",null,1]
["2.10.8 Recording and reporting","2.10.8","OPD register available in every OPD and ICD 10 classification for diagnosis recorded (electronic health recording system) ",null,1]
["2.10.9 Infection prevention ","2.10.9.1","Masks and gloves are available and used ",null,1]
[null,"2.10.9.2","There are well labelled colored bins for waste segregation and disposal as per HCWM guideline 2014 (MoHP)",null,1]
[null,"2.10.9.3","Hand‑washing facility with running water and soap is available for practitioners ",null,1]
[null,"2.10.9.4","Needle cutter is used",null,1]
[null,"2.10.9.5","Chlorine solution is available and utilized for decontamination ",null,1]
["Standard 2.10",null,"Total Score",{"$f":"SUM($D$697:$D$714)","v":0},{"$f":"SUM($E$697:$E$714)","v":22}]
[null,null,"Percentage = Total Score/ 22 x100",{"$f":"+$D$715/$E$715","v":{"v":0,"d":"0%"}}]
[]
[]
["Area","Code","Verification"]
["Postmortem",2.11]
["Components",null,"Standards","Obtained score","Maximum Score"]
["2.11.1.1 Physical facility","2.11.1.1.1","Designated area for mortuary room, changing room and store room and bathroom",null,1]
[null,"2.11.1.1.2","Body dissection table (at least one) is available and used",null,1]
[null,"2.11.1.1.3","Organ dissection table (at least one) is available and used",null,1]
[null,"2.11.1.1.4","Adequate ventilation and light and odor management",null,1]
["2.11.2 Availability of postmortem services","2.11.2","Examination of the dead body in any unnatural death and suspicious death (Post-mortem examination or autopsy) available from 9 am to 5pm",null,1]
["2.11.3 Staffing","2.11.3","At least one MD forensic and one trained medical officer for autopsy and clinical medico-legal services",null,1]
["2.11.4 Supplies and instruments","2.11.4","Adequate supplies and instruments for forensic services (See Annex 2.11a Supplies and instrument for post mortem At the end of this standard)",{"$f":"'Annex 2.1a- 2.14a'!$E$1581","v":0},3]
["2.11.5 Mortuary van ","2.11.5","Mortuary van is available 24 hours (at least one)",null,1]
["2.11.6 Recording and reporting","2.11.6","Standardized medico-legal examination formats available",null,1]
["2.11.7 Infection prevention ","2.11.7.1 ","Staff wear mask and gloves at work.",null,1]
[null,"2.11.7.2","There are colored bins for waste segregation and disposal based on HCWM guideline 2014 (MoHP)",null,1]
[null," 2.11.7.3","Hand‑washing facility with running water and soap is available and being practiced.",null,1]
[null," 2.7.11.4","Chlorine solution is available and utilized. ",null,1]
[null," 2.11.7.5","Proper disposal of anatomical waste in placenta pit after autoclaving",null,1]
["Standard 2.11",null,"Total Obtained Score",{"$f":"SUM($D$722:$D$735)","v":0},{"$f":"SUM($E$722:$E$735)","v":16}]
[null,null,"Total Percentage (Total Obtained Score/ 16 x100)",{"$f":"+$D$736/$E$736","v":{"v":0,"d":"0%"}}]
[]
[]
["Area","Code","Verification"]
["Medico-legal services",2.12]
["Components",null,"Standards","Obtained score","Maximum Score"]
["2.12.1Physical facility","2.12.1","Designated area for medico-legal examination with examination bed and working desk with chair",null,1]
["2.12.2.Availability of medico-legal services","2.12.2","Medico-legal services are available 24 hours ",null,1]
["2.12.3 Staffing","2.12.3","Trained medical officer for medico-legal services at least one",null,1]
["2.12.4 Supplies and instruments","2.12.4.1","Adequate supplies and instruments for medico-legal services (See Annex 2.12a Supplies and instrument for medico legal services At the end of this standard)",{"$f":"+'Annex 2.1a- 2.14a'!$E$1611","v":0},3]
[null,"2.12.4.2","Preservation of sample ensured before dispatching for test",null,1]
["2.12.5 Patient counseling","2.12.5","Post-traumatic counseling is done to the victims of medico-legal issues like sexual offence",null,1]
["2.12.6 Recording and reporting","2.12.6","Standardized medico-legal examination formats available",null,1]
["2.12.7 Infection prevention ","2.12.7.1","Staff wear mask and gloves at work.",null,1]
[null,"2.12.7.2","There are well labelled colored bins for waste disposal based on HCWM guideline 2014 (MoHP)",null,1]
[null,"2.12.7.3","Hand‑washing facility with running water and soap is available and being practiced.",null,1]
[null,"2.12.7.4","Chlorine solution is available and utilized. ",null,1]
["Standard 2.12",null,"Total Obtained Score",{"$f":"SUM($D$743:$D$753)","v":0},{"$f":"SUM($E$743:$E$753)","v":13}]
[null,null,"Total Percentage (Total Obtained Score/ 13 x100)",{"$f":"+$D$754/$E$754","v":{"v":0,"d":"0%"}}]
[]
[]
["Area","Code","Verification"]
["One stop crisis management center (OCMC)",2.13]
["Components",null,"Standards","Obtained Score","Maximum Score"]
["2.13.1 OCMC  coordination committee exists (multi-sectoral)","2.13.1","Quarterly meeting minute of coordination committee",null,1]
["2.13.2 Functionality of case management committee"," 2.13.2","Monthly meeting minute of case management committee",null,1]
["2.13.3 Timely service for patients","2.13.3.1","Prioritized services for GBV victims/survivors exits",null,1]
[null,"2.13.3.2","Treatment for GBV survivors/affected by GBV is available 24 hours ",null,1]
["2.13.4 Physical facilities for OCMC services","2.13.4","Separate space allocated for OCMC services with adequate physical facilities (See Annex 2.13a Physical facilities for OCMC At the end of this standard)",{"$f":"+'Annex 2.1a- 2.14a'!$E$1638","v":0},3]
["2.13.5 Staffing","2.13.5.1","At least one Medical officer working in the hospital trained in medico-legal issues is available",null,1]
[null," 2.13.5.2","At least two Staff nurse working in the hospital and  1 trained psycho social counselor",null,1]
["2.13.6 Timely examination from medico-legal aspects and treatment of GBV survivors/ affected by GBV"," 2.13.6.1","Health check-up, medico-legal examination including documentation (See Annex2.13b  Instruments and supplies for treatment in OCMC At the end of this standard)",{"$f":"+'Annex 2.1a- 2.14a'!$E$1671","v":0},3]
[null," 2.13.6.2","Preservation of samples as legal evidence done for future use (See Annex 2.13c Instruments and supplies for evidence collection in OCMC At the end of this standard)",{"$f":"+'Annex 2.1a- 2.14a'!$E$1707","v":0},3]
[null," 2.13.6.3","Pregnancy test and emergency contraceptive services, tests for HIV/HBV available",null,1]
["2.13.7 Use of GBV clinical protocol","2.13.7.1","Whole site orientation on GBV clinical protocol conducted ",null,1]
[null,"2.13.7.2","Availability and use of the treatment as per the protocol and OCMC guideline",null,1]
["2.13.8 Psycho-social counselling of GBV Survivors/ affected by GBV and rehabilitation","2.13.8.1","Mental health and psychosocial counselling services available",null,1]
[null," 2.13.8.2","If the female survivor requires to stay more days or requires advance psychosocial counseling including livelihood training, she/he shall be referred to nearby appropriate safe home/ rehabilitation centers",null,1]
["2.13.9 Referral services in place"," 2.13.9.1","Provide required referral and other services (as per the health service guideline and protocol). (Beyond health: security, legal, shelter, rehabilitation)",null,1]
[null,"2.13.9.2","Health related referral services e.g. Safe abortion services ",null,1]
["2.13.10 Information, education and empowerment for GBV survivors/ affected by GBV"," 2.13.10.1","Detailed information concerning the services being provided by OCMC to the survivors of GBV (Citizen charter, leaflets, community radio etc) ",null,1]
[null," 2.13.10.2","Information is being given in an integrated manner ( Safe home related, OCMC, Police women children service unit)",null,1]
["2.13.11Recording and reporting","2.13.11.1","Details of the events registered in the OCMC, services (health and non-health) being provided to the survivors, listing of the referred organizations shall be documented to be classified and analyzed in due course.   ",null,1]
[null," 2.13.11.2","Confidentiality shall be maintained at all stages of documentation.",null,1]
[null," 2.13.11.3","Report to concerned authority (DCC and MoHP)  in monthly report service format",null,1]
[null,"2.13.11.4","Documentation of the current status of GBV survivors of at least last 1 year is done ",null,1]
["2.13.12 Infection prevention "," 2.13.12.1","Masks and gloves are available and used",null,1]
[null," 2.13.12.2","There are colored bins for waste segregation and disposal based on HCWM guideline 2014 (MoHP)",null,1]
[null,"2.13.12.3","Hand‑washing facility with running water and soap is available for practitioners.",null,1]
[null,"2.13.12.4","Needle cutter  is used.",null,1]
[null,"2.13.12.5","Chlorine solution is available and utilized. ",null,1]
["Standard 2.13",null,"Total Obtained Score",{"$f":"SUM($D$761:$D$787)","v":0},{"$f":"SUM($E$761:$E$787)","v":33}]
[null,null,"Total Percentage (Total Obtained Score/ 33 x100)",{"$f":"+$D$788/$E$788","v":{"v":0,"d":"0%"}}]
[]
[]
["Area","Code ","Verification"]
["Physiotherapy (Physical Rehabilitation)",2.14]
["Components",null,"Standards","Obtained Score","Maximum Score"]
["2.14.1 Space ","2.14.1","Separate room for OPD physiotherapy with at least 10 physiotherapy beds with 5 exercise beds and 5 electric beds",null,1]
["2.14.2Time for patients","2.14.2.1 ","Physiotherapy OPD is open from 10 AM to 5 PM.",null,1]
[null," 2.14.2.2","Inpatient physiotherapy service is available based on the requisition",null,1]
["2.14.3 Staffing"," 2.14.3","At least 1 physiotherapist trained in Masters in Physiotherapy (MPT), 2 trained in Bachelors in Physiotherapy (BPT),and 2 Certificate in physiotherapy (CPT) or Diploma in physiotherapy  (DPT) and 1 trained office assistant treating 20 patients per day on OPD basis",null,1]
["2.14.4 Maintaining patient privacy","2.14.4","Appropriate techniques have been used to ensure the patient privacy (separate rooms, curtains hung, maintaining queuing of patients).",null,1]
["2.14.5 Patient counseling"," 2.14.5","Counseling is provided to patients about the type of treatment being given and its consequences.",null,1]
["2.14.6 IEC/BCC materials","2.14.6","Appropriate IEC/BCC materials (posters, leaflets etc.) are available in the OPD waiting area.",null,1]
["2.14.7 Instruments and equipment","2.14.7","Instruments and equipment to carry out the Physiotherapy works are available and functioning (See Annex 2.14a Instruments and equipment physiotherapy At the end of this standard).",{"$f":"+'Annex 2.1a- 2.14a'!$E$1741","v":0},3]
["2.14.8 Physical facilities","2.14.8.1","Adequate rooms and space for the practitioners and patients are available.",null,1]
[null,"2.14.8.2","Light and ventilation are adequately maintained.",null,1]
["2.14.9 Duty rosters","2.14.9","Duty rosters of OPD are developed regularly and available in appropriate location.",null,1]
["2.14.10 Facilities for patients","2.14.10.1","Safe drinking water is available in the waiting lobby throughout the day.",null,1]
[null,"2.14.10.2","Hand‑washing facilities are available for patients.",null,1]
["2.14.11 Recording and reporting","2.14.11.1","Recording and reporting throughout treatment and follow up is done",null,1]
["2.14.12 Infection prevention","2.14.12.1","Masks and gloves are available and used",null,1]
[null,"2.14.12.2","There are colored bins for waste disposal based on HCWM guideline 2014 (MoHP)",null,1]
[null,"2.14.12.3","Hand‑washing facility with running water and soap is available for practitioners.",null,1]
[null,"2.14.12.4","Needle cutter is used",null,1]
[null,"2.14.12.5","Chlorine solution is available and utilized. ",null,1]
["Standard 2.14",null,"Total Obtained Score",{"$f":"SUM($D$795:$D$813)","v":0},{"$f":"SUM($E$795:$E$813)","v":21}]
[null,null,"Percentage = Total Obtained Score / 21 x 100",{"$f":"+$D$814/$E$814","v":{"v":0,"d":"0%"}}]
[]
[]
["Area","Code","Verification"]
["CSSD",3.1]
["Components",null,"Standards","Obtained Score","Maximum Score"]
["3.1.1 Space","3.1.1.1","Separate central supply sterile department (CSSD) is available with running water facility",null,1]
[null,"3.1.1.2","There are separate rooms designated for dirty utility, cleaning, washing and drying and sterile area for sterilizing, packaging and storage",null,1]
["3.1.2 Staffing","3.1.2","Separate staffs assigned for CSSD and is led by CSSD trained personal",null,1]
["3.1.3 Equipment and supplies for CSSD","3.1.3","Equipment and supplies for sterilization available and functional round the clock (See Annex 3.1a CSSD Equipment and Supplies At the end of this standard)",{"$f":"+'Annex 3.1a-3.11a'!$D$30","v":0},3]
["3.1.4 Preparing consumables ","3.1.4","Wrapper, gauze, cotton balls, bandages are prepared.",null,1]
["3.1.5 Preparing for sterilization","3.1.5.1","All used instruments are cleaned using brush chemical/detergents in a separate room.",null,1]
[null,"3.1.5.2","All instruments and equipment are dried in a separate place",null,1]
[null,"3.1.5.3","All instruments are packed in double wrappers  ",null,1]
["3.1.6 Sterilization","3.1.6","All wrapped instruments are indicated with thermal indicator and autoclaved in a separate room.",null,1]
["3.1.7 Storage","3.1.7","All sterile packs with sticker of sterilization date are stored in separate cupboards ",null,1]
["3.1.8 Collection and Distribution","3.1.8.1","System for single door collection and different route for distribution of the sterile supply exist and is practiced",null,1]
[null,"3.1.8.2","Sterile supplies are distributed using basket supply system or on-demand supply system",null,1]
["3.1.9 Inventory","3.1.9","All instruments and wrappers are recorded and inventory maintained",null,1]
["3.1.10 Infection prevention ","3.1.10.1","Staffs use personal protective equipment at work",null,1]
[null,"3.1.10.2","There are well labelled colored bins for waste disposal based on HCWM[1] guideline 2014 (MoHP)",null,1]
[null,"3.1.10.3","Hand‑washing facility with running water and liquid soap is available and being practiced.",null,1]
[null,"3.1.10.4","Chlorine solution is available and utilized for decontamination",null,1]
["Standard 3.1",null,"Total Obtained Score",{"$f":"SUM($D$821:$D$837)","v":0},{"$f":"SUM($E$821:$E$837)","v":19}]
[null,null,"Percentage = Total Obtained Score / 19 x 100",{"$f":"+$D$838/$E$838","v":{"v":0,"d":"0%"}}]
[]
[]
["Area","Code","Verification"]
["Laundry",3.2]
["Components",null,"Standards","Obtained Score","Maximum Score"]
["3.2.1 Space","3.2.1.1","Separate laundry room is available.",null,1]
[null,"3.2.1.2","Separate space allocated for clean and dirty linens",null,1]
["3.2.2 Staffing","3.2.2","There is a special schedule for collection and distribution of linens with visible duty roster for staffs",null,1]
["3.2.3 Equipment/ Supplies","3.2.3","Adequate equipment and supplies are available for laundry (See Annex 3.2a Equipment and Supplies for Laundry At the end of this standard).",{"$f":"+'Annex 3.1a-3.11a'!$D$59","v":0},3]
["3.2.4 Segregation and decontamination of linens","3.2.4.1","Linens are segregated (soiled, unsoiled, colorful, white, blood stained) before wash ",null,1]
[null,"3.2.4.2","Separated linens are decontaminated before wash",null,1]
["3.2.5 Cleaning","3.2.5","All linens are washed using a washing machine.",null,1]
["3.2.6 Drying","3.2.6.1","Space available for drying linens like blankets in direct sunlight.",null,1]
[null,"3.2.6.2","Linen dryer is available and used",null,1]
["3.2.7 Packing","3.2.7","All linens are ironed and packed properly.",null,1]
["3.2.8 Storage","3.2.8","Linens are properly stored in separate cupboard.",null,1]
["3.2.9 Distribution","3.2.9","All linens are distributed using a proper method (basket supply system and on-demand supply system).",null,1]
["3.2.10 Inventory","3.2.10","All linens are recorded and inventory maintained. ",null,1]
["3.2.11 Infection prevention ","3.2.11.1","Staff wear mask and gloves at work.",null,1]
[null,"3.2.11.2","There are well labelled colored bins for waste disposal based on HCWM[1] guideline 2014 (MoHP)",null,1]
[null,"3.2.11.3","Hand‑washing facility with running water and soap is available and being practiced.",null,1]
[null,"3.2.11.4","Chlorine solution is available and utilized for decontamination ",null,1]
["Standard 3.2",null,"Total Obtained Score",{"$f":"SUM($D$845:$D$861)","v":0},{"$f":"SUM($E$845:$E$861)","v":19}]
[null,null,"Percentage = Total Obtained Score/ 19 x 100",{"$f":"+$D$862/$E$862","v":{"v":0,"d":"0%"}}]
[]
[]
["Area","Code","Verification"]
["Housekeeping",3.3]
["Components",null,"Standards","Obtained Score","Maximum Score"]
["3.3.1 Space for storage","3.3.1","Separate space is allocated for storage of the housekeeping basic supplies",null,1]
["3.3.2 Staffing","3.3.2.1","Allocation of the staff for cleaning with visible duty roster ",null,1]
[null,"3.3.2.2","There is checklist of cleaning in each department with contact number of assigned working personnel",null,1]
["3.3.3 Basic Supplies","3.3.3","Basic supplies are available (See Annex 3.3a Housekeeping Basic Supplies  At the end of this standard)",{"$f":"+'Annex 3.1a-3.11a'!$D$98","v":0},3]
["3.3.4 Cleaning","3.3.4.1.1","The hospital premises are visibly clean and dust free",null,1]
[null,"3.3.4.1.2.1","All hospital toilets are clean with no offensive smell",null,1]
[null,"3.3.4.1.2.2","All toilets are cleaned at least three times a day",null,1]
[null,"3.3.4.3","All doors and windows of hospital are dust-free and cleaned once a day.",null,1]
[null,"3.3.4.4","All floors of the hospital are clean and cleaned at least twice a day (like- before registration in morning and after OPD closes)",null,1]
[null,"3.3.4.5","All walls of the hospital are clean and are tiled or painted with enamel up to 4 feet",null,1]
[null,"3.3.4.6","Every ward/unit must have high wash twice a month and fumigation as per need",null,1]
["3.3.5 Drainage of chlorine solution","3.3.5","Separate drainage system or pit is maintained for drainage of chlorine solution ",null,1]
["3.3.6 Garden","3.3.6","Garden and trees should cover at least 25% of the hospital premises ",null,1]
["Standard 3.3",null,"Total Obtained Score",{"$f":"SUM($D$869:$D$881)","v":0},{"$f":"SUM($E$869:$E$881)","v":15}]
[null,null,"Percentage = Total Obtained Score / 15 x 100",{"$f":"+$D$882/$E$882","v":{"v":0,"d":"0%"}}]
[]
[]
["Area","Code","Verification"]
["Repair, Maintenance and Power system",3.4]
["Components",null,"Standards","Obtained Score","Maximum Score"]
["3.4.1 Staffing","3.4.1.1","Human resource trained in biomedical engineer is designated for repair and maintenance",null,1]
[null,"3.4.1.2","Staffs assigned to cover 24 hours shift with visible duty roster for staffs.",null,1]
["3.4.2 Preventive Maintenance","3.4.2.1","Hospital has regular preventive maintenance practices (calibration, servicing of equipment) and corrective maintenance)",null,1]
[null,"3.4.2.2","Biomedical equipment inventory of all equipment and instrument is updated ",null,1]
[null,"3.4.2.3","Separate room for storage of repairing tools and instrument",null,1]
[null,"3.4.2.4","Availability of spare parts for repair and maintenance of biomedical equipment and instruments ",null,1]
[null,"3.4.2.5","Record keeping of repair and maintenance of biomedical equipment and instruments",null,1]
[null,"3.4.2.6","Specification of annual maintenance cost of major equipment",null,1]
["3.4.3 Availability of power sources","3.4.3.1","Hospital has main-grid power supply with three‑phase line",null,1]
[null,"3.4.3.2","Hospital has alternate power generator capable of running x-ray and other hospital equipment",null,1]
[null,"3.4.3.3","Proper inventory of fuel is maintained.",null,1]
[null,"3.4.3.4","Hospital has solar system installed (at least for essential clinical services and administrative function).",null,1]
["Standard 3.4",null,"Total Obtained Score",{"$f":"SUM($D$889:$D$900)","v":0},{"$f":"SUM($E$889:$E$900)","v":12}]
[null,null,"Percentage = Total Obtained Score / 12 x 100",{"$f":"+$D$901/$E$901","v":{"v":0,"d":"0%"}}]
[]
[]
["Area","Code","Verification"]
["Water supply",3.5]
["Component",null,"Standards","Obtained Score","Maximum Score"]
["3.5.1 Water supply","3.5.1","There is regular water supply system – boring or well or from drinking water supply dedicated for hospital",null,1]
["3.5.2 Water Storage "," 3.5.2.1","Water storage tank is covered to prevent contamination and cleaned on a regular basis",null,1]
[null," 3.5.2.2","Water storage tank has the reserve capacity to supply water for two full days in case of interruptions in main water supply ",null,1]
["3.5.3 Water quality "," 3.5.3","Water quality test is done every year and report is available as per Nepal Drinking Water Quality Standards, 2005  ",null,1]
["Standard 3.5",null,"Total Obtained Score",{"$f":"SUM($D$908:$D$911)","v":0},{"$f":"SUM($E$908:$E$911)","v":4}]
[null,null,"Percentage = Total Obtained Score / 4 x 100",{"$f":"+$D$912/$E$912","v":{"v":0,"d":"0%"}}]
[]
[]
["Area","Code","Verification"]
["Hospital Waste Management",3.6]
["Components",null,"Standards","Obtained Score","Maximum Score"]
["3.6.1 Work plan prepared and implemented","3.6.1","There is work plan prepared and implemented by hospital for hospital waste management",null,1]
["3.6.1 Staffing","3.6.1.1","There is allocation of staff for HCWM from segregation to final disposal ",null,1]
[null,"3.6.1.2","Whole site coaching/ orientation on health care waste management is done",null,1]
["3.6.2 Space","3.6.2","There is separate area/space designated for solid waste storage and management with functional hand washing facility",null,1]
["3.6.3 Segregation of waste on collection","3.6.3","Different colored bins (for risk and non-risk waste) are used during collection of waste",null,1]
["3.6.4 Personal protection","3.6.4","Staff use cap, mask, gloves, boot, and gown while collecting waste.",null,1]
["3.6.5 Public information","3.6.5","Information regarding proper use of waste bins is displayed publicly and basic information of HCWM is displayed in hospital premises",null,1]
["3.6.6 Medication trolley with waste segregation buckets","3.6.6","Medication trolley has well labeled buckets for segregation of waste during procedures  ",null,1]
["3.6.7 Transportation of waste within the hospital"," 3.6.7","Hospital uses transportation trolleys separate for risk and non-risk waste ",null,1]
["3.6.8 Disposal and recycle/reuse  of waste"," 3.6.8.1","Infectious waste is sterilized using autoclave before disposal",null,1]
[null," 3.6.8.2","Collection of recyclable/reusable items such as plastic bottles, paper, decontaminated sharps is practiced and sold to vendor/municipality",null,1]
[null," 3.6.8.3","Composting of bio-degradable waste is practiced",null,1]
[null," 3.6.8.4","Collection of waste by the local municipality/ rural municipality after sterilization /decontamination",null,1]
[null," 3.6.8.5","Placenta pit used for disposal of human anatomical waste such as placenta, human tissue",null,1]
[null,"3.6.8.6","Biogas plant in place and energy generated used for hospital support services",null,1]
["3.6.9 Pharmaceutical and radiological waste management","3.6.9","Pharmaceutical waste and radiological waste treated  and disposed based on the HCWM guideline 2014 (MoHP)",null,1]
["3.6.10 Liquid waste management","3.6.10","Hospital liquid waste management is done ",null,1]
["Standard 3.6",null,"Total Obtained Score",{"$f":"SUM($D$919:$D$935)","v":0},{"$f":"SUM($E$919:$E$935)","v":17}]
[null,null,"Percentage = Total Obtained Score / 17 x 100",{"$f":"+$D$936/$E$936","v":{"v":0,"d":"0%"}}]
[]
[]
["Area","Code","Verification"]
["Safety and Security",3.7]
["Component",null,"Standards","Obtained Score","Maximum Score"]
["3.7.1 Staffing of security personnel","3.7.1.1","Hospital has trained security personnel round the clock.",null,1]
[null,"3.7.1.2","All security staffs are oriented with hospital codes like 001- call for help for crashing patients, 007- call for disaster in ER",null,1]
[null,"3.7.1.3","All security staffs have participated in emergency drills",null,1]
["3.7.2 Office space allocated for security personnel","3.7.2","A separate office for security with communication system is available",null,1]
["3.7.3 Amenities ","3.7.3","Basic amenities for safety and security are available (See Annex 3.7a Safety and Security Basic Amenities Section At the end of this standard)",{"$f":"'Annex 3.1a-3.11a'!$D$117","v":0},3]
["3.7.4 Patient safety","3.7.4","The hospital has replaced all mercury apparatus with other appropriate technologies.",null,1]
["3.7.5 Continuous surveillance of hospital premises","3.7.5","CCTV coverage of major areas and control under Medical Superintendent and security in-charge",null,1]
["3.7.6 Hospital has disaster mitigation system","3.7.6.1","The hospital has fire extinguisher in all blocks including the fire extinguishing system ",null,1]
[null,"3.7.6.2","The hospital has installed safety alarm system including smoke detector",null,1]
[null,"3.7.6.3","The hospital has prevented lightening by ensuring earthing system in electrification.",null,1]
[null,"3.7.6.4","Disaster preparedness orientation has been given to all staff at least every six months.",null,1]
[null,"3.7.6.5","Exit signs are displayed to escape during disaster in all departments and wards",null,1]
[null,"3.7.6.6","An assembly zone has been specified for disaster",null,1]
[null,"3.7.6.7","Hospital has functional rapid response team ",null,1]
[null,"3.7.6.8","Medicine stock for post disaster response is available",null,1]
["Standard 3.7",null,"Total Obtained Score",{"$f":"SUM($D$943:$D$957)","v":0},{"$f":"SUM($E$943:$E$957)","v":17}]
[null,null,"Percentage = Total Obtained Score / 17 x 100",{"$f":"+$D$958/$E$958","v":{"v":0,"d":"0%"}}]
[]
[]
["Area","Code","Verification"]
["Transportation and Communication",3.8]
["Components",null,"Standards","Obtained Score","Maximum Score"]
["3.8.1 Transportation","3.8.1.1","24-hour ambulance service is available.",null,1]
[null,"3.8.1.2","Hospital has its own well-equipped ambulance at least 2",null,1]
[null,"3.8.1.3","The hospital has access to utility van",null,1]
["3.8.2 Communication","3.8.2.1","The hospital has telephone with intercom (EPABX) network.",null,1]
[null,"3.8.2.2","Internal communication (paging) system has been installed in all major service stations.",null,1]
[null,"3.8.2.3","A notice board is available and being utilized.",null,1]
[null,"3.8.2.4","List of important phone numbers including emergency contacts like ambulance, fire brigade, blood banks, hospital administration, hospital staffs is available in the reception, emergency and administration office",null,1]
[null,"3.8.2.5","There should be a public contact or information center in prime location of hospital with 24 hours staff availability",null,1]
["Standard 3.8",null,"Total Obtained Score",{"$f":"SUM($D$965:$D$972)","v":0},{"$f":"SUM($E$965:$E$972)","v":8}]
[null,null,"Percentage = Total Obtained Score / 8 x 100",{"$f":"+$D$973/$E$973","v":{"v":0,"d":"0%"}}]
[]
[]
["Area","Code"," Verification "]
["Store (Medical and Logistics)",3.9]
["Components",null,"Standards","Obtained Score","Maximum Score"]
["3.9.1 Space","3.9.1","Separate space allocated for store for hospital- medicine and logistics",null,1]
["3.9.2 Buffer stock in medical store","3.9.2.1","A separate hospital medical store with 3 months' buffer stock is available",null,1]
[null," 3.9.2.2","Minimum and Maximum stock levels for each item are calculated and used when re-ordering stock",null,1]
["3.9.3 Inventory"," 3.9.3.1","Electronic database system is used in the hospital medical store.",null,1]
[null," 3.9.3.2","Hospital submits quarterly reports to LMIS utilizing either paper report or web-based (eLMIS-7)",null,1]
["3.9.4 Disposal of expired medicine ","3.9.4","Disposal of expired medicine as per HCWM guideline 2014 (MoHP) is practiced in every six month",null,1]
["3.9.5 Auction of logistics","3.9.5","Auction of identified old logistics is done annually",null,1]
["Standard 3.9",null,"Total Obtained Score",{"$f":"SUM($D$980:$D$986)","v":0},{"$f":"SUM($E$980:$E$986)","v":7}]
[null,null,"Percentage = Total Obtained Score / 7 x 100",{"$f":"+$D$987/$E$987","v":{"v":0,"d":"0%"}}]
[]
[]
["Area","Code","Verification "]
["Hospital Canteen and Dietetics",{"v":3.1,"d":"3.10"}]
["Components",null,"Standards","Obtained Score","Maximum Score"]
["3.10.1 Time for patients/ visitors and staff","3.10.1","Hospital has canteen in its premises with 24 hours service",null,1]
["3.10.2 Information to patients/ visitors and staffs","3.10.2","A list of food items with price list approved by Hospital Management Committee is available",null,1]
["3.10.3 Physical facilities","3.10.3.1","Visibly clean floors and space allocated for cooking, cleaning and storage of stock",null,1]
[null,"3.10.3.2","Light and ventilation are adequately maintained.",null,1]
[null,"3.10.3.3","All walls of the canteen are clean and are tiled or painted with enamel up to 4 feet",null,1]
[null,"3.10.3.4","Safe drinking water is available 24 hours",null,1]
["3.10.4 Uniform for canteen staffs","3.10.4","Dress code is maintained",null,1]
["3.10.5 Food for inpatients","3.10.5","The inpatients who are identified needy or covered by SSU are provided with food at least four times a day and the food contains carbohydrate, fats, proteins and at least one vegetable item",null,1]
["3.10.6 IEC/ BCC materials","3.10.6","Appropriate IEC/ BCC materials (posters, leaflets, television) are available in the canteen for balanced diet",null,1]
["3.10.7 Facilities for staffs, patients and visitors","3.10.7","Comfortable space with sitting arrangement is available for at least 50 people",null,1]
["3.10.8 Infection prevention and food hygiene","3.10.8.1","Separate area designated for washing dishes and visibly clean.",null,1]
[null,"3.10.8.2","There are colored bins for waste segregation and  disposal based on HCWM guideline 2014 (MoHP)",null,1]
[null,"3.10.8.3","Hand‑washing facility with running water and soap is available  ",null,1]
[null,"3.10.8.4","Mesh/ net to cover food and refrigerator used to store food used to cover food ",null,1]
[null,"3.10.8.5","Rat proofing and daily scrubbing of the canteen is done",null,1]
[null,"3.10.8.6","Use of refrigerator for storage of food",null,1]
["Standard 3.10",null,"Total Obtained Score",{"$f":"SUM($D$994:$D$1009)","v":0},{"$f":"SUM($E$994:$E$1009)","v":16}]
[null,null,"Percentage = Total Obtained Score / 16x 100",{"$f":"+$D$1010/$E$1010","v":{"v":0,"d":"0%"}}]
[]
[]
["Area","Code","Verification"]
["Social Service Unit",3.11]
["Components",null,"Standards","Obtained Score","Maximum Score"]
["3.11.1 Time for patients"," 3.11.1.1","SSU open from 8am to 7pm",null,1]
[null," 3.11.1.2","Management committee to manage 24 hours SSU services for patients",null,1]
["3.11.2 Physical facilities for SSU services"," 3.11.2","Separate space allocated for SSU is accessible to patients (See Annex 3.11a Physical Facilities SSU At the end of this standard)",{"$f":"+'Annex 3.1a-3.11a'!$D$137","v":0},3]
["3.11.3 Staffing"," 3.11.3","Allocation of staffs for SSU under unit chief  a team of 2 to 10 facilitators",null,1]
["3.11.4 Identify and display target group and services covered"," 3.11.4","Refer to ‘deprived citizen treatment fund guideline 2071’ to identify target group, and display target group and services covered",null,1]
["3.11.5 Referral mechanism in place"," 3.11.5.1","Referral of patients based on treatment protocol",null,1]
[null," 3.11.5.2","Documentation of referral based on  ‘deprived citizen treatment fund guideline 2071’   ",null,1]
[null," 3.11.5.3","SSU allocates fund for transportation for referral ",null,1]
["3.11.6 Recording and reporting"," 3.11.6.1","Meetings of SSU every two months to review and discuss problems",null,1]
[null," 3.11.6.2","Daily display of names of persons receiving free and partially free services from the unit",null,1]
[null," 3.11.6.3"," Record information on free and partially free service recipients on the formats to records section of the concerned hospital",null,1]
[null," 3.11.6.4","Prepare and submit monthly, trimester and annual report to concerned authority",null,1]
[" Standard 3.11",null,"Total Obtained Score",{"$f":"SUM($D$1017:$D$1028)","v":0},{"$f":"SUM($E$1017:$E$1028)","v":14}]
[null,null,"Percentage = Total Obtained Score / 14 x 100",{"$f":"+$D$1029/$E$1029","v":{"v":0,"d":"0%"}}]

{"sheet":"Checklist 2.1","index":3,"n_rows":24,"n_cols":12,"rows_kept":24,"merged":[[0,1,0,11],[1,1,2,1],[1,2,2,2],[1,3,1,11],[15,2,15,11],[16,3,16,7],[17,3,17,6],[18,3,18,6],[19,3,19,6],[20,3,20,6],[21,3,21,6],[22,1,22,9],[23,1,23,11]]}
[null,"Checklist 2.1 OPD Services (1= General Medicine, 2= Obstetrics/ Gynecology, 3= Pediatrics, 4= General Surgery, 5= Orthopedics)"]
[null,"Code ","Service Standards","Score"]
[{"$nulls":3},1,2,3,4,5,"Total Score","Percentage","Scoring","Direction to use"]
[null,"2.1.1.1","OPD is open from 10 AM to 3 PM*",{"$nulls":5},{"$f":"SUM(D4:H4)","v":0},{"$f":"+I4/5","v":{"v":0,"d":"0%"}},{"$f":"IF($J4<=0.4999,0, IF($J4<=0.6999,1, IF($J4<=0.8499,2,3)))","v":0},"Go to Standard 2.1.1.2"]
[null,"2.1.3","Patient privacy maintained with separate rooms, curtains hung, maintaining queuing of patients with paging system in OPD",{"$nulls":5},{"$f":"SUM(D5:H5)","v":0},{"$f":"+I5/5","v":{"v":0,"d":"0%"}},{"$f":"IF($J5<=0.4999,0, IF($J5<=0.6999,1, IF($J5<=0.8499,2,3)))","v":0},"Go to Standard 2.1.4.1"]
[null,"2.1.4.1","Counseling is provided to patients about the type of treatment being given and its consequences",{"$nulls":5},0,{"v":0,"d":"0%"},0,"Go to Standard 2.1.4.2"]
[null,"2.1.5.1","Adequate rooms and space for the practitioners and patients are available ",{"$nulls":5},0,{"v":0,"d":"0%"},0,"Go to Standard 2.1.5.2"]
[null,"2.1.5.2","Light and ventilation are adequately maintained",{"$nulls":5},0,{"v":0,"d":"0%"},0,"Go to Standard 2.1.5.3"]
[null,"2.1.9","OPD register available in every OPD and ICD 10 classification for diagnosis recorded (electronic health recording system)",{"$nulls":5},0,{"v":0,"d":"0%"},0,"Go to Standard 2.1.10"]
[null,"2.1.10.1","Masks and gloves are available and used ",{"$nulls":5},0,{"v":0,"d":"0%"},0,"Go to Standard 2.1.10.2"]
[null,"2.1.10.2","There are well labelled colored bins for waste segregation and disposal as per HCWM guideline 2014 (MoHP)",{"$nulls":5},0,{"v":0,"d":"0%"},0,"Go to Standard 2.1.10.3"]
[null,"2.1.10.3","Hand‑washing facility with running water and soap or hand sanitizer is available for practitioners",{"$nulls":5},0,{"v":0,"d":"0%"},0,"Go to Standard 2.1.10.4"]
[null,"2.1.10.4","Needle cutter is used ",{"$nulls":5},0,{"v":0,"d":"0%"},0,"Go to Standard 2.1.10.5"]
[null,"2.1.10.5","Chlorine solution is available and utilized for decontamination ",{"$nulls":5},0,{"v":0,"d":"0%"},0,"Score Standard 2.1"]
[]
[null,null,"Total percentage = Total score / No. of OPD x 100; Each row gets a score of 1 in each row if is available otherwise 0"]
[{"$nulls":3},"Scoring Chart"]
[{"$nulls":3},"Total Percentage",{"$nulls":3},"Score"]
[{"$nulls":3},"0% - 50%",{"$nulls":3},0]
[{"$nulls":3},"50% - 70%",{"$nulls":3},1]
[{"$nulls":3},"70% - 85%",{"$nulls":3},2]
[{"$nulls":3},"85% - 100%",{"$nulls":3},3]
[null,"Plot score based on scoring chart in obtained marks of respective standards"]
[null,"*Specialized OPDs can be scheduled 2-3 days a week based on available human resource and patients’ flow"]

{"sheet":"Checklist 2.6","index":4,"n_rows":36,"n_cols":10,"rows_kept":36,"merged":[[0,1,0,9],[1,1,1,9],[28,4,28,7],[30,4,30,6],[31,4,31,6],[32,4,32,6],[33,4,33,6]]}
[null,"Checklist 2.6 Inpatient Services"]
[null,"(1= Medicine Ward 2= Surgery ward 3= Pediatrics Ward)"]
[null," Code","Service Standards",1,2,3,"Total Score","Percentage","Scoring","Direction to Use"]
[null,"2.6.1.1","Separate space for nursing station is available in each ward  ",{"$nulls":3},{"$f":"SUM(D4:F4)","v":0},{"$f":"+G4/3","v":{"v":0,"d":"0%"}},{"$f":"IF($H4<=0.4999,0, IF($H4<=0.6999,1, IF($H4<=0.8499,2,3)))","v":0},"Go to Standard 2.6.1.2"]
[null," 2.6.1.2","Separate changing room available for male and female staffs  ",{"$nulls":3},{"$f":"SUM(D5:F5)","v":0},{"$f":"+G5/3","v":{"v":0,"d":"0%"}},{"$f":"IF($H5<=0.4999,0, IF($H5<=0.6999,1, IF($H5<=0.8499,2,3)))","v":0},"Go to Standard 2.6.1.3"]
[null,"2.6.1.3","Separate store room is available  ",{"$nulls":3},0,{"v":0,"d":"0%"},0,"Go to Standard 2.6.2"]
[null,"2.6.4","There is a set of at least one table and two chairs in the nursing station and shelves for storage of charts and inpatient forms and formats ",{"$nulls":3},0,{"v":0,"d":"0%"},0,"Go to Standard 2.6.5 "]
[null," 2.6.5","Adequate numbers of nursing staff are available in ward per shift (nurse patient ratio 1:6 in general ward) and at least one trained office assistant/ward attendant per shift in each ward  ",{"$nulls":3},0,{"v":0,"d":"0%"},0,"Go to Standard 2.6.6"]
[null,"2.6.6","Duty roster of doctors, nurses, paramedics and support staffs kept visibly in nursing station ",{"$nulls":3},0,{"v":0,"d":"0%"},0,"Go to Standard 2.6.7 "]
[null,"2.6.7","Telephone facility is available with list of important contact numbers and hospital codes visibly kept ",{"$nulls":3},0,{"v":0,"d":"0%"},0,"Go to Standard 2.6.8 "]
[null,"2.6.8.1","All staffs in wards are trained for BLCS and oriented about emergency code 001 or blue code",{"$nulls":3},0,{"v":0,"d":"0%"},0,"Go to Standard 2.6.8.2 "]
[null,"2.6.8.3","At least one defibrillator in immediate accessible area ",{"$nulls":3},0,{"v":0,"d":"0%"},0,"Go to Standard 2.6.9"]
[null,"2.6.10.1","Separate area designated for admission of male and female inpatients in ward",{"$nulls":3},0,{"v":0,"d":"0%"},0,"Go to Standard 2.6.10.2"]
[null,"2.6.10.2","There are adequate separate toilets for male and female patients in each ward (1 for 6 female bed and 1 for 8 male beds)",{"$nulls":3},0,{"v":0,"d":"0%"},0,"Go to Standard 2.6.10.3"]
[null,"2.6.10.3","Safe drinking water is available 24 hours for inpatients",{"$nulls":3},0,{"v":0,"d":"0%"},0,"Go to Standard 2.6.10.4"]
[null,"2.6.10.4","Hours/ Time allocated for visitors to meet the inpatients and followed accordingly",{"$nulls":3},0,{"v":0,"d":"0%"},0,"Go to Standard 2.6.10.6"]
[null,"2.6.10.5","Separate space is available for patients’ visitors (KuruwaGhar).",{"$nulls":3},0,{"v":0,"d":"0%"},0,"Go to Standard 2.6.11"]
[null," 2.6.11","Basic information regarding admitted patients is displayed in a separate board  ",{"$nulls":3},0,{"v":0,"d":"0%"},0,"Go to Standard 2.6.11.2"]
[null,"2.6.12","Appropriate IEC/BCC materials (posters, leaflets etc.) are available in the inpatient ward with focus on infection prevention",{"$nulls":3},0,{"v":0,"d":"0%"},0,"Go to Standard 2.6.13"]
[null,"2.6.13","Admission and discharge registers are available and are being filled completely (HMIS 8.1 and 8.2)",{"$nulls":3},0,{"v":0,"d":"0%"},0,"Go to Standard 2.6.14"]
[null,"2.6.14.1","PPE are available and used whenever required ",{"$nulls":3},0,{"v":0,"d":"0%"},0,"Go to Standard 2.6.14.2"]
[null,"2.6.14.2","Each ward has hand sanitizer in visible place for health workers to use before and after touching patients",{"$nulls":3},0,{"v":0,"d":"0%"},0,"Go to Standard 2.6.14.3"]
[null,"2.6.14.3","There are well labelled color-coded bins for waste segregation and disposal as per HCWM guideline 2014 (MoHP)",{"$nulls":3},0,{"v":0,"d":"0%"},0,"Go to Standard 2.6.14.4"]
[null,"2.6.14.4","Hand‑washing facility with running water and liquid soap is available and being practiced ",{"$nulls":3},0,{"v":0,"d":"0%"},0,"Go to Standard 2.6.14.5 "]
[null,"2.6.14.5","Needle cutter is used",{"$nulls":3},0,{"v":0,"d":"0%"},0,"Go to Standard 2.6.14.6 "]
[null,"2.6.14.6","Chlorine solution is available and utilized for decontamination ",{"$nulls":3},0,{"v":0,"d":"0%"},0,"Score Standard 2.6"]
[null,"Each row gets a score of 1 if  available otherwise 0."]
[null,"Total Percentage = Total Score/ No of wards (8) x100"]
[{"$nulls":4},"Scoring Chart"]
[{"$nulls":4},"Total Percentage",null,null,"Score"]
[{"$nulls":4},"0% - 50%",null,null,0]
[{"$nulls":4},"50% - 70%",null,null,1]
[{"$nulls":4},"70% - 85%",null,null,2]
[{"$nulls":4},"85% - 100%",null,null,3]
[]
[null,"Plot the scoring based on the scoring chart and fill in the respective standards in tool and checklist"]

{"sheet":"Annex 1.3a","index":5,"n_rows":45,"n_cols":6,"rows_kept":45,"merged":[[0,1,0,5],[1,0,1,2],[2,0,2,5],[3,1,3,2],[4,1,4,2],[5,1,5,2],[6,1,6,2],[7,1,7,2],[8,1,8,2],[9,0,9,5],[10,2,10,3],[11,2,11,3],[12,2,12,3],[13,2,13,3],[14,2,14,3],[15,2,15,3],[16,2,16,3],[17,0,20,0],[17,1,20,1],[17,2,17,3],[17,5,20,5],[18,2,18,3],[19,2,19,3],[19,4,20,4],[20,2,20,3],[21,2,21,3],[22,2,22,3],[23,2,23,3],[24,2,24,3],[25,2,25,3],[26,2,26,3],[27,0,28,0],[27,1,28,1],[27,2,27,3],[27,5,28,5],[28,2,28,3],[29,1,29,5],[30,2,30,3],[31,2,31,3],[32,2,32,3],[33,2,33,3],[34,2,34,3],[35,0,35,3],[36,0,36,3],[38,2,38,3]]}
[null,"Annex 1.3a Functional Organogram for Secondary Hospitals"]
["Functional Organogram for Secondary Hospitals",{"$nulls":3},"Obtained Score","Maximum Score"]
["For Governance and Management"]
["1.      ","Medical Superintendent",null,1,null,1]
["2.      ","Hospital Management officer",null,1,null,1]
["3.      ","Information officer",null,1,null,1]
["5.      ","Medical recorder",null,1,null,1]
["4.      ","Accountant for hospital",null,1,null,1]
["6.      ","Health Insurance Team",null,"As per Health Insurance Board",null,1]
["For Clinical Services"]
["7.      ","Doctor: OPD Patients ","1:35-50 ",null,null,1]
["8.      ","Screening counter","1 paramedics: 4 OPDs (at least one nurse in gynae/obs OPD)",null,null,1]
["9.      ","Special clinics","2 mid-level health workers: 1 Special Clinic*\nFor safe abortion servies, at least one trained and certified medical officer / MDGP for the first trimester and second trimester safe abortion services",null,null,1]
["10.   ","ER beds: Health Workers","5 ER Beds: Doctor on duty (1): Nurse (1): Paramedics (1): Office Assistant (1) : There should be 1:1 nurse patient ratio in red area, 1:3 in yellow area and 1:6 in green area. ",null,null,1]
["11.   ","Pharmacy staffs as per pharmacy service guideline 2072","At least one is avialable\nAt least one assistant pharmacist with one helper in each shift with monthly duty roster to provide 24 hour service.",null,null,1]
["12.   ","Nursing and support staff in inpatient per shift ","Nurse patient ratio 1:6 in general ward, 1:4 in pediatric ward, 1:2 in high dependency or intermediate ward or post-operative ward with one trained ward attendant per shift in each ward  ",null,null,1]
["13.   ","Nursing staff in labor and maternity per shift","Nurse /SBA Trained/Midwife and mother ratio 1:2 in pre labor; 2:1 per delivery table and 1:6 in post natal ward with at least one ASBA trained medical officer on duty and one office assistant are available in each shift",null,null,1]
[14,"Surgery team per surgery","For one surgery, at least a team is composed of: MS/MDGP with one trained medical officer, two OT trained nurse (one scrub and one circulating), one Anesthesiologist/MDGP, one anesthesia assistant and one office assistant ( for cleaning and helping)",null,null,1]
[null,null,"For overall management of operation theatre, there is one OT nurse (with minimum bachelors degree) assigned as OT in-charge"]
[null,null,"At least one nurse in pre-anesthesia area for receiving and transferring of the patient"]
[null,null,"At least two ICU trained nurses for post anesthesia care for receiving patient after OT "]
[15,"Laboratory","At least 2 medical technologist, 3 lab staffs (1 Lab Technician1 Lab Assistant and 1 Helper) in each shift ",null,null,1]
[16,"X-ray","At least 2 staffs- 1 technician and 1 helper in each shift.",null,null,1]
[17,"USG","USG trained medical practitioner and mid-level health worker in each USG room",null,null,1]
[18,"Dental services","Dental Hygienest/ Dentist: OPD patients- 1:20 per day for the quality of care ",null,null,1]
[19,"Mortuary and medico-legal services","Trained medical officer for mortuary and medico-legal services at least one",null,null,1]
[20,"Physiotherapy","At least 1 physiotherapist trained in Bachelor in Physiotherapy (BPT), 2 Certificate in physiotherapy (CPT) or Diploma in physiotherapy  (DPT) and 1 office assistant treating 20 OPD patient per day.",null,null,1]
[21,"OCMC","At least one medical officer working in the hospital trained in medico-legal issues is available ",null,null,1]
[null,null,"At least three staff nurse working in the hospital (including 1 trained psycho social counselor) assigned for OCMC"]
[null,"For Hospital Support Services"]
[22,"CSSD","Separate staffs assigned for CSSD under leadership of trained nursing staff.",null,null,1]
[23,"Laundry and housekeeping","There is a special schedule for collection and distribution of linens with visible duty roster for staffs of laundry and housekeeping",null,null,1]
[24,"BMET","Human resource trained in BMET or DBEE is designated for repair and maintainance of biomedical equipment",null,null,1]
[25,"Security","The hospital has trained security personnel round the clock.",null,null,1]
[26,"SSU ","Facilitators at least 2 to 10 facilitators under the unit chief",null,null,1]
["Total Obtained Score",{"$nulls":3},{"$f":"SUM(E3:E35)","v":0},{"$f":"SUM(F4:F35)","v":26}]
["Total Percentage= Total Obtained Score/ 26 x100",{"$nulls":3},{"$f":"+E36/F36","v":{"v":0,"d":"0%"}}]
["Each row gets a score of 1 in each row if it is available otherwise 0. "]
[null,null,"Scoring Chart"]
[null,null,"Total percentage","Score"]
[null,null,"0%-50%",0]
[null,null,"50%-70%",1]
[null,null,"70%-85%",2]
[null,null,"85%-100%",3]
[null,null,"Score for Standard 1.3.3.1",{"$f":"IF($E37<=0.4999,0, IF($E37<=0.6999,1, IF($E37<=0.8499,2,3)))","v":0}]

{"sheet":"Annex 2.1a- 2.14a","index":6,"n_rows":1741,"n_cols":9,"rows_kept":1741,"merged":[[0,1,0,8],[1,1,1,8],[2,1,3,1],[2,2,3,2],[2,4,2,8],[12,1,12,3],[13,1,13,3],[14,1,14,3],[15,2,15,3],[15,7,15,8],[27,1,27,8],[28,1,28,8],[29,1,30,1],[29,2,30,2],[29,3,30,3],[29,4,29,8],[53,1,53,3],[54,1,54,3],[55,1,55,3],[57,2,57,3],[58,2,58,3],[71,1,71,4],[81,1,81,3],[82,1,82,3],[83,1,83,3],[84,3,84,4],[85,1,85,2],[86,1,86,2],[87,1,87,2],[88,1,88,2],[89,1,89,2],[90,1,90,2],[92,1,92,4],[103,1,103,3],[104,1,104,3],[105,1,105,5],[106,3,106,4],[115,1,115,4],[159,1,159,3],[160,1,160,3],[162,3,162,4],[171,1,171,4],[192,1,192,3],[193,1,193,3],[196,1,196,2],[196,3,196,4],[197,1,197,2],[198,1,198,2],[199,1,199,2],[200,1,200,2],[201,1,201,2],[202,1,202,2],[205,1,205,2],[206,1,206,4],[243,1,243,3],[244,1,244,3],[248,2,248,3],[256,1,256,3],[297,1,297,2],[298,1,298,2],[299,1,299,6],[300,2,300,3],[308,1,308,4],[323,1,323,4],[340,1,340,4],[347,1,347,4],[384,1,384,3],[385,1,385,3],[387,3,387,4],[395,1,395,4],[406,1,406,3],[407,1,407,3],[409,3,409,4],[417,1,417,3],[419,1,419,3],[428,1,428,2],[429,1,429,2],[431,3,431,4],[439,1,439,4],[455,1,455,3],[456,1,456,3],[458,3,458,4],[468,1,468,4],[479,1,479,3],[480,1,480,3],[482,3,482,4],[490,1,490,6],[491,1,491,6],[492,1,493,1],[492,2,493,2],[492,3,493,3],[492,4,492,6],[524,1,524,3],[525,1,525,3],[527,3,527,4],[537,1,537,6],[538,1,538,6],[539,1,540,1],[539,2,540,2],[539,3,540,3],[539,4,539,6],[552,1,552,3],[553,1,553,3],[556,3,556,4],[566,1,566,6],[567,1,567,6],[568,1,569,1],[568,2,569,2],[568,3,569,3],[568,4,568,6],[601,1,601,3],[602,1,602,3],[605,3,605,4],[615,1,615,4],[626,1,626,4],[640,1,654,1],[640,4,654,4],[656,1,661,1],[656,4,661,4],[663,1,667,1],[663,4,667,4],[670,1,670,3],[671,1,671,3],[673,3,673,4],[681,1,681,4],[683,1,683,4],[706,1,706,4],[737,1,737,3],[738,1,738,3],[740,2,740,3],[748,1,748,4],[785,1,785,3],[786,1,786,3],[788,3,788,4],[796,1,796,4],[829,1,829,3],[830,1,830,3],[832,2,832,3],[841,1,841,4],[854,1,854,3],[855,1,855,3],[858,2,858,3],[866,1,866,4],[901,1,901,3],[902,1,902,3],[904,3,904,4],[912,1,912,3],[914,1,914,3],[928,1,928,3],[941,1,941,3],[950,1,950,2],[951,1,951,2],[953,2,953,3],[962,1,962,3],[975,1,975,2],[976,1,976,2],[979,2,979,3],[987,1,987,3],[998,1,998,2],[999,1,999,2],[1001,2,1001,3],[1009,1,1009,4],[1060,1,1060,3],[1061,1,1061,3],[1063,3,1063,4],[1072,1,1072,4],[1091,1,1091,3],[1092,1,1092,3],[1095,3,1095,4],[1103,1,1103,4],[1121,1,1121,3],[1122,1,1122,3],[1124,3,1124,4],[1134,1,1134,4],[1158,1,1158,3],[1159,1,1159,3],[1161,3,1161,4],[1170,1,1170,4],[1172,1,1172,4],[1178,1,1178,4],[1192,1,1192,4],[1199,1,1199,4],[1211,1,1211,4],[1222,1,1222,4],[1231,1,1231,3],[1232,1,1232,3],[1234,3,1234,4],[1242,1,1242,3],[1244,1,1244,3],[1286,1,1286,3],[1292,1,1292,3],[1304,1,1304,3],[1316,1,1316,2],[1317,1,1317,2],[1319,2,1319,3],[1328,1,1328,4],[1350,1,1350,3],[1351,1,1351,3],[1353,3,1353,4],[1361,1,1361,4],[1367,1,1367,3],[1368,1,1368,3],[1370,3,1370,4],[1378,1,1378,4],[1391,1,1391,3],[1392,1,1392,3],[1394,3,1394,4],[1402,1,1402,4],[1418,1,1418,3],[1419,1,1419,3],[1421,3,1421,4],[1429,1,1429,5],[1439,1,1439,3],[1440,1,1440,3],[1441,1,1441,3],[1444,3,1444,4],[1453,1,1453,5],[1455,1,1455,5],[1463,1,1463,5],[1471,1,1471,5],[1476,1,1476,5],[1484,1,1484,5],[1486,1,1486,5],[1504,1,1504,5],[1516,1,1516,5],[1519,1,1519,5],[1525,1,1525,5],[1537,1,1537,3],[1538,1,1538,3],[1540,3,1540,4],[1549,1,1549,4],[1571,1,1571,3],[1572,1,1572,3],[1574,3,1574,4],[1583,1,1583,4],[1601,1,1601,3],[1602,1,1602,3],[1604,3,1604,4],[1612,1,1612,4],[1628,1,1628,3],[1629,1,1629,3],[1631,3,1631,4],[1639,1,1639,4],[1661,1,1661,3],[1662,1,1662,3],[1664,3,1664,4],[1672,1,1672,4],[1697,1,1697,3],[1698,1,1698,3],[1700,3,1700,4],[1708,1,1708,4],[1731,1,1731,3],[1732,1,1732,3],[1734,3,1734,4]]}
[null,"Annex 2.1a Furniture and Supplies for OPD"]
[null,"(1= General Medicine, 2= Obstetrics/ Gynecology, 3= Pediatrics, 4= General Surgery, 5= Orthopedics"]
[null,"SN","General Items","Required No.","Score"]
[{"$nulls":4},1,2,3,4,5]
[null,1,"Working desk","1 for each practitioner"]
[null,2,"Working Chairs","1 for each practitioner"]
[null,3,"Patient chairs","2 for each working desk"]
[null,4,"Examination table","1 in each OPD room"]
[null,5,"Foot Steps","1 in each OPD room"]
[null,6,"Curtain separator for examination beds","In each examination bed"]
[null,7,"Shelves for papers","As per need"]
[null,8,"Weighing scale","Adult and Child"]
[null,"Total Score",null,null,{"$f":"SUM(E5:E12)","v":0},{"$f":"SUM(F5:F12)","v":0},0,0,0]
[null,"Total Percentage = Total Score/8 X 100",null,null,{"$f":"+E13/8","v":{"v":0,"d":"0%"}},{"v":0,"d":"0%"},{"v":0,"d":"0%"},{"v":0,"d":"0%"},{"v":0,"d":"0%"}]
[null,"Each row gets a score of 1 in each row if is available otherwise 0"]
[null,null,"Scoring chart"]
[null,null,"Total percentage","Score"]
[null,null,"0% - 50%",0]
[null,null,"50% - 70%",1]
[null,null,"70% - 85%",2]
[null,null,"85% - 100%",3]
[null,null,"Score for Standard 2.1.5.3.1",{"$f":"IF(E14<=0.4999,0, IF(E14<=0.6999,1, IF(E14<=0.8499,2,3)))","v":0}]
[null,null,"Score for Standard 2.1.5.3.2",{"$f":"IF(F14<=0.4999,0, IF(F14<=0.6999,1, IF(F14<=0.8499,2,3)))","v":0}]
[null,null,"Score for Standard 2.1.5.3.3",{"$f":"IF(G14<=0.4999,0, IF(G14<=0.6999,1, IF(G14<=0.8499,2,3)))","v":0}]
[null,null,"Score for Standard 2.1.5.3.4",{"$f":"IF(H14<=0.4999,0, IF(H14<=0.6999,1, IF(H14<=0.8499,2,3)))","v":0}]
[null,null,"Score for Standard 2.1.5.3.5",{"$f":"IF(I14<=0.4999,0, IF(I14<=0.6999,1, IF(I14<=0.8499,2,3)))","v":0}]
[]
[null,"Annex 2.1b Basic Equipment and Instruments for OPD"]
[null,"(1= General Medicine, 2= Obs/Gyne, 3= Pediatrics, 4= General Surgery, 5= Orthopedics)"]
[null,"S.No.","Basic equipment and instruments","Required No.","Score"]
[{"$nulls":4},1,2,3,4,5]
[null,"1.      ","Stethoscope*","1 for each practitioner"]
[null,"2.      ","Sphygmomanometer* (non-mercury) (*Pediatric size in pediatric OPD)","1 for each practitioner"]
[null,"3.      ","Thermometer (digital)","2 in each table"]
[null,"4.      ","Jerk hammer","1 for each practitioner"]
[null,"5.      ","Flash light","1 for each practitioner"]
[null,"6.      ","Disposable wooden tongue depressor","As per need"]
[null,"7.      ","Hand sanitizer ","1 in each table"]
[null,"8.      ","Examination Gloves","As per need"]
[null,"9.      ","X-Ray View Box","1 in each OPD"]
[null,"10.    ","Measuring tape","1 in each table"]
[null,"11.    ","Tuning fork","1 in each table"]
[null,"12.    ","Proctoscope",1]
[null,"13.    ","Otoscope",1]
[null,"14.    ","Duck’s Speculum",1]
[null,"15.    ","Aeyer’s Spatula/ Slides (Pap Smear/ VIA materials)",1]
[null,"16.    ","Betadine/Swab",1]
[null,"17.    ","Fetoscope",1]
[null,"18.    ","Abdominal drape for patient","As per need"]
[null,"19.    ","Pediatric Paracetamol ","At least one syrup"]
[null,"20.    ","Oral Rehydration Solution","At least one sachet"]
[null,"21.    ","Goniometer","1 in each table"]
[null,"22.    ","Plaster cutter",1]
[null,"Total score",null,null,{"$f":"SUM(E32:E53)","v":0},{"$f":"SUM(F32:F53)","v":0},0,0,0]
[null,"Maximum Score",null,null,13,16,13,13,13]
[null,"Total percentage= Total Score/ Maximum Score x 100",null,null,{"$f":"+E54/13","v":{"v":0,"d":"0%"}},{"$f":"+F54/16","v":{"v":0,"d":"0%"}},{"$f":"+G54/13","v":{"v":0,"d":"0%"}},{"$f":"+H54/13","v":{"v":0,"d":"0%"}},{"$f":"+I54/13","v":{"v":0,"d":"0%"}}]
[]
[null,null,"Each row gets a score of 1 in each row if is available otherwise 0"]
[null,null,"Scoring chart"]
[null,null,"Total percentage","Score"]
[null,null,"0% - 50%",0]
[null,null,"50% - 70%",1]
[null,null,"70% - 85%",2]
[null,null,"85% - 100%",3]
[null,null,"Score for Standard 2.1.6.1",{"$f":"IF(E56<=0.4999,0, IF(E56<=0.6999,1, IF(E56<=0.8499,2,3)))","v":0}]
[null,null,"Score for Standard 2.1.6.2",{"$f":"IF(F56<=0.4999,0, IF(F56<=0.6999,1, IF(F56<=0.8499,2,3)))","v":0}]
[null,null,"Score for Standard 2.1.6.3",{"$f":"IF(G56<=0.4999,0, IF(G56<=0.6999,1, IF(G56<=0.8499,2,3)))","v":0}]
[null,null,"Score for Standard 2.1.6.4",{"$f":"IF(H56<=0.4999,0, IF(H56<=0.6999,1, IF(H56<=0.8499,2,3)))","v":0}]
[null,null,"Score for Standard 2.1.6.5",{"$f":"IF(I56<=0.4999,0, IF(I56<=0.6999,1, IF(I56<=0.8499,2,3)))","v":0}]
[]
[]
[null,"Annex 2.2.1a Instruments, equipment and Supplies for Immunization and Growth Monitoring"]
[null,"SN","Name","Required Quantity","Score"]
[null,1,"Weighing scale (Infantometer and Secca Scale)","At least one each"]
[null,2,"Stadiometer","At least one"]
[null,3,"MUAC tape",2]
[null,4,"Cold chain box set","At least one set"]
[null,5,"Immunization as per national protocol","At least two vial/ampule each"]
[null,6,"Different size syringe for immunization (1,2,3,5,10 ml)","At least 10 each"]
[null,7,"Cotton in swab container","As per needed"]
[null,8,"Container for clean water","As per needed"]
[null,"Total score",null,null,{"$f":"SUM(E74:E81)","v":0}]
[null,"Percentage = Total score/  8 x 100",null,null,{"$f":"+E82/8","v":{"v":0,"d":"0%"}}]
[null,"Each row gets a score of 1 in each row if is available otherwise 0"]
[{"$nulls":3},"Scoring Chart"]
[{"$nulls":3},"Total Percentage","Score"]
[{"$nulls":3},"0% - 50%",0]
[{"$nulls":3},"50% - 70%",1]
[{"$nulls":3},"70% - 85%",2]
[{"$nulls":3},"85% - 100%",3]
[{"$nulls":3},"Score for Standard 2.2.1.5",{"$f":"IF(E83<=0.4999,0, IF(E83<=0.6999,1, IF(E83<=0.8499,2,3)))","v":0}]
[]
[null,"Annex 2.2.2a Supplies for Family Planning"]
[null,"SN","Name","Required Quantity","Score"]
[null,"1.      ","Condoms","As per needed"]
[null,"2.      ","Combined oral contraceptive pills","As per needed"]
[null,"3.      ","IUD","As per needed"]
[null,"4.      ","IUD Insertion and removal Set","At least 2"]
[null,"5.      ","Implants","As per needed"]
[null,"6.      ","Implants insertion and removal set","At least 2"]
[null,"7.      ","Injection Depo provera","As per needed"]
[null,"8.      ","Emergency contraceptive pills"," As per need"]
[null,"9.      ","Sterile surgical gloves (different sizes)","2 each of different size"]
[null,"Total score",null,null,{"$f":"SUM(E95:E103)","v":0}]
[null,"Percentage = Total score/ 9 x 100",null,null,{"$f":"+E104/9","v":{"v":0,"d":"0%"}}]
[null,"Each row gets a score of 1 in each row if is available otherwise 0"]
[{"$nulls":3},"Scoring Chart"]
[{"$nulls":3},"Total Percentage","Score"]
[{"$nulls":3},"0% - 50%",0]
[{"$nulls":3},"50% - 70%",1]
[{"$nulls":3},"70% - 85%",2]
[{"$nulls":3},"85% - 100%",3]
[{"$nulls":3},"Score for Standard 2.2.2.6",{"$f":"IF(E105<=0.4999,0, IF(E105<=0.6999,1, IF(E105<=0.8499,2,3)))","v":0}]
[]
[]
[null,"Annex 2.2.4a Instruments, equipments and supplies for Safe Abortion services"]
[null,"SN","Name","Required Quantity","Score"]
[null,"1.      ","Shelf for storage","At least 1"]
[null,"2.      ","Reliable Light source (goose neck light)","At least 1"]
[null,"3.      ","Oxygen concentrater/ Oxygen filled cylinder with flow meter and  mask","At least 1 Set"]
[null,"4.      ","Light view box with glass/ plastic container and sieve for POC check","At least 1 each"]
[null,"5.      ","Intubation set adult","1 set"]
[null,"6.      ","IV stand","At least 1"]
[null,"7.      ","Surgical drum (2)","As per needed"]
[null,"8.      ","Sterilized Chettle forceps with jar ","At least 2"]
[null,"9.      ","Bivalve Speculum (3 sized- small, medium and large)","At least 3 each"]
[null,"10.   ","Stainless steel container with cover for storing instruments","At least 2"]
[null,"11.   ","Cheatle’s forceps with jar","At least 2"]
[null,"12.   ","Instrument trolley","At least 2"]
[null,"13.   ","Abdominal drapes","As per need"]
[null,"14.   ","MVA aspirator  ","At least 2"]
[null,"15.   ","MVA cannula sizes 4-12","At least 2 each"]
[null,"16.   ","MVA cannula number (14 & 16) ","At least 2 each"]
[null,"17.   ","MVA set","At least 2 Set"]
[null,"18.   ","D&E set ","At least 2 Set"]
[null,"19.   ","Suture set with Long needle holder","At least 2"]
[null,"20.   ","Combi-pack (Mifepristone and Misoprostol)"]
[null,"21.   ","Misoprostol only to treat incomplete abortion"]
[null,"22.   ","Antibiotics (Injection Metronidazole 500mg/100ml, Tab Azithromycin 500mg)","As per need"]
[null,"23.   ","Uterotonics (Injection Oxytocin, Tablet Misoprotol, Injection ergometrine)","As per need"]
[null,"24.   ","Injection Xylocaine 1% /2% without adrenaline","2 vail each"]
[null,"25.   ","Injection Atropine ","10 ampules"]
[null,"26.   ","Injection Adrenaline ","10 ampules"]
[null,"27.   ","Injection Hydrocortisone ","At least 3 vail"]
[null,"28.   ","Injection Dexamethasone ","At least 3 vail"]
[null,"29.   ","Distilled Water (100ml)","At least 2 bottles"]
[null,"30.   ","Gloves (disposable) for P/V examination","At least 2 box"]
[null,"31.   ","Surgical gloves different size","At least 2 each"]
[null,"32.   ","Betadine Solution ","At least 1 bottle"]
[null,"33.   ","Disposable syringes 2 ml, 5 ml, 10 ml, 20 ml","At least 5 each"]
[null,"34.   ","ET tubes of different size","At least 2 of each size"]
[null,"35.   ","IV fluids (Normal Saline 0.9%, Ringers; Lactate, Dextrose 5% Normal Saline 0.9%)","At least 5 each"]
[null,"36.   ","IV Infusion set ","At least 5"]
[null,"37.   ","IV canula (18 Gz, 20Gz)","At least 2 each"]
[null,"38.   ","Foley’s catheter and Urobag, ","At least 2 set"]
[null,"39.   ","Sutures of different size","At least 5 each"]
[null,"40.   ","Soft brush for cleaning equipments","At least 2"]
[null,"41.   ","Bucket or Basin  "," 2-3 each of different size"]
[null,"42.   ","IP flex available for processing MVA aspirator and cannula","One"]
[null,"Total score",null,null,{"$f":"SUM(E118:E159)","v":0}]
[null,"Percentage = Total score/ 42 x 100",null,null,{"$f":"E160/42","v":{"v":0,"d":"0%"}}]
[null,"Each row gets a score of 1 in each row if is available otherwise 0"]
[{"$nulls":3},"Scoring Chart"]
[{"$nulls":3},"Total Percentage","Score"]
[{"$nulls":3},"0% - 50%",0]
[{"$nulls":3},"50% - 70%",1]
[{"$nulls":3},"70% - 85%",2]
[{"$nulls":3},"85% - 100%",3]
[{"$nulls":3},"Score for Standard 2.2.4.7.1",{"$f":"IF(E161<=0.4999,0, IF(E161<=0.6999,1, IF(E161<=0.8499,2,3)))","v":0}]
[]
[]
[null,"Annex 2.3a Furniture and General Supplies for ER"]
[null,"S.No.","Furniture and General Supplies","Required Quantity","Score"]
[null,"1.      ","Wheel chair ","2 for every 5 ER beds"]
[null,"2.      ","Trolley ","1 for every 5 ER beds"]
[null,"3.      ","Stretcher ","1 for every 5 ER beds"]
[null,null,"Information board",1]
[null,"5.      ","Foot Step ","2 for every 5 ER beds"]
[null,null,"Working Table/Station with 2 chairs",1]
[null,null,"Stool (for visitor) each bed",1]
[null,"8.      ","Medicine Rack",1]
[null,"9.      ","Supplies Rack",1]
[null,"10.   ","Waste Bins (color coded and labelled as per HCWM guideline 2014 (MoHP))","1 set for every 5 ER beds"]
[null,"11.   ","Poisoning Chart",1]
[null,"12.   ","Telephone set/Mobile",1]
[null,"13.   ","Reference Books with cupboard ",1]
[null,"14.   ","Cup Board for narcotics",1]
[null,"15.   ","Screen","As per need"]
[null,"16.   ","Cart/Trolley with medicines for emergency procedures",1]
[null,"17.   ","IV stand","At least one per bed"]
[null,"18.   ","Bed Pan","2 for every 5 bed"]
[null,"19.   ","Urinal","2 for every 5 bed"]
[null,"Total Score",null,null,{"$f":"SUM(E174:E192)","v":0}]
[null,"Total Percentage = Total Score/19 X 100",null,null,{"$f":"+E193/19","v":{"v":0,"d":"0%"}}]
[]
[null,"Each row gets a score of 1 if all the required number is available otherwise 0."]
[{"$nulls":3},"Scoring chart"]
[{"$nulls":3},"Total percentage","Score"]
[{"$nulls":3},"0% - 50%",0]
[{"$nulls":3},"50% - 70%",1]
[{"$nulls":3},"70% - 85%",2]
[{"$nulls":3},"85% - 100%",3]
[{"$nulls":3},"Score for Standard  2.3.3.2",{"$f":"IF(E194<=0.4999,0, IF(E194<=0.6999,1, IF(E194<=0.8499,2,3)))","v":0}]
[]
[]
[]
[null,"Annex 2.3b ER Equipment and Instrument"]
[null,"SN","Equipment /Instruments","Required No.","Score"]
[null,"1.      ","ECG machine (12 Leads)",1]
[null,"2.      ","Defibrillator",1]
[null,"3.      ","Foot / Electric Suction Machine ",2]
[null,"4.      ","Portable ventilator/ Non-invasive ventilator",1]
[null,"5.      ","Positive Airway Pressure machine with accessories",1]
[null,"6.      ","Nebulizer set",1]
[null,"7.      ","Cardiac monitors with non-invasive BP cuffs","1 (For 5 beds)"]
[null,"8.      ","BP set and Stethoscope (each treatment room)",2]
[null,"9.      ","Pulse oximeter",1]
[null,"10.   ","Glucometer with strips",1]
[null,"11.   ","Duck Speculum",2]
[null,"12.   ","Protoscope",2]
[null,"13.   ","Otoscope set ",1]
[null,"14.   ","Nasal Speculum ",1]
[null,"15.   ","Laryngoscope with batteries and blades",2]
[null,"16.   ","ET tubes of different sizes","At least 2 each"]
[null,"17.   ","Torch Light",2]
[null,"18.   ","Geudel Airway",2]
[null,"19.   ","Ambu Bag (Adult and Pediatric)",2]
[null,"20.   ","Bougie",2]
[null,"21.   ","Endotracheal tube of different sizes",6]
[null,"22.   ","Different size mask",6]
[null,"23.   ","Laryngeal mask airway (Adult and Peadiatric)","1 each"]
[null,"24.   ","Oxygen tubes and masks","10 each"]
[null,"25.   ","Suture Set",4]
[null,"26.   ","Catheterization set",2]
[null,"27.   ","Dressing set",2]
[null,"28.   ","Water sealed drainage set",1]
[null,"29.   ","N/G tube Aspiration set",1]
[null,"30.   ","Ear Irrigation Set",1]
[null,"31.   ","Cervical collar",4]
[null,"32.   ","Spinal backboard",1]
[null,"33.   ","Splints",3]
[null,"34.   ","Arm Slings",3]
[null,"35.   ","Portable Light",2]
[null,"Total Score",null,null,{"$f":"SUM(E209:E243)","v":0}]
[null,"Total Percentage = Total Score/35X 100",null,null,{"$f":"+E244/35","v":{"v":0,"d":"0%"}}]
[]
[null,"Each row gets a score of 1 if all the required number is available otherwise 0."]
[]
[null,null,"Scoring chart"]
[null,null,"Total percentage","Score"]
[null,null,"0% - 50%",0]
[null,null,"50% - 70%",1]
[null,null,"70% - 85%",2]
[null,null,"85% - 100%",3]
[null,null,"Score for Standard 2.3.4",{"$f":"IF(E245<=0.4999,0, IF(E245<=0.6999,1, IF(E245<=0.8499,2,3)))","v":0}]
[]
[null,"Annex 2.3c Medicines and supplies for ER (required number proportionate to ER beds 1:2)"]
[null,"SN","Name","Score"]
[null,"1.      ","Atropine Injection"]
[null,"2.      ","Adrenaline Injection"]
[null,"3.      ","Xylocaine 1% and 2% Injections with Adrenaline"]
[null,"4.      ","Xylocaine 1% and 2 % Injections without Adrenaline"]
[null,"5.      ","Xylocaine Gel"]
[null,"6.      ","Diclofenac Injection"]
[null,"7.      ","Hyoscine Butylbromide Injection"]
[null,"8.      ","Diazepam injection"]
[null,"9.      ","Morphine Injection / Pethidine Injection"]
[null,"10.   ","Hydrocortisone Injection"]
[null,"11.   ","Antihistamine Injection "]
[null,"12.   ","Dexamethasone Injection"]
[null,"13.   ","Ranitidine/Omeperazole Injection "]
[null,"14.   ","Frusemide Injection"]
[null,"15.   ","Dopamine injection"]
[null,"16.   ","Noradrenaline injection"]
[null,"17.   ","Digoxin injection"]
[null,"18.   ","Verapamil injection"]
[null,"19.   ","Amidarone injection"]
[null,"20.   ","Glyceryl trinitrate injection/ tab "]
[null,"21.   ","Labetolol injection"]
[null,"22.   ","Magnesium Sulphate injection (loading dose)"]
[null,"23.   ","Sodium bicarbonate injection"]
[null,"24.   ","Calcium Gluconate injection"]
[null,"25.   ","Ceftriaxone Injection"]
[null,"26.   ","Metronidazole Injection"]
[null,"27.   ","Charcoal Power"]
[null,"28.   ","Normal Saline Injection"]
[null,"29.   ","Ringers’ Lactate Injection"]
[null,"30.   ","Dextrose 5% Normal Saline Injection"]
[null,"31.   ","Dextrose 5% Injection"]
[null,"32.   ","Dextrose 25%/50% Injection (ampoule )"]
[null,"33.   ","IV Infusion set (Adult/Pediatric)"]
[null,"34.   ","IV Canula (16, 18, 20, 22, 24, 26 Gz)"]
[null,"35.   ","Foley’s Catheter (different French)"]
[null,"36.   ","Disposable syringes (1 ml, 3 ml, 5 ml, 10 ml, 20 ml, 50 ml)"]
[null,"37.   ","Disposable Gloves (Size- 6, 6.5, 7, 7.5)"]
[null,"38.   ","Distilled Water"]
[null,"39.   ","Sodium chloride-15%w/v and Glycerin-15% w/v (for enema)"]
[null,"Total Score",null,{"$f":"SUM(D259:D297)","v":0}]
[null,"Total Percentage = Total Score/39 X100",null,{"$f":"+D298/39","v":{"v":0,"d":"0%"}}]
[null,"Each row gets a score of 1 if all the required number is available otherwise 0."]
[null,null,"Scoring chart"]
[null,null,"Total percentage","Score"]
[null,null,"0% - 50%",0]
[null,null,"50% - 70%",1]
[null,null,"70% - 85%",2]
[null,null,"85% - 100%",3]
[null,null,"Score for Standard 2.3.5.1",{"$f":"IF(D299<=0.4999,0, IF(D299<=0.6999,1, IF(D299<=0.8499,2,3)))","v":0}]
[]
[null,"Annex 2.3d List of equipment, instrument, medicine and supplies for Disaster Store"]
[null,"S.No.","Equipment and Instruments","Required Number","Score"]
[null,"1.      ","Stretcher/ trolley",5]
[null,"2.      ","Spinal boards",5]
[null,"3.      ","Wheel chairs",5]
[null,"4.      ","Medicine trolley",2]
[null,"5.      ","Portable suction machine",2]
[null,"6.      ","Nebulizer machine",2]
[null,"7.      ","Fluid warmer ",2]
[null,"8.      ","Bp instrument",10]
[null,"9.      ","Stethoscope",10]
[null,"10.   ","Saturation probe",5]
[null,"11.   ","Thermometer",5]
[null,"12.   ","Suture sets",5]
[null,"13.   ","Dressing sets",5]
[null,"MEDICINES"]
[null,"14.   ","Tetanus Toxoid Injection",50]
[null,"15.   ","Diclofenac Paracetamol Injection",50]
[null,"16.   ","Tramadol Injection",50]
[null,"17.   ","Ondensterone Injection",50]
[null,"18.   ","Cefazoline Injection",20]
[null,"19.   ","Metronidazole Injection",20]
[null,"20.   ","Ketorolac Injection",20]
[null,"21.   ","Transemic Acetate Injection",20]
[null,"22.   ","Atropine Injection",50]
[null,"23.   ","Adrenaline Injection",50]
[null,"24.   ","Midazolam Injection",20]
[null,"25.   ","Xylocaine 2% Injection",20]
[null,"26.   ","Vitamin B-complex  Injection",20]
[null,"27.   ","Succinylcholine Injection",20]
[null,"28.   ","Normal Saline /Ringers’ Lactate/ Dextrose 5% Normal Saline Injection ","20 each"]
[null,"29.   ","Hemaecel Injection",5]
[null,"Intubation articles"]
[null,"30.   ","Ambu bag (adult,paed.)",10]
[null,"31.   ","Resuscitation masks (adult, pediatric, newborn)","10 each"]
[null,"32.   ","Endo-tracheal(ET) tubes different size","5 each"]
[null,"33.   ","Airways",5]
[null,"34.   ","Laryngoscope",5]
[null,"35.   ","ECG Leads",30]
[null,"SUPPLIES"]
[null,"36.   ","Triage tags",100]
[null,"37.   ","Extra I/V stand",20]
[null,"38.   ","Portable oxygen cylinder",5]
[null,"39.   ","Plastic aprons",10]
[null,"40.   ","Gowns",10]
[null,"41.   ","Extra Mattress",50]
[null,"42.   ","Blankets",50]
[null,"43.   ","Screens",3]
[null,"44.   ","Scissors",5]
[null,"45.   ","Splints",15]
[null,"46.   ","Cervical collar(hard/soft) ",20]
[null,"47.   ","Arm slings",20]
[null,"48.   ","Pelvic binder",5]
[null,"49.   ","Bandages",50]
[null,"50.   ","Crepe bandage",20]
[null,"51.   ","Elastoplast",20]
[null,"52.   ","Leuckoplast",20]
[null,"53.   "," Nebulizer kit set",2]
[null,"54.   ","Oxygen masks",10]
[null,"55.   ","Pressure Monitoring (PMO) line (for infusion)",10]
[null,"56.   ","Chest tube set (No.28,32) ",10]
[null,"57.   ","Drainage bag ",20]
[null,"58.   ","Foleys catheter/ urobag","20 each"]
[null,"59.   ","Surgical gloves Different Size","30 of each size"]
[null,"60.   ","Examination gloves","2 boxes"]
[null,"61.   ","Utility gloves",10]
[null,"62.   ","Betadine /spirit",10]
[null,"63.   ","IVCannulas of all size, IV set and Buret Set","20 each"]
[null,"64.   ","Syringes of different size (3ml,5ml, and 10ml) / (20ml, 50ml)","50 each/ 20 each"]
[null,"65.   ","Suction   tubes different size","5 each "]
[null,"66.   ","Yanker suction",1]
[null,"67.   ","Sterile gauze, cotton, dressing pads. ","1 medium size steel drum each"]
[null,"68.   ","Hand Sanitizer ",20]
[null,"69.   ","Torch lights ",5]
[null,"70.   ","Note book",10]
[null,"71.   ","Ball pens",10]
[null,"Total score",null,null,{"$f":"SUM(E311:E384)","v":0}]
[null,"Total percentage = Total Score/ 71 x100",null,null,{"$f":"+E385/71","v":{"v":0,"d":"0%"}}]
[null,null,"Each row gets a score of 1 if all the required number is available otherwise 0."]
[{"$nulls":3},"Scoring chart"]
[{"$nulls":3},"Total percentage","Score"]
[{"$nulls":3},"0% - 50%",0]
[{"$nulls":3},"50% - 70%",1]
[{"$nulls":3},"70% - 85%",2]
[{"$nulls":3},"85% - 100%",3]
[{"$nulls":3},"Score for Standard 2.3.10.4",{"$f":"IF(E386<=0.4999,0, IF(E386<=0.6999,1, IF(E386<=0.8499,2,3)))","v":0}]
[]
[null,"Annex 2.4a Furniture, Equipment, Instruments and Supplies for DIRP"]
[null,"SN","General items","Required No.","Score"]
[null,"1.      ","Treatment beds",1]
[null,"2.      ","Working Table",1]
[null,"3.      ","Chairs",1]
[null,4,"Bowl with Chlorines Solution (set)",1]
[null,"5.      ","Bucket with soap water",1]
[null,"6.      ","Needle cutter",1]
[null,"7.      ","Flash Light",1]
[null,"8.      ","Portable Lamp",1]
[null,"9.      ","Wall clock",1]
[null,"Total Score",null,null,{"$f":"SUM(E398:E406)","v":0}]
[null,"Total percentage= Total/ 9 x 100",null,null,{"$f":"+E407/9","v":{"v":0,"d":"0%"}}]
[null,"Each row gets a score of 1 if the mentioned test is available otherwise 0."]
[{"$nulls":3},"Scoring Chart"]
[{"$nulls":3},"Total percentage","Score"]
[{"$nulls":3},"0% - 50%",0]
[{"$nulls":3},"50% - 70%",1]
[{"$nulls":3},"70% - 85%",2]
[{"$nulls":3},"85% - 100%",3]
[{"$nulls":3},"Score for Standard 2.4.2",{"$f":"IF(E408<=0.4999,0, IF(E408<=0.6999,1, IF(E408<=0.8499,2,3)))","v":0}]
[]
[null,"Annex 2.4b List of Minimum Services for DIRP "]
[null,"S.No.","Services/ Procedure Available","Score"]
[null,"Minor"]
[null,"1.      ","Simple dressing change"]
[null,"2.      ","Skin suture removal"]
[null,"3.      ","Splinting"]
[null,"4.      ","Multiple wound dressing"]
[null,"5.      ","Large wounds requiring padding"]
[null,"6.      ","Dressing change under local Anesthesia "]
[null,"7.      ","Incision and drainage"]
[null,"8.      ","Catheterization (insertion and removal)"]
[null,"Total score",null,{"$f":"SUM(D420:D428)","v":0}]
[null,"Total Percentage= Total score/8 x 100",null,{"$f":"+D429/8","v":{"v":0,"d":"0%"}}]
[null,"Each row gets a score of 1 if all the required number is available otherwise 0."]
[{"$nulls":3},"Scoring chart"]
[{"$nulls":3},"Total percentage","Score"]
[{"$nulls":3},"0% - 50%",0]
[{"$nulls":3},"50% - 70%",1]
[{"$nulls":3},"70% - 85%",2]
[{"$nulls":3},"85% - 100%",3]
[{"$nulls":3},"Score for Standard 2.4.3",{"$f":"IF(D430<=0.4999,0, IF(D430<=0.6999,1, IF(D430<=0.8499,2,3)))","v":0}]
[]
[null,"Annex 2.4c Medicines and supplies for DIRP"]
[null,"SN","Supplies","Required No.","Score"]
[null,"1.      ","Lignocaine Hydrochloride 1%","2-3"]
[null,"2.      ","Lignocaine Hydrochloride 2%","2-3"]
[null,"3.      ","Lignocaine Hydrochloride 2% with adrenaline","2-3"]
[null,"4.      ","Povidone Iodine Solution","2-3"]
[null,"5.      ","Hydrogen Peroxide Solution",1]
[null,"6.      ","Cottone Bandage","As per the need"]
[null,"7.      ","Silk 2-0","As per the need"]
[null,"8.      ","Polypropylene (Prolene) 2-0, 3-0, 4-0","As per the need (2-3)"]
[null,"9.      ","Catheter of different size","2 of each size"]
[null,"10.   ","Sprit",2]
[null,"11.   ","Disposable Syringes 1 ml, 3 ml, 5 ml, 10 ml","As per the need"]
[null,"12.   ","Sterile gloves different size","As per the need"]
[null,"13.   ","Disposable gloves","As per the need"]
[null,"14.   ","Masks","As per the need"]
[null,"Total Score",null,null,{"$f":"SUM(E442:E455)","v":0}]
[null,"Total Percentage = Total Score/14 X 100",null,null,{"$f":"+E456/14","v":{"v":0,"d":"0%"}}]
[null,"Each row gets a score of 1 if all the required number is available otherwise 0"]
[{"$nulls":3},"Scoring Chart"]
[{"$nulls":3},"Total percentage","Score"]
[{"$nulls":3},"0% - 50%",0]
[{"$nulls":3},"50% - 70%",1]
[{"$nulls":3},"70% - 85%",2]
[{"$nulls":3},"85% - 100%",3]
[{"$nulls":3},"Score for Standard 2.4.4",{"$f":"IF(E457<=0.4999,0, IF(E457<=0.6999,1, IF(E457<=0.8499,2,3)))","v":0}]
[]
[]
[]
[null," Annex 2.4d Sterile Supplies for DIRP"]
[null,"S.No."," General Items","Required number","Score"]
[null,"1.      ","Sterile Dressing Set (must be in wrapper)","5-10"]
[null,"2.      ","Sterile Suture Sets ( must be in wrapper","2-3"]
[null,"3.      ","Sterile suture removal set (must be in wrapper)","2-3"]
[null,"4.      ","Sterile Catheter set (must be in wrapper)","2-3"]
[null,"5.      ","Sterile Cheatle forceps with jar",2]
[null,"6.      ","Sterile cotton balls in steel drum","1 drum"]
[null,7,"Sterile gauge piece in steel drum","1 drum"]
[null,8,"Sterile gauge pads ","1 drum"]
[null,9,"Sterile extra instruments in separate tray","as per need"]
[null,"Total Score",null,null,{"$f":"SUM(E471:E479)","v":0}]
[null,"Total Percentage= Total Score/9x100",null,null,{"$f":"+E480/9","v":{"v":0,"d":"0%"}}]
[null,"Each row gets a score of 1 if all the required number is available otherwise 0"]
[{"$nulls":3},"Scoring Chart"]
[{"$nulls":3},"Total percentage","Score"]
[{"$nulls":3},"0% - 50%",0]
[{"$nulls":3},"50% - 70%",1]
[{"$nulls":3},"70% - 85%",2]
[{"$nulls":3},"85% - 100%",3]
[{"$nulls":3},"Score for Standard 2.4.5.1",{"$f":"IF(E481<=0.4999,0, IF(E481<=0.6999,1, IF(E481<=0.8499,2,3)))","v":0}]
[]
[null,"Annex 2.6a Furniture and Supplies for inpatient wards"]
[null,"(1= Medicine Ward 2= Surgery ward 3= Pediatrics Ward "]
[null,"SN","General Items","Required Number","Score"]
[{"$nulls":4},1,2,3]
[null,"1.      ","Working table","1-2"]
[null,"2.      ","Chairs",2]
[null,"3.      ","Cup board",2]
[null,"4.      ","Shelves",1]
[null,"5.      ","Bed side table","per bed-1"]
[null,"6.      ","Stools (for visitor)","per bed 1"]
[null,"7.      ","Patient Beds (Metal bed / adjustable head/ mechanical ratchet, 3 X 6 ft.)  ","As per sanctioned bed"]
[null,"8.      ","IV stand","As per bed"]
[null,"9.      ","Medicine trolley  ",1]
[null,"10.   ","Dressing trolley",1]
[null,"11.   ","Wall Clock",2]
[null,"12.   ","Oxygen Concentrator","1 per 5 bed"]
[null,"13.   ","Suction machine (foot/electric)",1]
[null,14,"Laryngoscope with blade and batteries",1]
[null,15,"Self-inflating bag air mask – adult, child, neonate size","1 set"]
[null,16,"BP set and stethoscope (Non-Mercury)","2 sets"]
[null,17,"Thermometer","3-5"]
[null,18,"Baby and adult weighing scale","1 each"]
[null,19,"Steel drum with sterile cotton",1]
[null,20,"Steel drum with sterile gauze and pad",1]
[null,21,"Scissors",2]
[null,22,"Cheatle Forceps with Jar",2]
[null,23,"Catheter set",2]
[null,24,"Dressing set",2]
[null,25,"Mattress with bedcover, pillow with pillow cover, blanket with cover","1 set per bed"]
[null,26,"Torch with extra batteries and bulb","2-3"]
[null,27,"Inpatient registeas per ICD code","As per need "]
[null,28,"Inventory Records","As per need "]
[null,29,"Cardex files","As per bed"]
[null,30,"Waste bins color coded based on HCWM 2014 (MoHP)","1 set per room"]
[null," Total Score",null,null,{"$f":"SUM(E495:E524)","v":0},{"$f":"SUM(F495:F524)","v":0},0]
[null,"Total percentage= Total Score/Maximum Score x 100",null,null,{"$f":"+E525/30","v":{"v":0,"d":"0%"}},{"$f":"+F525/30","v":{"v":0,"d":"0%"}},{"v":0,"d":"0%"}]
[null,"Each row gets a score of 1 if the mentioned medicines are available otherwise 0."]
[{"$nulls":3},"Scoring Chart"]
[{"$nulls":3},"Total Percentage","Score"]
[{"$nulls":3},"0% - 50%",0]
[{"$nulls":3},"50% - 70%",1]
[{"$nulls":3},"70% - 85%",2]
[{"$nulls":3},"85% - 100%",3]
[{"$nulls":3},"Score for Standard 2.6.2.1",{"$f":"IF(E526<=0.4999,0, IF(E526<=0.6999,1, IF(E526<=0.8499,2,3)))","v":0}]
[{"$nulls":3},"Score for Standard 2.6.2.2",{"$f":"IF(F526<=0.4999,0, IF(F526<=0.6999,1, IF(F526<=0.8499,2,3)))","v":0}]
[{"$nulls":3},"Score for Standard 2.6.2.3.1",{"$f":"IF(G526<=0.4999,0, IF(G526<=0.6999,1, IF(G526<=0.8499,2,3)))","v":0}]
[]
[null,"Annex 2.6b Medicine and Supplies for Inpatient Ward"]
[null,"(1= Medicine Ward 2= Surgery ward 3= Pediatrics Ward "]
[null,"S.No.","Medicine and supplies","Required No.","Score"]
[{"$nulls":4},1,2,3]
[null,"1.      ","Normal Saline Injection",15]
[null,"2.      ","Dextrose 5% Injection",15]
[null,"3.      ","Ringers’ Lactate Injection",15]
[null,"4.      ","Dextrose 5% Normal Saline Injection",15]
[null,"5.      ","Distilled Water",10]
[null,"6.      ","IV Infusion Set",10]
[null,7,"IV Set",5]
[null,"8.      ","IV Canula (16,18,20,22,24,26Gz)","5 each"]
[null,"9.      ","Gloves (Utility)","1 box"]
[null,10,"Mask, Cap, Gowns","As per need"]
[null,11,"Disposable syringes 1 ml, 3 ml, 5 ml, 10 ml, 30 ml, 50 ml","As per need"]
[null,"Total Score",null,null,{"$f":"SUM(E542:E552)","v":0},{"$f":"SUM(F542:F552)","v":0},0]
[null,"Total Percentage = Total Score/ 11 x 100",null,null,{"$f":"+E553/11","v":{"v":0,"d":"0%"}},{"$f":"+F553/11","v":{"v":0,"d":"0%"}},{"$f":"+G553/11","v":{"v":0,"d":"0%"}}]
[]
[null,"Each row gets a score of 1 if the mentioned medicines are available otherwise 0."]
[{"$nulls":3},"Scoring Chart"]
[{"$nulls":3},"Total Percentage","Score"]
[{"$nulls":3},"0% - 50%",0]
[{"$nulls":3},"50% - 70%",1]
[{"$nulls":3},"70% - 85%",2]
[{"$nulls":3},"85% - 100%",3]
[{"$nulls":3},"Score for Standard 2.6.3.1",{"$f":"IF(E554<=0.4999,0, IF(E554<=0.6999,1, IF(E554<=0.8499,2,3)))","v":0}]
[{"$nulls":3},"Score for Standard 2.6.3.2",{"$f":"IF(F554<=0.4999,0, IF(F554<=0.6999,1, IF(F554<=0.8499,2,3)))","v":0}]
[{"$nulls":3},"Score for Standard 2.6.3.3",{"$f":"IF(G554<=0.4999,0, IF(G554<=0.6999,1, IF(G554<=0.8499,2,3)))","v":0}]
[]
[null,"Annex 2.6c Medicines and Supplies for ER Trolley for Inpatient Ward"]
[null,"1= Medicine Ward, 2= Surgery Ward, 3= Pediatrics Ward "]
[null,"SN","Name","Required No","Score"]
[{"$nulls":4},1,2,3]
[null,"1.      ","Atropine Injection","10 "]
[null,"2.      ","Adrenaline Injection"," 3"]
[null,"3.      ","Xylocaine 1% and 2% Injections with Adrenaline",2]
[null,"4.      ","Xylocaine 1% and 2 % Injections without Adrenaline",2]
[null,"5.      ","Xylocaine Gel",2]
[null,"6.      ","Diclofenac Injection",5]
[null,"7.      ","Hyoscine Butylbromide Injection",5]
[null,"8.      ","Diazepam injection",2]
[null,"9.      ","Morphine Injection / Pethidine Injection",2]
[null,"10.   ","Hydrocortisone Injection"," 4"]
[null,"11.   ","Pheniramine"," 4"]
[null,"12.   ","Dexamethasone Injection",4]
[null,"13.   ","Ranitidine/Omeperazole Injection "," 4"]
[null,"14.   ","Frusemide Injection"," 5"]
[null,"15.   ","Dopamine injection",2]
[null,"16.   ","Noradrenaline injection",2]
[null,"17.   ","Digoxin injection",2]
[null,"18.   ","Verapamil injection",2]
[null,"19.   ","Amidarone injection",2]
[null,"20.   ","Glyceryltrinitrate injection",1]
[null,"21.   ","Labetolol injection",1]
[null,"22.   ","Sodium bicarbonate injection",2]
[null,23,"Ceftriaxone Injection",4]
[null,24,"Metronidazole Injection",4]
[null,25,"Dextrose 25%/50% ampoule"," 2"]
[null,26,"IV Infusion set (Adult/Pediatric)"," 2"]
[null,27,"IV Canula (16, 18, 20, 22, 24, 26 Gz)"," 2 each"]
[null,28,"Disposable syringes 1 ml, 3 ml, 5 ml, 10 ml, 20 ml, 50 ml"," 5 each"]
[null,29,"Disposable Gloves (Size 6, 6.5, 7, 7.5)"," 3 each"]
[null,30,"Distilled Water"," 3"]
[null,31,"Sodium chloride-15%w/v and Glycerin-15% w/v (for enema)",5]
[null,"Total Score",null,null,{"$f":"SUM(E571:E601)","v":0},{"$f":"SUM(F571:F601)","v":0},{"$f":"SUM(G571:G601)","v":0}]
[null,"Total Percentage = Total Score/31 X100",null,null,{"$f":"+E602/31","v":{"v":0,"d":"0%"}},{"$f":"+F602/31","v":{"v":0,"d":"0%"}},{"v":0,"d":"0%"}]
[null,"Each row gets a score of 1 if all the required number is available otherwise 0."]
[]
[{"$nulls":3},"Scoring"]
[{"$nulls":3},"Total percentage","Score"]
[{"$nulls":3},"0% - 50%",0]
[{"$nulls":3},"50% - 70%",1]
[{"$nulls":3},"70% - 85%",2]
[{"$nulls":3},"85% - 100%",3]
[{"$nulls":3},"Score for Standard 2.6.8.2.1",{"$f":"IF(E603<=0.4999,0, IF(E603<=0.6999,1, IF(E603<=0.8499,2,3)))","v":0}]
[{"$nulls":3},"Score for Standard 2.6.8.2.2",{"$f":"IF(F603<=0.4999,0, IF(F603<=0.6999,1, IF(F603<=0.8499,2,3)))","v":0}]
[{"$nulls":3},"Score for Standard 2.6.8.2.3",{"$f":"IF(G603<=0.4999,0, IF(G603<=0.6999,1, IF(G603<=0.8499,2,3)))","v":0}]
[]
[null,"Annex 2.7.1a Furniture, equipment, instrument and general supplies for labor room"]
[null,"S.No.","Items","Required Number","Score"]
[null,"1.      ","Delivery bed","At least 1 for every 15 beds"]
[null,"2.      ","Clean bed linen","Each bed"]
[null,"3.      ","Curtains ","As per need"]
[null,"4.      ","Clean surface (for alternative delivery position)","Available"]
[null,"5.      ","Newborn Resuscitation table",1]
[null,"6.      ","Light source",1]
[null,"7.      ","Room Heater",1]
[null,"8.      ","Baby heater","1 per delivery bed"]
[null,"9.      ","Refrigerator for labor room",1]
[null,"Equipment and Instruments"]
[null,"10.   ","BP Set and Stethoscope ",1]
[null,"11.   ","Body Thermometer (Non- mercury) ",1]
[null,"12.   ","Room thermometer",1]
[null,"13.   ","Fetoscope ",2]
[null,"14.   ","Fetal stethoscope",1]
[null,"15.   ","Baby weighing scale",1]
[null,"16.   ","Self-inflating bag air mask - neonatal size",1]
[null,"17.   ","Mucus extractor with suction tube/(Penguin)",2]
[null,"18.   ","Doppler",1]
[null,"19.   ","Vaginal speculum (Sims)",2]
[null,"20.   ","Neonatal resuscitation kit",1]
[null,"21.   ","Adult resuscitation kit",1]
[null,"22.   ","Sterile Delivery Instrument Set (Check each set)","4 sets per delivery beds"]
[null,22.1,"Sponge forceps ",2]
[null,null,"Artery forceps ",2]
[null,null,"S/S bowl (Galli pot)",1]
[null,null,"S/S bowl (receive placenta) (1-2 litre)",1]
[null,null,"Cord cutting Scissors (blunt end)",1]
[null,null,"Cord ties/ cord clamp",2]
[null,null,"Plastic sheet/ rubber sheet",1]
[null,null,"Gauze swabs",4]
[null,null,"Cloth squared",3]
[null,null,"Kidney tray",1]
[null,null,"Peripad/ big dressing pad",2]
[null,null,"Leggings ",2]
[null,null,"Perineal sheet",1]
[null,null,"Baby receiving towel",1]
[null,null,"Sterile gown",1]
[null,"23.   ","Suture set (Check each set)","2 sets per delivery beds"]
[null,23.1,"Needle holder",1]
[null,null,"Sponge holder",1]
[null,null,"Suture cutting scissors",1]
[null,null,"Dissecting forceps (tooth and plain)",2]
[null,null,"Artery forceps",1]
[null,null,"Galliport",2]
[null,"24.   ","Episiotomy set (Check each set)","2 sets "]
[null,24.1,"Episiotomy scissors",1]
[null,null,"Needle holder",1]
[null,null,"Suture cutting scissor",1]
[null,null,"Dissecting forceps(tooth and plain) ",2]
[null,null,"Artery forceps",1]
[null,"25.   ","Vacuum set",2]
[null,"26.   ","Forceps set for delivery",1]
[null,"Total Score",null,null,{"$f":"SUM(E618:E670)","v":0}]
[null,"Total percentage= Total Score/26x100",null,null,{"$f":"+E671/26","v":{"v":0,"d":"0%"}}]
[null,"Each row gets a score of 1 if the mentioned medicines are available otherwise 0."]
[{"$nulls":3},"Scoring Chart"]
[{"$nulls":3},"Total percentage","Score"]
[{"$nulls":3},"0% - 50%",0]
[{"$nulls":3},"50% - 70%",1]
[{"$nulls":3},"70% - 85%",2]
[{"$nulls":3},"85% - 100%",3]
[{"$nulls":3},"Score for Standard2.7.1.9.2",{"$f":"IF(E672<=0.4999,0, IF(E672<=0.6999,1, IF(E672<=0.8499,2,3)))","v":0}]
[]
[null,"Annex 2.7.1b Medicines and Supplies for Labor Room"]
[null,"S.No.","Medicines and supplies","Required No.","Score"]
[null,"Medicines"]
[null,"1.      ","Oxytocin injection (keep in 2-8oC)","20 amp"]
[null,"2.      ","Tranexamic acetate injection","10 amp"]
[null,"3.      ","Ergometrine injection","10 amp"]
[null,"4.      ","Magnesium sulphate injection"," 50 amp"]
[null,"5.      ","Calcium gluconate injection"," 10 amp"]
[null,"6.      ","Diazepam injection",10]
[null,"7.      ","Labetolol injection",10]
[null,"8.      ","Ampicillin injection",10]
[null,"9.      ","Gentamycin injection",5]
[null,"10.   ","Metronidazole injection",5]
[null,"11.   ","Lignocaine injection",2]
[null,"12.   ","Adrenaline injection",5]
[null,"13.   ","Ringers’ lactate injection",10]
[null,"14.   ","Normal saline injection",10]
[null,"15.   ","Dextrose 5% injection",10]
[null,"16.   ","Water for injection",5]
[null,"17.   ","Eye antimicrobial (1% silver nitrate or  Tetracycline 1% eye ointment)",2]
[null,"18.   ","Povidone iodine",5]
[null,"19.   ","Tetracycline 1% eye ointment",2]
[null,"20.   ","Paracetamol Tablet",20]
[null,"21.   ","Nefidipine SL Tablet 5 mg","4 tab"]
[null,"22.   ","Misoprostol Tablet","5 tabs"]
[null,"Supplies"]
[null,"23.   ","Syringes and needles",20]
[null,"24.   ","IV  set",10]
[null,"25.   ","Spirit (70% alcohol)","1 bottle"]
[null,"26.   ","Steel drum with cotton",1]
[null,"27.   ","Urinary catheter(plain and folys)"," 5 each"]
[null,"28.   ","Sutures for tear or episiotomy repair (2.0 chromic catgut)"," 12 PC"]
[null,"29.   ","Bleach (chlorine-base compound)","2 packets"]
[null,"30.   ","Clean (plastic) sheet to place under mother",4]
[null,"31.   ","Sanitary pads","1 box"]
[null,"32.   ","Peri-pads Sterile","As per need"]
[null,"33.   ","Clean towels for drying and wrapping the baby",5]
[null,"34.   ","Cord ties (sterile)",50]
[null,"35.   ","Blanket for the baby",5]
[null,"36.   ","Baby feeding cup",3]
[null,"37.   ","Impregnated bed net",2]
[null,"38.   ","Utility Gloves","10 pairs"]
[null,"39.   ","Sterile Gloves","50 pairs"]
[null,"40.   ","Long plastic apron",2]
[null,"41.   ","Goggles ",2]
[null,"42.   ","Container for sharps disposal",1]
[null,"43.   ","Needle cutter",1]
[null,"44.   ","Receptacle for soiled linens",1]
[null,"45.   ","Bucket for soiled pads and swabs",2]
[null,"46.   ","Bucket for placenta (5 ltr.)",2]
[null,"47.   ","Well labelled color coded bins as per HCWM guideline 2014 (MoHP)","1 set"]
[null,"48.   ","Wall Clock",1]
[null,"49.   ","Torch with extra batteries and bulb","1-2"]
[null,"50.   ","Maternity register","1-2"]
[null,"51.   ","Birth certificate","as per need"]
[null,"52.   ","Partograph","As per need"]
[null,"Total Score",null,null,{"$f":"SUM(E684:E737)","v":0}]
[null,"Total percentage= Total Score/52 x 100",null,null,{"$f":"+E738/52","v":{"v":0,"d":"0%"}}]
[null,"Each row gets a score of 1 if the mentioned medicines are available otherwise 0."]
[null,null,"Scoring Chart"]
[null,null,"Total percentage","Score"]
[null,null,"0% - 50%",0]
[null,null,"50% - 70%",1]
[null,null,"70% - 85%",2]
[null,null,"85% - 100%",3]
[null,null,"Score  for standard 2.7.1.9.3",{"$f":"IF(E739<=0.4999,0, IF(E739<=0.6999,1, IF(E739<=0.8499,2,3)))","v":0}]
[]
[null,"Annex 2.7.1c Medicines and Supplies for ER Trolley Labor Room"]
[null,"SN","Name","Required No","Score"]
[null,"1.      ","Atropine Injection","10 amp"]
[null,"2.      ","Adrenaline Injection"," 3vial"]
[null,"3.      ","Xylocaine 1% and 2% Injections with Adrenaline","2vial"]
[null,"4.      ","Xylocaine 1% and 2 % Injections without Adrenaline","2vial"]
[null,"5.      ","Xylocaine Gel","2 tube"]
[null,"6.      ","Diclofenac Injection","5 amp"]
[null,"7.      ","Hyoscine Butylbromide Injection","5amp"]
[null,"8.      ","Diazepam injection","2 amp"]
[null,"9.      ","Morphine Injection /  Pethidine Injection","2 amp"]
[null,"10.   ","Hydrocortisone Injection"," 4vial"]
[null,"11.   ","Chlorpheniramine meliate Injection "," 4amp"]
[null,"12.   ","Dexamethasone Injection","4vial"]
[null,"13.   ","Ranitidine/Omeperazole Injection "," 4 amp"]
[null,"14.   ","Frusemide Injection"," 5 amp"]
[null,"15.   ","Dopamine injection","2 amp"]
[null,"16.   ","Noradrenaline injection","2 amp"]
[null,"17.   ","Digoxin injection","2 amp"]
[null,"18.   ","Verapamil injection","2 amp"]
[null,"19.   ","Amidarone injection","2 amp"]
[null,"20.   ","Glyceryl trinitrate/nitroglycerine injection","10 tab/ 5amp"]
[null,"21.   ","Labetolol injection","5 amp"]
[null,"22.   ","Magnesium sulphate injection","30 amp"]
[null,"23.   ","Calcium gluconate injection","2 amp"]
[null,"24.   ","Sodium bicarbonate injection","2 amp"]
[null,"25.   ","Ceftriaxone Injection","4 vials"]
[null,"26.   ","Metronidazole Injection","4 bottles"]
[null,"27.   ","Dextrose 25%/ 50% Injection "," 2 ampule each"]
[null,"28.   ","IV Infusion set (Adult/Pediatric)"," 2"]
[null,"29.   ","IV Canula (16, 18, 20, 22, 24, 26 Gz)"," 2 each"]
[null,"30.   ","Disposable syringes 1 ml, 3 ml, 5 ml, 10 ml, 20 ml, 50 ml"," 5 each"]
[null,"31.   ","Disposable Gloves (Size 6, 6.5, 7, 7.5)"," 3 each"]
[null,"32.   "," Water for injection 10 ml","10 amp"]
[null,"33.   ","Sodium chloride-15%w/v and Glycerin-15% w/v (for enema) ",5]
[null,"34.   ","PPH management Set\n·         (IV canula: 16/18G, IV fluids as per treatment protocol, IV set, Foley’s catheter, Urobag)\n·         Condom tamponade set- Sponge holder:2, Sim’s speculum:1, Foley’s catheter:1, Condom:2, IV fluids: NS1, IV set, Thread, Cord Clamp),\n·         Inj Oxytocin, Tab Misoprostol, \n","At least 1"]
[null,"35.   ","Eclampsia management Set\n(Knee hammer, IV canula: 16/18G, IV fluids, IV set, Foley’s catheter, Urobag, ambu bag, Oxygen, Inj MgSO4: 46 ampoules, Inj lignocaine 2%, Inj Calcium gluconate, Distilled water, Disposable syringe 20ml-1, 10ml-8, Cap Nifedipin- 5mg 4 Cap)","At least 1"]
[null,"Total Score",null,null,{"$f":"SUM(E751:E785)","v":0}]
[null,"Total Percentage =Total Score/35X100",null,null,{"$f":"+E786/35","v":{"v":0,"d":"0%"}}]
[null,"Each row gets a score of 1 if all the required number is available otherwise 0."]
[{"$nulls":3},"Scoring chart"]
[{"$nulls":3},"Total percentage","Score"]
[{"$nulls":3},"0% - 50%",0]
[{"$nulls":3},"50% - 70%",1]
[{"$nulls":3},"70% - 85%",2]
[{"$nulls":3},"85% - 100%",3]
[{"$nulls":3},"Score for Standard 2.7.1.9.4",{"$f":"IF(E787<=0.4999,0, IF(E787<=0.6999,1, IF(E787<=0.8499,2,3)))","v":0}]
[]
[null,"Annex 2.7.2a Furniture and Supplies for Maternity Inpatient wards"]
[null,"SN","General Items","Required No.","Score"]
[null,"1.      ","Working table","1-2"]
[null,"2.      ","Chairs",2]
[null,"3.      ","Cup board",2]
[null,"4.      ","Shelves",1]
[null,"5.      ","Bed side table","per bed-1"]
[null,"6.      ","Stools (for visitor)","per bed 1"]
[null,"7.      ","Patient Beds (Metal bed / adjustable head/ mechanical ratchet, 3 X 6 ft.) ","As per sanctioned bed"]
[null,"8.      ","IV stand","As per bed"]
[null,"9.      ","Medicine trolley  ",1]
[null,"10.   ","Dressing trolley",1]
[null,"11.   ","Wall Clock",2]
[null,"12.   ","Oxygen Concentrator","1 per 5 bed"]
[null,"13.   ","Suction machine (foot/electric)",1]
[null,"14.   ","Laryngoscope with blade and batteries",1]
[null,"15.   ","ET tubes of different sizes","At least 2 each"]
[null,"16.   ","Self-inflating bag air mask – adult, child, neonate size","1 set"]
[null,"17.   ","BP set and stethoscope (Non-Mercury)","2 sets"]
[null,"18.   ","Thermometer","3-5"]
[null,"19.   ","Baby and adult weighing scale","1 each"]
[null,"20.   ","Steel drum with sterile cotton",1]
[null,"21.   ","Steel drum with sterile gauze and pad",1]
[null,"22.   ","Scissors",2]
[null,"23.   ","Cheatle Forceps with Jar",2]
[null,"24.   ","Catheter set",2]
[null,"25.   ","Dressing set",2]
[null,"26.   ","Mattress with bedcover, pillow with pillow cover, blanket with cover","1 set per bed"]
[null,"27.   ","Torch with extra batteries and bulb","2-3"]
[null,"28.   ","Inpatient register as per ICD code","As per need (1)"]
[null,"29.   ","Inventory Records","As per need (1)"]
[null,"30.   ","Cardex files","As per bed "]
[null,"31.   ","Waste bins color coded based on HCWM guideline 2014 (MoHP)","1 set per room"]
[null," Total Score",null,null,{"$f":"SUM(E799:E829)","v":0}]
[null,"Total percentage= Total Score/31x 100",null,null,{"$f":"+E830/31","v":{"v":0,"d":"0%"}}]
[null,"Each row gets a score of 1 if the mentioned medicines are available otherwise 0."]
[null,null,"Scoring Chart"]
[null,null,"Total Percentage","Score"]
[null,null,"0% - 50%",0]
[null,null,"50% - 70%",1]
[null,null,"70% - 85%",2]
[null,null,"85% - 100%",3]
[null,null,"Score for Standard 2.7.2.2",{"$f":"IF(E831<=0.4999,0, IF(E831<=0.6999,1, IF(E831<=0.8499,2,3)))","v":0}]
[]
[]
[null,"Annex 2.7.2b Medicine and Supplies for Maternity Inpatient Ward"]
[null,"S.No.","Medicine and supplies","Required No.","Score"]
[null,"1.      ","Normal Saline Injection",15]
[null,"2.      ","Dextrose 5% Injection",15]
[null,"3.      ","Ringers’ Lactate Injection",15]
[null,"4.      ","Dextrose 5% Normal Saline Injection",15]
[null,"5.      ","Distilled Water",10]
[null,"6.      ","IV Infusion Set",10]
[null,"7.      ","IV  set",5]
[null,"8.      ","IV Catheter 18G,20G,22G,24G,26G","5 each"]
[null,"9.      ","Gloves (Utility)","1 box"]
[null,"10.   ","Mask, Cap, Gowns","As per need"]
[null,"11.   ","Disposable syringes 1 ml, 3 ml, 5 ml, 10 ml, 30 ml, 50 ml","As per need"]
[null,"Total Score",null,null,{"$f":"SUM(E844:E854)","v":0}]
[null,"Total Percentage = Total Score/ 11 x 100",null,null,{"$f":"+E855/11","v":{"v":0,"d":"0%"}}]
[null,"Each row gets a score of 1 if the mentioned medicines are available otherwise 0."]
[]
[null,null,"Scoring Chart"]
[null,null,"Total Percentage","Score"]
[null,null,"0% - 50%",0]
[null,null,"50% - 70%",1]
[null,null,"70% - 85%",2]
[null,null,"85% - 100%",3]
[null,null,"Score for Standard 2.7.2.3",{"$f":"IF(E856<=0.4999,0, IF(E856<=0.6999,1, IF(E856<=0.8499,2,3)))","v":0}]
[]
[null,"Annex 2.7.2c Medicines and Supplies for ER Trolley Maternity Inpatient Ward"]
[null,"SN","Name","Required No","Score"]
[null,"1.      ","Atropine Injection","10 "]
[null,"2.      ","Adrenaline Injection"," 3"]
[null,"3.      ","Xylocaine 1% and 2% Injections with Adrenaline",2]
[null,"4.      ","Xylocaine 1% and 2% Injections without Adrenaline",2]
[null,"5.      ","Xylocaine Gel",2]
[null,"6.      ","Diclofenac Injection",5]
[null,"7.      ","Hyoscine Butylbromide Injection",5]
[null,8,"Diazepam injection",2]
[null,9,"Morphine Injection / Injection Pethidine",2]
[null,10,"Hydrocortisone Injection"," 4"]
[null,11,"Antihistamine Injection "," 4"]
[null,12,"Dexamethasone Injection",4]
[null,13,"Ranitidine/Omeperazole Injection "," 4"]
[null,14,"Frusemide Injection"," 5"]
[null,15,"Dopamine injection",2]
[null,16,"Noradrenaline injection",2]
[null,17,"Digoxin injection",2]
[null,18,"Verapamil injection",2]
[null,19,"Amidarone injection",2]
[null,20,"Glyceryl trinitrate/ notroglycerine","1o tab/ 5 amp"]
[null,21,"Labetolol injection",1]
[null,22,"Magnesium sulphate injection",30]
[null,23,"Calcium gluconate injection",2]
[null,24,"Sodium bicarbonate injection",2]
[null,25,"Ceftriaxone Injection",4]
[null,26,"Metronidazole Injection",4]
[null,27,"Dextrose 25% / 50% Injection"," 2 ampule each"]
[null,28,"IV Infusion set (Adult/Pediatric)",2]
[null,29,"IV Canula (16, 18, 20, 22, 24, 26 Gz)","2 each"]
[null,30,"Disposable syringes 1 ml, 3 ml, 5 ml, 10 ml, 20 ml, 50 ml","5 each"]
[null,31,"Disposable Gloves 6, 6.5, 7, 7.5","3 each"]
[null,32,"Distilled Water"," 3 "]
[null,33,"Sodium chloride-15%w/v and Glycerin-15% w/v (for enema)"," 5"]
[null,"Total Score",null,null,{"$f":"SUM(E869:E901)","v":0}]
[null,"Total Percentage = Total Score/33 X100",null,null,{"$f":"+E902/33","v":{"v":0,"d":"0%"}}]
[null,"Each row gets a score of 1 if all the required number is available otherwise 0."]
[{"$nulls":3},"Scoring chart"]
[{"$nulls":3},"Total percentage","Score"]
[{"$nulls":3},"0% - 50%",0]
[{"$nulls":3},"50% - 70%",1]
[{"$nulls":3},"70% - 85%",2]
[{"$nulls":3},"85% - 100%",3]
[{"$nulls":3},"Score for Standard 2.7.2.7.2",{"$f":"IF(E903<=0.4999,0, IF(E903<=0.6999,1, IF(E903<=0.8499,2,3)))","v":0}]
[]
[null,"Annex 2.8a General Surgeries Available"]
[null,"S.No.","List of the surgeries available (minimum)","Score"]
[null,"Minor"]
[null,"1.      ","Incision & Drainage under Local Anesthesia"]
[null,"2.      ","Excision of cysts, ganglion, lump, lymhnode, lipoma, skin papilloma, corn under LA"]
[null,"3.      ","Excision of ingrowing toe nail under digital block"]
[null,4,"Breast Abscess aspiration "]
[null,5,"Wound debridement"]
[null,6,"Skin suturing < 5cm size"]
[null,7,"Foreign Body removal under LA"]
[null,8,"Repair split ear"]
[null,9,"True cut biopsy"]
[null,10,"Chest tube insertion under LA "]
[null,11,"Circumcision Under LA"]
[null,12,"Eversion of sac for hydrocele (EVS)"]
[null,13,"Haemorrhoid banding"]
[null,"Intermediate"]
[null,14,"Herniotomy under IVA"]
[null,15,"Mesh Repair / Darn Repair (under LA/SA)"]
[null,16,"Amputation "]
[null,17,"Split Skin Graft(SSG)"]
[null,18,"Large wound dressing / debridement under IVA/SA"]
[null,19,"Chest tube insertion under IVA"]
[null,20,"Circumcision under IVA"]
[null,21,"I & D under IVA eg. Perineal abscess"]
[null,22,"Release of tongue tie"]
[null,23,"Fistulotomy "]
[null,24,"Haemorrhoidectomy "]
[null,25,"Vasectomy"]
[null,"Major"]
[null,26,"Exploratory laparotomy"]
[null,27,"Appendectomy "]
[null,28,"Exploration for obstructed hernia"]
[null,29,"Mesh repair incisional hernia"]
[null,30,"Minilap"]
[null,31,"Vaginal Hysterectomy"]
[null,32,"Abdominal Hysterectomy"]
[null,33,"Open Choleystectomy"]
[null,"Total score",null,{"$f":"SUM(D915:D950)","v":0}]
[null,"Total Percentage= Total score/33 x 100",null,{"$f":"+D951/33","v":{"v":0,"d":"0%"}}]
[null,"Each row gets a score of 1 if all the required number is available otherwise 0."]
[null,null,"Scoring chart"]
[null,null,"Total percentage","Score"]
[null,null,"0% - 50%",0]
[null,null,"50% - 70%",1]
[null,null,"70% - 85%",2]
[null,null,"85% - 100%",3]
[null,null,"Score for Standard 2.8.3.1",{"$f":"IF(D952<=0.4999,0, IF(D952<=0.6999,1, IF(D952<=0.8499,2,3)))","v":0}]
[]
[]
[null,"Annex 2.8b Types of Orthopedics Surgeries Available"]
[null,"S.N.","Minimum list of Orthopedic Surgeries ","Score"]
[null,"1.      ","POP + Immobilization without anesthesia"]
[null,"2.      ","POP + cast under anesthesia"]
[null,"3.      ","Hip Spica cast"]
[null,"4.      ","Joint aspiration"]
[null,5,"Skin traction"]
[null,6,"Gallows traction"]
[null,7,"Skeletal Traction"]
[null,8,"Reduction of shoulder, elbow, small joints dislocation"]
[null,9,"Reduction of hip and knee dislocation"]
[null,10,"Trigger finger Release"]
[null,11,"DeQuervain's Release"]
[null,"Total score",null,{"$f":"SUM(D965:D975)","v":0}]
[null,"Total Percentage= Total score/11 x 100",null,{"$f":"+D976/11","v":{"v":0,"d":"0%"}}]
[null,"Each row gets a score of 1 if all the required number is available otherwise 0."]
[]
[null,null,"Scoring chart"]
[null,null,"Total percentage","Score"]
[null,null,"0% - 50%",0]
[null,null,"50% - 70%",1]
[null,null,"70% - 85%",2]
[null,null,"85% - 100%",3]
[null,null,"Score for Standard 2.8.3.3",{"$f":"IF(D977<=0.4999,0, IF(D977<=0.6999,1, IF(D977<=0.8499,2,3)))","v":0}]
[]
[null,"Annex 2.8c Physical Set Up for OT"]
[null,"SN","Physical Set Up","Score"]
[null,"1.      ","Separate room designated for OT with recovery room"]
[null,"2.      ","Space designated for changing room for male and female staffs separately"]
[null,"3.      ","Lockers for storage of the belongings of staffs"]
[null,"4.      ","Separate shelves for storage of clean and dirty shoes at the entrance of the OT area demarked with red line"]
[null,"5.      ","Space designated with sink facilitated with elbow tap for scrubbing"]
[null,"6.      ","Designated space for tea room"]
[null,"7.      ","Separate bathroom with at least one universal toilet for OT"]
[null,"8.      ","Scrub basins with running water"]
[null,"9.      ","Utility basins (at least 4)"]
[null,"Total Score",null,{"$f":"SUM(D990:D998)","v":0}]
[null,"Total percentage= Total Score/ 9 x 100",null,{"$f":"+D999/9","v":{"v":0,"d":"0%"}}]
[null,"Each row gets a score of 1 if the mentioned test is available otherwise 0."]
[null,null,"Scoring chart"]
[null,null,"Total percentage","Score"]
[null,null,"0% - 50%",0]
[null,null,"50% - 70%",1]
[null,null,"70% - 85%",2]
[null,null,"85% - 100%",3]
[null,null,"Score for Standard 2.8.7.1",{"$f":"IF(D1000<=0.4999,0, IF(D1000<=0.6999,1, IF(D1000<=0.8499,2,3)))","v":0}]
[]
[null,"Annex 2.8.d Furniture, Equipment, Instruments and Supplies for each OT Room"]
[null,"SN","General Equipment and Instruments for OT","Standard Quantity ","Score"]
[null,"1.      ","Wheel chair foldable, adult size",1]
[null,"2.      ","Stretcher",1]
[null,"3.      ","Patient trolley",1]
[null,"4.      ","Cupboards and cabinets for store",1]
[null,"5.      ","Working desk for anesthesia, nursing station, gowning","1 each"]
[null,"6.      ","OT Table- universal type/ with wedge to position patient "," At least 2"]
[null,"7.      ","Examining table",1]
[null,"8.      ","Mayo Stand with tray",2]
[null,"9.      ","Operation theatre lights",1]
[null,10,"Ultra violet light source",1]
[null,11,"Electronic suction machine/ Foot-operated suction machine","1/1"]
[null,12,"Refrigerator / cold box",1]
[null,13,"Fumigation Macine",1]
[null,14,"Anesthesia Machine with cardiac monitor",1]
[null,15,"Defebrilator",1]
[null,16,"Cautery/ Diathermy machine ",1]
[null,17,"Oxygen concentrator/ oxygen cylinder",1]
[null,18,"Baby Warmer",1]
[null,19,"Baby weight machine ",1]
[null,20,"Anesthesia trolley",2]
[null,21,"Instrument trolley",2]
[null,22,"BP instrument with stethoscope",1]
[null,23,"Cardiac Monitor","1 for each OT table"]
[null,24,"Digital Thermometer",1]
[null,25,"Steel Drum for gloves",1]
[null,26,"Steel Drum for Cotton",1]
[null,27,"Tourniquet, latex rubber, 75 cm",2]
[null,28,"Kidney tray (600cc)",2]
[null,29,"Covered instrument trays",4]
[null,30,"Mackintosh sheet",1]
[null,31,"Lead gown ","2 sets"]
[null,32,"Bowl stand",2]
[null,33,"Chele forceps in jar",2]
[null,34,"Drapes for abdominal site  \n(laparotomy sheet, table cover, hook towel, mayo cover, plastic sheet, tetra)","As per need"]
[null,35,"Drapes for perineal region\n(Laparotomy sheet, table cover, hook towel, mayo cover, plastic sheet, tetra, leggings)","As per need"]
[null,36,"Packing towel double wrapper","As per need"]
[null,37,"Sterile gloves (6,6.5,7,7.5,8)","5/5/5/5/5/5"]
[null,38,"Towels/ eye hole","As per need"]
[null,39,"Masks and caps, gown","As per need"]
[null,40,"Torch light and batteries","1 set"]
[null,41,"Foot steps",2]
[null,42,"Wall clock",1]
[null,43,"Waste bucket for scrub nurse",1]
[null,44,"IV stand",2]
[null,45,"Leak proof sharp container",1]
[null,46,"Generator back up for OT ",1]
[null,47,"Color coded waste bins (based on HCWM guideline 2014 (MoHP))","1 set per OT table"]
[null,48,"OT  dress for  staffs","at least 5 sets"]
[null,49,"OT slippers","At least 5 pairs"]
[null,"Total Score",null,null,{"$f":"SUM(E1012:E1060)","v":0}]
[null,"Total percentage= Total/ 49x 100",null,null,{"$f":"+E1061/49","v":{"v":0,"d":"0%"}}]
[null,"Each row gets a score of 1 if the mentioned test is available otherwise 0."]
[{"$nulls":3},"Scoring Chart"]
[{"$nulls":3},"Total percentage","Score"]
[{"$nulls":3},"0% - 50%",0]
[{"$nulls":3},"50% - 70%",1]
[{"$nulls":3},"70% - 85%",2]
[{"$nulls":3},"85% - 100%",3]
[{"$nulls":3},"Score for Standard 2.8.7.2",{"$f":"IF(E1062<=0.4999,0, IF(E1062<=0.6999,1, IF(E1062<=0.8499,2,3)))","v":0}]
[]
[]
[null,"Annex 2.8e  Medicine and Supplies for OT"]
[null,"SN","Emergency Drugs (including neonates) for OT","Standard Quantity for 1 patient","Score"]
[null,"1.      ","Midazolam Injection","5 vials"]
[null,"2.      ","Hydrocortisone Powder for Injection","100mg 2 vial"]
[null,"3.      ","Frusemide Injection","2 ampules"]
[null,"4.      ","Dopamine Injection","5 vials"]
[null,"5.      ","Transemic Acetate Injection","2 ampules"]
[null,"6.      ","Hydralizine Injection","5 vials"]
[null,"7.      ","Calcium Gluconate Injection","10ml X 2 ampules"]
[null,"8.      ","Magnesium sulphate Injection","0.5 gms X 28"]
[null,"9.      ","Oxytocin Injection","10 Ampules"]
[null,"10.   ","Dextrose (25%) / (50%) Injection","2 ampules"]
[null,"11.   ","Naloxone Injection","1 ampule"]
[null,"12.   ","Aminophyline Injection","2 ampules"]
[null,"13.   ","Chloropheniramine Injection","2 ampules"]
[null,"14.   ","Mephentine Injection","1 vial"]
[null,"15.   ","IV Fluids- Ringers Lactate / Normal Saline/ Dextrose 5% Normal Saline/ Dextrose 5%","6 bottles each"]
[null,"16.   ","IV infusion Set",4]
[null,"17.   ","IV Canula 22G/20G/18G","4 each"]
[null,"Total Score",null,null,{"$f":"SUM(E1075:E1091)","v":0}]
[null,"Total Percentage = Total Score/17 X 100",null,null,{"$f":"+E1092/17","v":{"v":0,"d":"0%"}}]
[]
[null,"Each row gets a score of 1 if all the required number is available otherwise 0"]
[{"$nulls":3},"Scoring Chart"]
[{"$nulls":3},"Total percentage","Score"]
[{"$nulls":3},"0% - 50%",0]
[{"$nulls":3},"50% - 70%",1]
[{"$nulls":3},"70% - 85%",2]
[{"$nulls":3},"85% - 100%",3]
[{"$nulls":3},"Score for Standard 2.8.7.3",{"$f":"IF(E1093<=0.4999,0, IF(E1093<=0.6999,1, IF(E1093<=0.8499,2,3)))","v":0}]
[]
[null,"Annex 2.8f Minimum List of Surgical Sets "]
[null,"S.No.","Items","Required number","Score"]
[null,"1.      ","Catheter set"," At least 5 Set"]
[null,"2.      ","Suture set","At least  5 Set"]
[null,"3.      ","Dressing set of different size (small, medium, large)","At least 2 each"]
[null,"4.      ","Incision and drainage set","At least 5 Set"]
[null,5,"Appendectomy set","At least 2 Set"]
[null,6,"Caesarian section set","At least 5 Set"]
[null,7,"Manual Vacuum Aspiration Set with Canulla and Aspirator of different size","At least 2 Set"]
[null,8,"Hernia repair set","At least 2 Set"]
[null,9,"Laparotomy set","At least 2 Set"]
[null,10,"Vasectomy set","At least 2 Set"]
[null,11,"Minilap set","At least 2 Set"]
[null,12,"Open cholecystectomy set","At least 2 Set"]
[null,13,"Orthopedics Basic Surgical Set","At least 2 Set"]
[null,14,"Radiolucent OT table with orthopedic attachment including C-arm ( for orthopedic surgery)",1]
[null,15,"K wire set: K- wires, SSW, plier, wire twister, wire cutter, wire binder, T- handle","1vset"]
[null,16,"Flash Autoclave ( for orthopedics)",1]
[null,"Total Score",null,null,{"$f":"SUM(E1106:E1121)","v":0}]
[null,"Total Percentage= Total Score/16x100",null,null,{"$f":"+E1122/16","v":{"v":0,"d":"0%"}}]
[null,"Each row gets a score of 1 if all the required number is available otherwise 0"]
[{"$nulls":3},"Scoring Chart"]
[{"$nulls":3},"Total percentage","Score"]
[{"$nulls":3},"0% - 50%",0]
[{"$nulls":3},"50% - 70%",1]
[{"$nulls":3},"70% - 85%",2]
[{"$nulls":3},"85% - 100%",3]
[{"$nulls":3},"Score for Standard 2.8.7.4",{"$f":"IF(E1123<=0.4999,0, IF(E1123<=0.6999,1, IF(E1123<=0.8499,2,3)))","v":0}]
[]
[]
[]
[null,"Annex 2.8g Equipment, Instruments and Supplies for Anesthesia"]
[null,"S.No.","List of equipment, instruments and supplies for anesthesia","Required Number","Score"]
[null,"1.      ","Supply of oxygen \n(e.g., oxygen concentrator, cylinders or pipeline) with regulator and flow meter","At least 2 oxygen concentrator"]
[null,"2.      ","Oropharyngeal airways (Size 000, 00, 0, 1, 2, 3, 4)","At least 2 each"]
[null,"3.      ","Anesthesia face masks \n(Size 0, 1, 2, 3, 4)","At least 2 each"]
[null,"4.      ","Laryngoscope, Mc Coy's curved blade and Miller's straight blade  (small, medium and large sizes for both adult and pediatric patients)","At least two"]
[null,"5.      ","Endotracheal tubes, cuffed, uncuffed, different sizes (Sizes 2.5 - 8.0 ID)","At least two of each size"]
[null,"6.      ","Intubation aids \n(Magillsforcep of small and large size, bougie, stylets of small and large size)","As per need"]
[null,"7.      ","Suction device and suction catheters of different sizes (Size 8 -16 Fr)","As per need"]
[null,"8.      ","Adult and pediatric self inflating bags \n(Size 2L, 1L, 0.5L)","As per need"]
[null,"9.      ","Bain's breathing circuit","At least 2"]
[null,"10.   ","Pediatric breathing circuit: Ayre's T-piece","At least 2"]
[null,"11.   ","Equipment for intravenous infusions and injection of medications for adult and pediatric patients\n\n (IV stand, IV canula, fixing tapes, infusion sets, blood transfusion sets, burette sets, syringes, three-way stop cocks)","As per need"]
[null,"12.   ","Equipment for spinal anesthesia or regional blocks \n(e.g., a set of spinal needle 25/26 G, small bowl, 5-10ml syringe, sponge holding forceps, kidney tray, large eye towel, cotton pieces, gauze pieces)","As per need"]
[null,"13.   ","Examination (non-sterile) gloves","As per need"]
[null,"14.   ","Sterile gloves","As per need"]
[null,"15.   ","Pulse oximeter","At least 2"]
[null,"16.   ","Access to a defibrillator","At least 1"]
[null,"17.   ","Stethoscope","At least 2"]
[null,"18.   ","Sphygmomanometer with appropriate sized cuffs for adult and pediatric patients","As per need"]
[null,"19.   ","Non-invasive blood pressure monitor with appropriate sized cuffs for adult and pediatric patients","As per need"]
[null,"20.   ","Anesthesia machine with inspired oxygen concentration monitor, anti-hypoxia device to prevent delivery of a hypoxic gas mixture, system to prevent misconnection of gas sources (e.g., tank yokes, hose connectors), automated ventilator with disconnect alarm.","At least 1"]
[null,"21.   ","Electrocardiogram - three leads","As per need"]
[null,"22.   ","Temperature monitor (intermittent)","As per need"]
[null,"Total Score",null,null,{"$f":"SUM(E1137:E1158)","v":0}]
[null,"Total percentage = Total score/ 22 x 100",null,null,{"$f":"+E1159/22","v":{"v":0,"d":"0%"}}]
[null,"Each row gets a score of 1 if the mentioned test is available otherwise 0."]
[{"$nulls":3},"Scoring chart"]
[{"$nulls":3},"Total percentage","Score"]
[{"$nulls":3},"0% - 50%",0]
[{"$nulls":3},"50% - 70%",1]
[{"$nulls":3},"70% - 85%",2]
[{"$nulls":3},"85% - 100%",3]
[{"$nulls":3},"Score for Standard 2.8.8.2",{"$f":"IF(E1160<=0.4999,0, IF(E1160<=0.6999,1, IF(E1160<=0.8499,2,3)))","v":0}]
[]
[]
[null,"Annex 2.8h Medicines for Anesthesia"]
[null,"S.No.","List of Medicines","Required Number","Score"]
[null,"Preoperative medications"]
[null,"1.      ","Ranitidine Injection",5]
[null,"2.      ","Metoclopramide Injection",5]
[null,"3.      ","Aluminium hydroxide or magnesium trisilicate suspension",5]
[null,"4.      ","Atropine Injection",10]
[null,"5.      ","Diazepam Tablet",5]
[null,"Intraoperative medications"]
[null,"6.      ","Ketamine Injection",3]
[null,"7.      ","Midazolam Injection",3]
[null,"8.      ","Opioid analgesics injections ( Morphine, Pethidine, Fentanyl)","2 each"]
[null,"9.      ","Lignocaine 2% Injection for IV infusion",2]
[null,"10.   ","Lignocaine Inj 1%, 2% with or without Adrenaline 1:200000",2]
[null,"11.   ","Thiopental Powder 500mg","As per need"]
[null,"12.   ","Propofol Injection","As per need"]
[null,"13.   ","Appropriate inhalational anesthetic (e.g., Halothane, Isoflurane, Sevoflurane)","As per need"]
[null,"14.   ","Succinylcholine Injection","As per need"]
[null,"15.   ","Appropriate non-depolarizing muscle relaxant ( pancuronium, vecuronium, rocuronium, atracurium)","As per need"]
[null,"16.   ","Neostigmine Injection","As per need"]
[null,"17.   ","Atropine Injection / Glycopyrolate Injection","10/10"]
[null,"18.   ","Bupivacaine Heavy 0.5%",2]
[null,"Intravenous fluids"]
[null,"19.   ","Water for injection","As per need"]
[null,"20.   ","Normal saline / Ringer’s lactate","As per need"]
[null,"21.   ","5% Dextrose / Dextrose normal saline","As per need"]
[null,"22.   ","1/5Dextrose 1/3Normal saline","As per need "]
[null,"23.   ","Mannitol 20% Injection","As per need"]
[null,"24.   ","Haemaccel Injection / Gelafusine Injection / Voluven Injection","As per need"]
[null,"Resuscitative medications"]
[null,"25.   ","Dextrose 25%/ 50% Injection","5 each"]
[null,"26.   ","Mephenteramine or Ephedrine Injection",5]
[null,"27.   ","Dopamine injection",5]
[null,"28.   ","Noradrenaline injection",5]
[null,"29.   ","Amiodarone injection",5]
[null,"30.   ","Hydrocortisone injection",5]
[null,"31.   ","Dexomethasone injection",5]
[null,"32.   ","Chlorpheniramine injection",5]
[null,"33.   ","Calcium gluconate injection",5]
[null,"34.   ","Beta-blockers (Metoprolol, Labetolol, Esmolol) Injection","As per need"]
[null,"35.   ","Naloxone Injection",5]
[null,"Post-operative medications"]
[null,"36.   ","Morphine Injection","As per need"]
[null,"37.   ","Pethidine Injection","As per need"]
[null,"38.   ","Tramadol Injection","As per need"]
[null,"39.   ","Pentazocine Injection","As per need"]
[null,"40.   ","Paracetamol Injection 1gm, Suppository 125mg","As per need"]
[null,"41.   ","Diclofenac Injection","As per need"]
[null,"42.   ","Ketorolac Injection","As per need"]
[null,"43.   ","Promethazine Injection","As per need"]
[null,"44.   ","Ondansetron Injection","As per need"]
[null,"45.   ","Gabapentin Injection","As per need"]
[null,"Other medications"]
[null,"46.   ","Magnesium Injection","As per need"]
[null,"47.   ","Salbutamol Injection (for inhalation)","As per need"]
[null,"48.   ","Ipratropium bromide Injection (for inhalation)","As per need"]
[null,"49.   ","Furosemide Injection","As per need"]
[null,"50.   ","Glyceryl trinitrate/nitroglycerine Injection","As per need"]
[null,"51.   ","Sodium nitroprusside Injection","As per need"]
[null,"52.   ","Heparin Injection","As per need"]
[null,"53.   ","Aminophylline Injection","As per need"]
[null,"Total Score",null,null,{"$f":"SUM(E1173:E1231)","v":0}]
[null,"Total percentage = Total score/ 53 x 100",null,null,{"$f":"+E1232/53","v":{"v":0,"d":"0%"}}]
[null,"Each row gets a score of 1 if the mentioned test is available otherwise 0."]
[{"$nulls":3},"Scoring chart"]
[{"$nulls":3},"Total percentage","Score"]
[{"$nulls":3},"0% - 50%",0]
[{"$nulls":3},"50% - 70%",1]
[{"$nulls":3},"70% - 85%",2]
[{"$nulls":3},"85% - 100%",3]
[{"$nulls":3},"Score for Standard 2.8.8.3",{"$f":"IF(E1233<=0.4999,0, IF(E1233<=0.6999,1, IF(E1233<=0.8499,2,3)))","v":0}]
[]
[null,"Annex 2.9.1.1a List of Investigations for Laboratory"]
[null,"SN","Test","Routine"]
[null," Hematology"]
[null,"1.      ","Hb"]
[null,"2.      ","Total Leucocyte count"]
[null,"3.      ","Differential leucocyte count"]
[null,"4.      ","ESR"]
[null,"5.      ","Blood grouping for non transfusion"]
[null,"6.      ","Blood grouping for transfusion"]
[null,"7.      ","Bleeding time"]
[null,"8.      ","PT"]
[null,"9.      ","APTT"]
[null,"10.   ","Platelet count"]
[null,"11.   ","MCV"]
[null,"12.   ","MCH"]
[null,"13.   ","MCHC"]
[null,"14.   ","Hematocrit (PCV)"]
[null,15,"Malaria RDT or microscopy"]
[null,16,"Absolute count"]
[null,17,"Reticulocyte"]
[null,18,"Peripheral smear examination"]
[null,"Chemistry and Endocrinology "]
[null,19,"Blood Sugar"]
[null,20,"Urea"]
[null,21,"Creatinine"]
[null,22,"Billirubin total"]
[null,23,"Billirubin direct"]
[null,24,"Serum Uric acid"]
[null,25,"Total Protein"]
[null,26,"Serum  albumin"]
[null,27,"SGOT"]
[null,28,"SGPT"]
[null,29,"Alkaline phosphatase"]
[null,30,"Triglyceride"]
[null,31,"Total Cholesterol"]
[null,32,"HDL"]
[null,33,"LDL"]
[null,34,"Serum sodium"]
[null,35,"Serum potassium"]
[null,36,"HbA1c"]
[null,37,"Urine microalbumin"]
[null,38,"Urine albumin creatinine ratio"]
[null,39,"Cardio-Biomarker (Troponin T/I, CK,CKP MB)"]
[null,40,"Thuroid function test"]
[null,"Microbiology"]
[null,41,"Sputum AFB"]
[null,42,"KOH mount"]
[null,43,"Routine bacteriology culture (blood, urine, pus, body fluid, swab)"]
[null,44,"Antibiotic susceptibility"]
[null,45,"Gram stain"]
[null,"Serology "]
[null,46,"RPR"]
[null,47,"Widal"]
[null,48,"ASO"]
[null,49,"RA factor"]
[null,50,"CRP"]
[null,51,"rK39 (kit)"]
[null,52,"Montoux test"]
[null,53,"TPHA (rapid)"]
[null,54,"HbsAg (rapid)/ CLIA/ ELISA"]
[null,55,"HCV(rapid)"]
[null,56,"HIV(rapid)"]
[null,"Miscellaneous"]
[null,57,"Urine routine and microscopy"]
[null,58,"Urine Pregnancy Test"]
[null,59,"Stool routine and microscopy"]
[null,60,"Stool for occult blood"]
[null,61,"Stool for reducing substance"]
[null,62,"Urine ketone bodies"]
[null,63,"CSF and body fluid examination ( sugar, protein, total and differential count, malignant cells)"]
[null,64,"Semen analysis (total count and motility)"]
[null,65,"Pap smear examination"]
[null,66,"Fluid cytology"]
[null,67,"Fine Niddle Aspiration Cytology (FNAC)"]
[null,"Total Score",null,{"$f":"SUM(D1245:D1316)","v":0}]
[null,"Total Percentage = Total Score/ 67 x 100",null,{"$f":"+D1317/67","v":{"v":0,"d":"0%"}}]
[null,"Each row gets a score of 1 if all the required number is available otherwise 0."]
[null,null,"Scoring chart"]
[null,null,"Total percentage","Score"]
[null,null,"0% - 50%",0]
[null,null,"50% - 70%",1]
[null,null,"70% - 85%",2]
[null,null,"85% - 100%",3]
[null,null,"Score for Standard 2.9.1.1.1.2",{"$f":"IF(D1318<=0.4999,0, IF(D1318<=0.6999,1, IF(D1318<=0.8499,2,3)))","v":0}]
[]
[]
[null,"Annex 2.9.1.1b Equipment and Instrument for Laboratory"]
[null,"S.N.","Name of Instruments","Required Quantity","Score"]
[null,"1.      ","Microscope",3]
[null,"2.      ","Fully automated biochemistry analyser",1]
[null,"3.      ","Fully automated hematology analyser",1]
[null,"4.      ","ELISA/CLIA/ECL","1 for ELISA 2 for others"]
[null,"5.      ","Incubator",1]
[null,"6.      ","Biosafety cabinet ( for microbiology)",1]
[null,"7.      ","Chemical Balance",1]
[null,"8.      ","Electrolyte Analyzer",1]
[null,"9.      ","Hot air Oven",1]
[null,"10.   ","Refrigerator","2019-01-02"]
[null,"11.   ","Centrifuge","2019-01-02"]
[null,"12.   ","Counting Chamber","2019-01-02"]
[null,"13.   ","DLC counter","2019-01-02"]
[null,"14.   ","Pipettes, Glassware/ kits","As per need"]
[null,"15.   ","Computer with printer",1]
[null,"16.   ","Water Bath",1]
[null,"17.   ","Disposable test tubes","As per need"]
[null,"18.   ","Different Closed vacuum set(for sample) hematology, biochemestry",1]
[null,"19.   ","Autoclave for waste disposal 9250 liter, per vacuum with horizontal outlet","As per need"]
[null,"20.   ","Geimsa and PAP stain",1]
[null,"Total Score",null,null,{"$f":"SUM(E1331:E1350)","v":0}]
[null,"Total percentage = Total Score/ 20 x 100",null,null,{"$f":"+E1351/20","v":{"v":0,"d":"0%"}}]
[null,"Each row gets a score of 1 if all the required number is available otherwise 0."]
[{"$nulls":3},"Scoring chart"]
[{"$nulls":3},"Total percentage","Score"]
[{"$nulls":3},"0% - 50%",0]
[{"$nulls":3},"50% - 70%",1]
[{"$nulls":3},"70% - 85%",2]
[{"$nulls":3},"85% - 100%",3]
[{"$nulls":3},"Score for Standard 2.9.1.1.3",{"$f":"IF(E1352<=0.4999,0, IF(E1352<=0.6999,1, IF(E1352<=0.8499,2,3)))","v":0}]
[]
[null,"Annex 2.9.1.1c Equipment and Instrument for Blood Bank"]
[null,"S.N.","Name of Instruments","Required Quantity","Score"]
[null,"1.  ","Blood bank refrigerator 2 to 4٥ C",2]
[null,"2.  ","Ordinary centrifuge ",3]
[null,"3.  ","Deep freezer (-20°C to -30°C) ",1]
[null,"4.  ","Generator 60 KVA","As per need"]
[null,"Total score",null,null,{"$f":"SUM(E1364:E1367)","v":0}]
[null,"Total percentage= Total Score/ 4 x 100",null,null,{"$f":"+E1368/4","v":{"v":0,"d":"0%"}}]
[null,"Each row gets a score of 1 if the mentioned test is available otherwise 0."]
[{"$nulls":3},"Scoring chart"]
[{"$nulls":3},"Total Percentage","Score"]
[{"$nulls":3},"0% - 50%",0]
[{"$nulls":3},"50% - 70%",1]
[{"$nulls":3},"70% - 85%",2]
[{"$nulls":3},"85% - 100%",3]
[{"$nulls":3},"Score 2.9.1.1.9.2",{"$f":"IF(E1369<=0.4999,0, IF(E1369<=0.6999,1, IF(E1369<=0.8499,2,3)))","v":0}]
[]
[null,"Annex 2.9.1.2a Blood Bank Furniture and Supplies"]
[null,"S.N.","Furniture and supplies","Required Quantity","Score"]
[null,"1.  ","Working desk with two chairs","1 set"]
[null,"2.  ","Patient chair for blood collection",1]
[null,"3.  ","Blood bag single and/or component","As per need"]
[null,4,"IV canula 16 G","As per need"]
[null,"5.  ","BP cuff",1]
[null,"6.  ","Stethoscope",1]
[null,"7.  ","Weighing machine (for patient and for blood)","As per need"]
[null,"8.      ","Band aid, cotton and spirit","As per need"]
[null,"9.      ","Needle cutter","as per need"]
[null,"10.   ","Reagents Kits for ABO/Rh serology/cross-matching requirement","as per need"]
[null,11,"Glass ware for blood grouping (ABO/Rh)","as per need"]
[null,"Total score",null,null,{"$f":"SUM(E1381:E1391)","v":0}]
[null,"Total percentage= Total Score/ 11 x 100",null,null,{"$f":"+E1392/11","v":{"v":0,"d":"0%"}}]
[null,"Each row gets a score of 1 if the mentioned test is available otherwise 0."]
[{"$nulls":3},"Scoring chart"]
[{"$nulls":3},"Total Percentage","Score"]
[{"$nulls":3},"0% - 50%",0]
[{"$nulls":3},"50% - 70%",1]
[{"$nulls":3},"70% - 85%",2]
[{"$nulls":3},"85% - 100%",3]
[{"$nulls":3},"Score 2.9.1.2.3.3",{"$f":"IF(E1393<=0.4999,0, IF(E1393<=0.6999,1, IF(E1393<=0.8499,2,3)))","v":0}]
[]
[null,"Annex 2.9.1.2 b Equipment and Instrument for Blood Bank"]
[null,"S.N.","Name of Instruments","Required Quantity","Score"]
[null,"1.  ","Blood bank refrigerator 2 to 4٥ C",2]
[null,"2.  ","Ordinary centrifuge ",3]
[null,"3.  ","Deep freezer (-20°C to -30°C) ",1]
[null,"4.  ","Deep freezer (-80°C) ",1]
[null,"5.  ","Platelet Shaker",1]
[null,"6.  ","Autoclave ",1]
[null,"7.  ","Computer with printer ",1]
[null,"8.  ","Gamma radiation chamber ","1 (optional*)"]
[null,"9.  ","Microscope ",1]
[null,"10.  ","Auto pipettes (20, 50, 100 μl)","2 each"]
[null,"11.  ","Incubator ",2]
[null,"12.  ","Water Bath ",3]
[null,"13.  ","Hot Air Oven",2]
[null,"14.  ","Generator 60 KVA","as per need"]
[null,"Total score",null,null,{"$f":"SUM(E1405:E1418)","v":0}]
[null,"Total percentage= Total Score/ 14 x 100",null,null,{"$f":"+E1419/14","v":{"v":0,"d":"0%"}}]
[null,"Each row gets a score of 1 if the mentioned test is available otherwise 0."]
[{"$nulls":3},"Scoring chart"]
[{"$nulls":3},"Total Percentage","Score"]
[{"$nulls":3},"0% - 50%",0]
[{"$nulls":3},"50% - 70%",1]
[{"$nulls":3},"70% - 85%",2]
[{"$nulls":3},"85% - 100%",3]
[{"$nulls":3},"Score 2.9.1.2.4",{"$f":"IF(E1420<=0.4999,0, IF(E1420<=0.6999,1, IF(E1420<=0.8499,2,3)))","v":0}]
[]
[null,"Annex 2.10 a :  Furniture and Supplies for Dental Services"]
[null,"SN","General Items","Required No.","Score","Max Score"]
[null,1,"Working desk","1 for each practitioner",null,1]
[null,2,"Working Chairs","1 for each practitioner",null,1]
[null,3,"Patient chairs","2 for each working desk",null,1]
[null,4,"Examination table","1 in each OPD room",null,1]
[null,5,"Foot Steps","1 in each OPD room",null,1]
[null,6,"Curtain separator for examination beds","In each examination bed",null,1]
[null,7,"Shelves for papers","As per need",null,1]
[null,8,"Weighing scale","Adult and Child",null,1]
[null,"Total Score",null,null,{"$f":"SUM(E1432:E1439)","v":0},{"$f":"SUM($F$1432:$F$1439)","v":8}]
[null,"Total Percentage = Total Score/8 X 100",null,null,{"$f":"+E1440/8","v":{"v":0,"d":"0%"}}]
[null,"Total Percentage = Total Score/8 X 100",null,null,{"$f":"+E1441/8","v":{"v":0,"d":"0%"}}]
[]
[null,"Each row gets a score of 1 in each row if is available otherwise 0"]
[{"$nulls":3},"Scoring chart"]
[{"$nulls":3},"Total percentage","Score"]
[{"$nulls":3},"0% - 50%",0]
[{"$nulls":3},"50% - 70%",1]
[{"$nulls":3},"70% - 85%",2]
[{"$nulls":3},"85% - 100%",3]
[{"$nulls":3},"Score for Standard 2.10.5.3",{"$f":"IF(E1441<=0.4999,0, IF(E1441<=0.6999,1, IF(E1441<=0.8499,2,3)))","v":0}]
[]
[]
[null,"Annex 2.10 b :  Basic Equipment and Instrument for Dental Services"]
[null,"S.No."," Instruments and Equipment for Dental OPD","Required numbers","Score","Max Score"]
[null,"Diagnostic"]
[null,1,"Mouth mirror",10,null,1]
[null,2,"Explorer",10,null,1]
[null,3,"St. Probe",5,null,1]
[null,4,"Tweezers",10,null,1]
[null,5,"Periodontal probe",2,null,1]
[null,6,"Kidney tray small and large",5,null,1]
[null,7,"Plastic tray",10,null,1]
[null,"Extraction forceps"]
[null,8,"Upper premolar",1,null,1]
[null,9,"Upper molar (right)",2,null,1]
[null,10,"Upper molar (left)",1,null,1]
[null,11,"Upper third molar",1,null,1]
[null,12,"Lower cowhorn forceps",3,null,1]
[null,13,"Lower third molar",1,null,1]
[null,14,"Lower root forceps",1,null,1]
[null,"Elevators"]
[null,15,"Compland elevators (small and large)",10,null,1]
[null,16,"Cryers","1 set",null,1]
[null,17,"Pointed elevator",2,null,1]
[null,18,"Apexoelevator",2,null,1]
[null,"Surgical"]
[null,19,"Bp handle",2,null,1]
[null,20,"Needle holder",3,null,1]
[null,21,"Artery forceps",2,null,1]
[null,22,"Toothed forceps",2,null,1]
[null,23,"Scissors (suture cutting)",1,null,1]
[null,24,"21 no wire","2 packets",null,1]
[null,25,"Wire cutter",1,null,1]
[null,"Restorative"]
[null,26,"Airotor handpiece",2,null,1]
[null,"Burs"]
[null,27,"Round burs (smalland large)",5,null,1]
[null,28,"Straight bur",2,null,1]
[null,29,"Inverted cone bur",2,null,1]
[null,30,"Composite finishing bur",1,null,1]
[null,31,"Cement spatula",1,null,1]
[null,32,"Plastic spatula",1,null,1]
[null,33,"Glass slab",1,null,1]
[null,34,"Mixing paper pad",1,null,1]
[null,35,"Cement carrier",5,null,1]
[null,36,"Condenser (round)",5,null,1]
[null,37,"Ball burnisher",2,null,1]
[null,38,"Spoon excavators",5,null,1]
[null,39,"Toffle wire matrix retainer",1,null,1]
[null,40,"Matrix band (steel)","2 packets",null,1]
[null,41,"Matrix band (plastic)","1 packets",null,1]
[null,42,"Wedge","1 packets",null,1]
[null,43,"Dycal tip",2,null,1]
[null,"Dental materials"]
[null,44,"Gic (restorative)","1 set",null,1]
[null,45,"Miracle mix","1 set",null,1]
[null,46,"Composite filling set","As per need",null,1]
[null,47,"Etchant",1,null,1]
[null,48,"Bonding agent",1,null,1]
[null,49,"Composite = shades a1 a2a3b1b2","1 each",null,1]
[null,50,"Bonding agent applicator","1 packet",null,1]
[null,51,"Dycal","1 set",null,1]
[null,52,"Cavit(temporary restorative)",1,null,1]
[null,53,"Zinc phosphate (restorative)","1 set",null,1]
[null,54,"Vaseline",1,null,1]
[null,"Scaling"]
[null,55,"Suction tips"," 2 packets",null,1]
[null,56,"Curette (universal curette)",3,null,1]
[null,"Pedo  forceps"]
[null,57,"Upper anterior",2,null,1]
[null,58,"Upper root",1,null,1]
[null,59,"Upper molar",2,null,1]
[null,60,"Lower anterior",2,null,1]
[null,61,"Lower molar",2,null,1]
[null,"Additional instruments/supplies"]
[null,62,"Local anesthesia (2% lidocane with adrenaline)","1 box",null,1]
[null,63,"Syringe 1ml 2ml 3ml","1 packet each",null,1]
[null,64,"Gauge","1 packet",null,1]
[null,65,"Cotton roll","1 packet",null,1]
[null,66,"Normal sline","1 bottle",null,1]
[null,67,"Betadine","1 bottle",null,1]
[null,68,"Micromotor (slow speed round bur)","1(2)",null,1]
[null,69,"H2o2","1 bottle",null,1]
[null,70,"Dental floss","1 packet",null,1]
[null,71,"Surgical gloves","As per need",null,1]
[null,72,"Loose gloves","As per need",null,1]
[null,"Total score",null,null,{"$f":"SUM(E1456:E1537)","v":0},{"$f":"SUM(F1456:F1537)","v":72}]
[null,"Percentage= Total score/ 72 x 100",null,null,{"$f":"+E1538/72","v":{"v":0,"d":"0%"}}]
[null,"Each row gets a score of 1 in each row if is available otherwise 0"]
[{"$nulls":3},"Scoring chart"]
[{"$nulls":3},"Total percentage","Score"]
[{"$nulls":3},"0% - 50%",0]
[{"$nulls":3},"50% - 70%",1]
[{"$nulls":3},"70% - 85%",2]
[{"$nulls":3},"85% - 100%",3]
[{"$nulls":3},"Score for Standard 2.10.6.1",{"$f":"IF(E1539<=0.4999,0, IF(E1539<=0.6999,1, IF(E1539<=0.8499,2,3)))","v":0}]
[]
[]
[null,"Annex 2.11a Supplies and instrument for post mortem services"]
[null," S.No.","Supplies and instrument","Required Number","Score"]
[null,1,"Refrigeration chamber or cool room for body preservation ","2-4 bodies capacity"]
[null,2,"Dissection set of instruments for autopsy","2 sets"]
[null,3,"Magnifying lens; 20 and 40 times","1 each"]
[null,4,"Measuring tape",2]
[null,5,"Weighing machine for organs and if possible for dead body",1]
[null,6,"Camera for photography",1]
[null,7,"Glass tubes for blood collection and tissue collection; reasonable numbers for regular use","as per need"]
[null,8,"Glass slides; reasonable number for regular use","as per need"]
[null,9,"EDTA","as per need"]
[null,10,"Sodium Floride -200 or 500 gm",1]
[null,11,"Formalin solution","as per need"]
[null,12,"Plastic made wide mouth containers of 500 ml capacity ; reasonable numbers for regular need","as per need"]
[null,13,"Sodium chloride (table salt); reasonable amount for regular use","as per need"]
[null,14,"Autopsy gown","2 sets"]
[null,15,"Gum boots","2 pairs"]
[null,16,"Gloves and masks","as per need"]
[null,17,"Computer with printer for report preparation",1]
[null,18,"Cleaning agents; soap, detergents","as per need"]
[null,19,"Sealing materials; specific seal tape or wax seal and seal print","as per need"]
[null,20,"Autopsy and skeletal remains SOP, Reference Manual","as per need"]
[null,"Total score",null,null,{"$f":"SUM(E1552:E1571)","v":0}]
[null,"Percentage= Total score/20 x 100",null,null,{"$f":"+E1572/20","v":{"v":0,"d":"0%"}}]
[null,"Each row gets a score of 1 if the mentioned test is available otherwise 0."]
[{"$nulls":3},"Scoring"]
[{"$nulls":3},"Total Percentage","Score"]
[{"$nulls":3},"0% - 50%",0]
[{"$nulls":3},"50% - 70%",1]
[{"$nulls":3},"70% - 85%",2]
[{"$nulls":3},"85% - 100%",3]
[{"$nulls":3},"Score for Standard 2.11.4",{"$f":"IF(E1573<=0.4999,0, IF(E1573<=0.6999,1, IF(E1573<=0.8499,2,3)))","v":0}]
[]
[]
[null,"Annex 2.12a Supplies and instrument for clinical  medico-legal services"]
[null,"S.No.","Supplies and instrument","Required number","Score"]
[null,1,"Weight machine and height scale","1 each"]
[null,2," BP set, stethoscope and torch light","1 each"]
[null,3,"Examination kits; sexual offence cases (rape victim examination kit)","as per need"]
[null,4,"Gloves and masks","as per need"]
[null,5," Magnifying lens; 20 and 40 times ","1 each"]
[null,6,"Measuring tape","As per need"]
[null,7,"Camera for photography",1]
[null,8,"Paper envelopes of different sizes for collection of samples and packing","as per need"]
[null,9,"Glass tubes for collection of blood urine; reasonable number for regular use","as per need"]
[null,10," X ray plate view box",1]
[null,11," EDTA and Sodium floride 500 gm","As per need"]
[null,12,"Glass slides; reasonable number for regular use","as per need"]
[null,13,"Cupboards for store and necessary other furniture for examination room","as per need"]
[null,14," Sealing materials as for autopsy room","as per need"]
[null,15," Computer and printer for report preparation as in autopsy",1]
[null,16," SOPs and Reference Manuals for age estimation, sexual offence case examination, injury examination, drunkenness examination, mental state examination and torture victim examination.",1]
[null,"Total score",null,null,{"$f":"SUM(E1586:E1601)","v":0}]
[null,"Percentage= Total score/16 x 100",null,null,{"$f":"+E1602/16","v":{"v":0,"d":"0%"}}]
[null,"Each row gets a score of 1 if the mentioned test is available otherwise 0."]
[{"$nulls":3},"Scoring"]
[{"$nulls":3},"Total Percentage","Score"]
[{"$nulls":3},"0% - 50%",0]
[{"$nulls":3},"50% - 70%",1]
[{"$nulls":3},"70% - 85%",2]
[{"$nulls":3},"85% - 100%",3]
[{"$nulls":3},"Score for Standard 2.12.4.1",{"$f":"IF(E1603<=0.4999,0, IF(E1603<=0.6999,1, IF(E1603<=0.8499,2,3)))","v":0}]
[]
[null,"Annex 2.13a Physical Facilities for OCMC"]
[null,"SN","General Items","Required No.","Score"]
[null,1,"Rooms for treatment room/examination room, office and guard room","1 each"]
[null,2,"Toilet allocated for OCMC services","as per need"]
[null,3,"Curtains to maintain confidentiality during the forensic examination","as per need"]
[null,4,"Examination table",1]
[null,5,"Desk ",1]
[null,6,"Chairs",3]
[null,7,"Cupboard to keep clients' information with filing cabinet",1]
[null,8,"Movable table lamp",1]
[null,9,"toilet and bathroom for clients' use (water, bucket, mug, soap, towel)","as per need"]
[null,10,"Hand washing facility for service provider","as per need"]
[null,11,"Refrigerator and lockable cupboard for specimen store",1]
[null,12,"Telephone",1]
[null,13,"Computer and printer","1set"]
[null,14,"Boiler (for tea)","1 set"]
[null,"Total score",null,null,{"$f":"SUM(E1615:E1628)","v":0}]
[null,"Percentage= Total score/14 x 100",null,null,{"$f":"+E1629/14","v":{"v":0,"d":"0%"}}]
[null,"Each row gets a score of 1 if the mentioned test is available otherwise 0."]
[{"$nulls":3},"Scoring"]
[{"$nulls":3},"Total Percentage","Score"]
[{"$nulls":3},"0% - 50%",0]
[{"$nulls":3},"50% - 70%",1]
[{"$nulls":3},"70% - 85%",2]
[{"$nulls":3},"85% - 100%",3]
[{"$nulls":3},"Score for Standard 2.13.4",{"$f":"IF(E1630<=0.4999,0, IF(E1630<=0.6999,1, IF(E1630<=0.8499,2,3)))","v":0}]
[]
[null,"Annex 2.13b Instruments and supplies for treatment in OCMC"]
[null,"SN","General Items","Required No.","Score"]
[null,1,"Sphygmomanometer (B.P. Instrument)",1]
[null,2,"Stethoscope",1]
[null,3,"Torch Light ",1]
[null,4," Tongue Depressor","as per need"]
[null,5,"Tourniquet",1]
[null,6,"Sterilized Gloves as required","as per need"]
[null,7," Sterilized Syringe and Needles as required","as per need"]
[null,8,"Cotton and Bandage as required","as per need"]
[null,9,"Sterilized Vial for sample collection ","as per need"]
[null,10," Different sized Reflecting Mirrors (big, medium and small)","1 each"]
[null,11,"Sterilized Speculum",1]
[null,12,"Glutaradehylde solution for high level of infection prevention ","as per need"]
[null,13," Chlorine powder to sterilize the used materials/tools","as per need"]
[null,14,"Protoscope /Anscope",1]
[null,15," Pregnancy Test Kit","as per need"]
[null,16,"Specimen collection materials for communicable Sexually Transmitted Infections","as per need"]
[null,17,"Lubricant, Clean Water, Normal Saline","as per need"]
[null,18,"Tray for sharp instruments, such as scissors, knife etc. ","as per need"]
[null,19,"Height Measuring Scale",1]
[null,20,"Weight Measuring Scale",1]
[null,"Total score",null,null,{"$f":"SUM(E1642:E1661)","v":0}]
[null," Total Percentage = Total Score/ 20 x 100",null,null,{"$f":"+E1662/20","v":{"v":0,"d":"0%"}}]
[null,"Each row gets a score of 1 if the mentioned test is available otherwise 0."]
[{"$nulls":3},"Scoring"]
[{"$nulls":3},"Total Percentage","Score"]
[{"$nulls":3},"0% - 50%",0]
[{"$nulls":3},"50% - 70%",1]
[{"$nulls":3},"70% - 85%",2]
[{"$nulls":3},"85% - 100%",3]
[{"$nulls":3},"Score for Standard  2.13.6.1",{"$f":"IF(E1663<=0.4999,0, IF(E1663<=0.6999,1, IF(E1663<=0.8499,2,3)))","v":0}]
[]
[null,"Annex 2.13c Instruments and supplies for evidence collection in OCMC"]
[null,"SN","General Items","Required No.","Score"]
[null,1," Cotton/material to collect sperm, Blood, Saliva etc. from survivor","as per need"]
[null,2,"Container/vessel to keep the collected specimen ","as per need"]
[null,3,"Materials to swab ","as per need"]
[null,4,"Microscopeslide","as per need"]
[null,5,"Vialsforbloodcollection","as per need"]
[null,6,"Vials to collect urine for pregnancy test","as per need"]
[null,7,"Paper or plastic seat ","as per need"]
[null,8,"Paper bag to hold clothes and other items","as per need"]
[null,9,"Air spatula and slide for pap smear","as per need"]
[null,10,"Fixing solutions: hair spray, alcohol etc","as per need"]
[null,11,"Analgesic : Normal medications like Paracetamol, Ibuprofen etc. for pain relief ","as per need"]
[null,12,"Emergency Contraceptives: Pills and IUCD","as per need"]
[null,13,"Thread for Suturing","as per need"]
[null,14,"Immunization for Tetanus and Hepatitis","as per need"]
[null,15,"STI Preventive ","as per need"]
[null,16,"Bed Sheet and Blankets for examination table","as per need"]
[null,17,"Towel ","as per need"]
[null,18,"Clothes for Survivor (if her clothes are torn or stained). ","as per need"]
[null,19,"Gown to be worn during the examination ","as per need"]
[null,20,"Sanitary Pads and Tampons for internal use","as per need"]
[null,21,"Documentation forms and recording forms","as per need"]
[null,22,"Camera and Film for evidence collection",1]
[null,23,"Colposcope or Magnifying Glass",1]
[null," Total score",null,null,{"$f":"SUM(E1675:E1697)","v":0}]
[null,"Total Percentage = Total Score/ 23 x 100",null,null,{"$f":"+E1698/23","v":{"v":0,"d":"0%"}}]
[null,"Each row gets a score of 1 if the mentioned test is available otherwise 0."]
[{"$nulls":3},"Scoring"]
[{"$nulls":3},"Total Percentage","Score"]
[{"$nulls":3},"0% - 50%",0]
[{"$nulls":3},"50% - 70%",1]
[{"$nulls":3},"70% - 85%",2]
[{"$nulls":3},"85% - 100%",3]
[{"$nulls":3},"Score for Standard 2.13.6.2",{"$f":"IF(E1699<=0.4999,0, IF(E1699<=0.6999,1, IF(E1699<=0.8499,2,3)))","v":0}]
[]
[null,"Annex 2.14a Instruments and equipment physiotherapy"]
[null,"SN","Instruments and equipment","Required No.","Score"]
[null,1,"Traction unit ",2]
[null,2,"IFT(Interferential treatment)",4]
[null,3,"Ultrasound(treatment) unit",4]
[null,4,"TENS (Transcutaneous nerve stimulation)",4]
[null,5,"Muscle stimulator",3]
[null,6,"Parallel bar ",1]
[null,7,"Quadriceps Table",1]
[null,8,"Therabands",5]
[null,9,"Heel exerciser",1]
[null,10,"CPM machine knee and elbow",1]
[null,11,"Physio ball 55'' 65'' and 90''",3]
[null,12,"Moist heat unit",1]
[null,13,"Wax unit",1]
[null,14,"Foot step",1]
[null,15,"Pulley Set",2]
[null,16,"Shoulder wheel",2]
[null,17,"Dumbell set",2]
[null,18,"Static Cycle",1]
[null,19,"Weight Cuffs set",2]
[null,20,"Shortwave diathermy",1]
[null,21,"Mobilization table / bed",2]
[null,"Total Score",null,null,{"$f":"SUM(E1711:E1731)","v":0}]
[null,"Total Percentage= Total Score/21 x100",null,null,{"$f":"+E1732/21","v":{"v":0,"d":"0%"}}]
[null,"Each row gets a score of 1 if the mentioned test is available otherwise 0."]
[{"$nulls":3}," Scoring"]
[{"$nulls":3},"Total Percentage","Score"]
[{"$nulls":3},"0% - 50%",0]
[{"$nulls":3},"50% - 70%",1]
[{"$nulls":3},"70% - 85%",2]
[{"$nulls":3},"85% - 100%",3]
[{"$nulls":3},"Score for Standard 2.14.7",{"$f":"IF(E1733<=0.4999,0, IF(E1733<=0.6999,1, IF(E1733<=0.8499,2,3)))","v":0}]

{"sheet":"Annex 3.1a-3.11a","index":7,"n_rows":137,"n_cols":5,"rows_kept":137,"merged":[[0,1,0,4],[19,1,19,3],[20,1,20,3],[21,1,21,3],[23,2,23,3],[31,1,31,4],[48,1,48,3],[49,1,49,3],[50,1,50,4],[51,1,51,4],[52,2,52,3],[60,1,60,4],[88,1,88,3],[89,1,89,3],[90,1,90,4],[91,2,91,3],[99,1,99,3],[107,1,107,3],[108,1,108,3],[110,2,110,3],[118,1,118,4],[127,1,127,3],[128,1,128,3],[129,1,129,4],[130,2,130,3]]}
[null,"Annex 3.1a CSSD Equipment and Supplies"]
[null,"SN","Items","Required No.","Score"]
[null,"1.      ","Working Table",3]
[null,"2.      ","Trolley for Transportation",2]
[null,"3.      ","Steel Drums",10]
[null,"4.      ","Storage Shelves",2]
[null,"5.      ","Autoclave Machine (250 liter, pre-vacuum, with horizontal outlet)",2]
[null,"6.      ","Double Wrappers","As per need"]
[null,"7.      ","Timer",2]
[null,"8.      ","Thermal Indicator Tape","As per need"]
[null,"9.      ","Cap, Mask, Gown, Apron","As per need"]
[null,"10.   ","Gloves","1 box"]
[null,"11.   ","Cotton Rolls","As per need"]
[null,"12.   ","Cotton Gauze ","As per need"]
[null,"13.   ","Scissors",2]
[null,"14.   ","Gauze cutter",2]
[null,"15.   ","Buckets",5]
[null,"16.   ","Scrub Brush","As per need"]
[null,"17.   ","Hamper bag (cloth sack for collection of wrappers)","As per need"]
[null,"Total Score",null,null,{"$f":"SUM(E3:E19)","v":0}]
[null,"Total Percentage = Total Score/17 X 100",null,null,{"$f":"+E20/17","v":{"v":0,"d":"0%"}}]
[null,"Each row gets a score of 1 if all the required number is available otherwise 0."]
[]
[null,null,"Scoring Chart"]
[null,null,"Total Percentage","Score"]
[null,null,"0% - 50%",0]
[null,null,"50% - 70%",1]
[null,null,"70% - 85%",2]
[null,null,"85% - 100%",3]
[null,null," Score for Standard 3.1.3",{"$f":"IF($E21<=0.4999,0, IF($E21<=0.6999,1, IF($E21<=0.8499,2,3)))","v":0}]
[]
[null,"Annex 3.2a Equipment and Supplies for Laundry"]
[null,"SN","List of equipment and supplies ","Required No.","Score"]
[null,"1.      ","Working table",1]
[null,"2.      ","Ironing Table",1]
[null,"3.      ","Storage Shelves",2]
[null,"4.      ","Trolley for Transportation ",2]
[null,"5.      ","Washing Machine (at least 10 kg capacity with semi/full dryer)",2]
[null,"6.      ","Iron Machine",1]
[null,"7.      ","Buckets/ Basins",5]
[null,"8.      ","Stirrer (wooden)",2]
[null,"9.      ","Boots","2 pairs"]
[null,"10.   ","Cap, Mask, Gowns","As per need"]
[null,"11.   ","Ropes (for drying)","As per need"]
[null,"12.   ","Scrub Brush","As per need"]
[null,"13.   ","House/ Utility Gloves","As per need"]
[null,"14.   ","Washing Powder","As per need"]
[null,"15.   ","Chlorine Liquid/ Powder","As per need"]
[null,"Total Obtained Score",null,null,{"$f":"SUM(E34:E48)","v":0}]
[null,"Total Percentage = Total Obtained Score/15 X 100",null,null,{"$f":"+E49/15","v":{"v":0,"d":"0%"}}]
[null,"Each row gets a score of 1 if all the required number is available otherwise 0."]
[]
[null,null,"Scoring Chart"]
[null,null,"Total Percentage","Score"]
[null,null,"0% - 50%",0]
[null,null,"50% - 70%",1]
[null,null,"70% - 85%",2]
[null,null,"85% - 100%",3]
[null,null,"Score for Standard 3.2.3",{"$f":"IF($E50<=0.4999,0, IF($E50<=0.6999,1, IF($E50<=0.8499,2,3)))","v":0}]
[]
[null,"Annex 3.3a Housekeeping Basic Supplies"]
[null,"SN","General Items","Required No.","Score"]
[null,"1.      ","Working Table and Chair",1]
[null,"2.      ","Telephone",1]
[null,"3.      ","Housekeeping Storage Room",1]
[null,"4.      ","Shelves",2]
[null,"5.      ","Cupboards",2]
[null,"6.      ","Log Book for Records",1]
[null,"7.      ","Vacuum Cleaner",1]
[null,"8.      ","Sickle","As per need"]
[null,"9.      ","Spade","As per need"]
[null,"10.   ","Shovel ","As per need"]
[null,"11.   ","Ropes","As per need"]
[null,"12.   ","Scrub Brush","As per need"]
[null,"13.   ","Broom","As per need"]
[null,"14.   ","Buckets","As per need"]
[null,"15.   ","Jars","As per need"]
[null,"16.   ","Sprinkle Pipe","As per need"]
[null,"17.   ","Soaps","As per need"]
[null,"18.   ","Washing Powder","As per need"]
[null,"19.   ","Additional Bed Covers for Replacement","As per need"]
[null,"20.   ","Additional Pillow ","As per need"]
[null,"21.   ","Pillow cover","As per need"]
[null,"22.   ","Blankets","As per need"]
[null,"23.   ","Personal Protective Items","As per need"]
[null,"24.   ","Window screens (jaali)","In all windows "]
[null,"25.   ","Mosquito nets","As per need"]
[null,"26.   ","Flower Pots","As per need"]
[null,"Total Score",null,null,{"$f":"SUM(E63:E88)","v":0}]
[null,"Total Percentage = Total Score/26 X 100",null,null,{"$f":"+E89/26","v":{"v":0,"d":"0%"}}]
[null,"Each row gets a score of 1 if all the required number is available otherwise 0."]
[null,null,"Scoring Chart"]
[null,null,"Total Percentage","Score"]
[null,null,"0% - 50%",0]
[null,null,"50% - 70%",1]
[null,null,"70% - 85%",2]
[null,null,"85% - 100%",3]
[null,null,"Score for Standard 3.3.3",{"$f":"IF($E90<=0.4999,0, IF($E90<=0.6999,1, IF($E90<=0.8499,2,3)))","v":0}]
[]
[null,"Annex 3.7a Safety and Security Basic Amenities"]
[null,"SN","General Items","Required No.","Score"]
[null,1,"Flash light",1]
[null,2,"Whistle",1]
[null,3,"List of Important Phone Numbers",1]
[null,4,"Key Box",1]
[null,5,"Emergency Alarm",1]
[null,6,"Fire extinguisher at least one in each block",1]
[null,"Obtained Score",null,null,{"$f":"SUM(E102:E107)","v":0}]
[null,"Total Percentage = Total Score/6 X 100",null,null,{"$f":"+E108/6","v":{"v":0,"d":"0%"}}]
[null,"Each row gets a score of 1 if all the mentioned items are available otherwise 0."]
[null,null,"Scoring Chart"]
[null,null,"Total Percentage","Score"]
[null,null,"0% - 50%",0]
[null,null,"50% - 70%",1]
[null,null,"70% - 85%",2]
[null,null,"85% - 100%",3]
[null,null,"Score for Standard 3.7.3",{"$f":"IF($E$109<=0.4999,0, IF($E$109<=0.6999,1, IF($E$109<=0.8499,2,3)))","v":0}]
[]
[null,"Annex 3.11a Physical Facilities SSU"]
[null,"SN","General Items","Required No.","Score"]
[null,"1.      ","Separate space for SSU","Available"]
[null,"2.      ","Desk ",2]
[null,"3.      ","Chairs",3]
[null,"4.      ","Cupboard to keep clients' information with filing cabinet",1]
[null,"5.      ","Recording and reporting forms","as per need"]
[null,"6.      ","Telephone",1]
[null,"7.      ","Computer and printer",1]
[null,"Total Score",null,null,{"$f":"SUM(E121:E127)","v":0}]
[null,"Percentage= Total Score / 7x 100",null,null,{"$f":"+E128/7","v":{"v":0,"d":"0%"}}]
[null,"Each row gets a score of 1 if all the mentioned items are available otherwise 0."]
[null,null,"Scoring Chart"]
[null,null,"Total Percentage","Score"]
[null,null,"0% - 50%",0]
[null,null,"50% - 70%",1]
[null,null,"70% - 85%",2]
[null,null,"85% - 100%",3]
[null,null,"Score for Standard 3.11.2",{"$f":"IF($E129<=0.4999,0, IF($E129<=0.6999,1, IF($E129<=0.8499,2,3)))","v":0}]

{"sheet":"Action Plan","index":8,"n_rows":748,"n_cols":10,"rows_kept":748,"merged":[[0,1,0,9],[1,2,1,8],[3,7,3,8],[4,7,4,8]]}
[null,"HOSPITAL MANAGEMENT STRENGTHENING PROGRAM (HMSP)"]
[null,null,"Minimum Service Standards (MSS)\nPlan of Action to Fulfill the Standard Gap"]
[]
[null,null,"Name:",{"$f":"'Summary sheet'!C5","v":0},null,null,"Date :",{"$f":"'Summary sheet'!C7","v":"00:00:00"}]
[null,null,"Event:",{"$f":"'Summary sheet'!D9","v":""},null,null,"Venue :"]
[]
["Annex\nScore","Standard Score","Std No.","Prioritized Gap","Action Step to be taken to fulfill the gaps","Person Responsible","Time Frame","Tentative Cost","Type of Support (Managerial)","Type of Support (Budgetary)"]
[null,{"$f":"Standards!D4","v":0},{"$f":"Standards!B4","v":"1.1.1"},{"$f":"Standards!C4","v":"Hospital Management Committee is formed"}]
[null,{"$f":"Standards!D5","v":0},{"$f":"Standards!B5","v":"1.1.2"},{"$f":"Standards!C5","v":"All HMC members have received an orientation on HMC functions"}]
[null,{"$f":"Standards!D6","v":0},{"$f":"Standards!B6","v":"1.1.3"},{"$f":"Standards!C6","v":"Medical Superintendent is fulfill as per organogram"}]
[null,{"$f":"Standards!D7","v":0},{"$f":"Standards!B7","v":"1.1.4.1"},{"$f":"Standards!C7","v":"HMC meetings called upon by member secretary / Medical Superintendent headed by chairperson conducted at least 3 times per year or as per need"}]
[null,{"$f":"Standards!D9","v":0},{"$f":"Standards!B9","v":" 1.1.4.2.1"},{"$f":"Standards!C9","v":"Hospital services and utilization"}]
[null,{"$f":"Standards!D10","v":0},{"$f":"Standards!B10","v":" 1.1.4.2.2"},{"$f":"Standards!C10","v":"Hospital’s financial issues"}]
[null,{"$f":"Standards!D11","v":0},{"$f":"Standards!B11","v":"1.1.4.2.3"},{"$f":"Standards!C11","v":"Patient rights issues e.g. patient facilities, analysis of complaints received, patient security"}]
[null,{"$f":"Standards!D12","v":0},{"$f":"Standards!B12","v":"1.1.4.2.4"},{"$f":"Standards!C12","v":"Management issues- HR issues, security issues"}]
[null,{"$f":"Standards!D13","v":0},{"$f":"Standards!B13","v":"1.1.4.2.5"},{"$f":"Standards!C13","v":"Infrastructure/ Equipment issues"}]
[null,{"$f":"Standards!D14","v":0},{"$f":"Standards!B14","v":"1.1.4.2.6"},{"$f":"Standards!C14","v":"Coordination issues with local governance- rural municipality/ municipality, provincial, federal, DoHS, MoHP"}]
[null,{"$f":"Standards!D15","v":0},{"$f":"Standards!B15","v":"1.1.4.2.7"},{"$f":"Standards!C15","v":"Review of decisions and recommendations of staff meeting and QI Committee meetings discussions"}]
[null,{"$f":"Standards!D16","v":0},{"$f":"Standards!B16","v":"1.1.5.1"},{"$f":"Standards!C16","v":"Hospital implements health insurance program"}]
[null,{"$f":"Standards!D17","v":0},{"$f":"Standards!B17","v":"1.1.5.2"},{"$f":"Standards!C17","v":"All targeted women receive Aama Surakhsya program incentives on time (in last quarter)"}]
[null,{"$f":"Standards!D18","v":0},{"$f":"Standards!B18","v":"1.1.6"},{"$f":"Standards!C18","v":"Annual plan & budget is approved by HMC before the fiscal year starts"}]
[null,{"$f":"Standards!D19","v":0},{"$f":"Standards!B19","v":"1.1.7"},{"$f":"Standards!C19","v":"There is a separate locker for HMC documents."}]
[null,{"$f":"Standards!D20","v":0},{"$f":"Standards!B20","v":" 1.1.8.1"},{"$f":"Standards!C20","v":"Updated citizens charter is displayed"}]
[null,{"$f":"Standards!D21","v":0},{"$f":"Standards!B21","v":" 1.1.8.2"},{"$f":"Standards!C21","v":"Notices of public concern are displayed publicly"}]
[null,{"$f":"Standards!D22","v":0},{"$f":"Standards!B22","v":" 1.1.8.3"},{"$f":"Standards!C22","v":"Complaint boxes are kept in a visible place  "}]
[null,{"$f":"Standards!D23","v":0},{"$f":"Standards!B23","v":" 1.1.8.4"},{"$f":"Standards!C23","v":"Information officer opens complaint box at least once a week and issues are timely addressed"}]
[null,{"$f":"Standards!D24","v":0},{"$f":"Standards!B24","v":" 1.1.8.5"},{"$f":"Standards!C24","v":"Hospital has a website or social media account like- Facebook, Viber or Twitter- available and functional with latest information"}]
[null,{"$f":"Standards!D25","v":0},{"$f":"Standards!B25","v":"1.1.8.6"},{"$f":"Standards!C25","v":"Hospital has geriatrics friendly infrastructure (like side rails for mobilization and support)"}]
[null,{"$f":"Standards!D26","v":0},{"$f":"Standards!B26","v":"1.1.8.7"},{"$f":"Standards!C26","v":"Hospital has friendly environment for people with disability (like ramps)"}]
[null,{"$f":"Standards!D27","v":0},{"$f":"Standards!B27","v":"1.1.9.1"},{"$f":"Standards!C27","v":"Mechanism for grievance and complain handling institutionalized   "}]
[null,{"$f":"Standards!D28","v":0},{"$f":"Standards!B28","v":"1.1.9.2"},{"$f":"Standards!C28","v":"Grievance and complains are effectively addressed"}]
[null,{"$f":"Standards!D29","v":0},{"$f":"Standards!B29","v":"1.1.10"},{"$f":"Standards!C29","v":"Hospital has its own operational manual with clear information on how the hospital operates its' services"}]
[null,{"$f":"Standards!D30","v":0},{"$f":"Standards!B30","v":" 1.1.11"},{"$f":"Standards!C30","v":"Hospital Annual Report is available in website"}]
[null,{"$f":"Standards!D31","v":0},{"$f":"Standards!B31","v":" 1.1.12"},{"$f":"Standards!C31","v":"Social audit is conducted for last year by third party"}]
[null,{"$f":"Standards!D39","v":0},{"$f":"Standards!B39","v":"1.2.1.1"},{"$f":"Standards!C39","v":"Organogram of hospital showing departments/units with number of staffs is displayed"}]
[null,{"$f":"Standards!D40","v":0},{"$f":"Standards!B40","v":"1.2.1.2"},{"$f":"Standards!C40","v":"Organogram of hospital is reviewed every 2 years and forwarded to higher authority"}]
[null,{"$f":"Standards!D41","v":0},{"$f":"Standards!B41","v":" 1.2.2"},{"$f":"Standards!C41","v":"Written delegation of authorities is maintained"}]
[null,{"$f":"Standards!D42","v":0},{"$f":"Standards!B42","v":"1.2.3"},{"$f":"Standards!C42","v":"Navigation chart with services and departments guiding clients to access services"}]
[null,{"$f":"Standards!D43","v":0},{"$f":"Standards!B43","v":"1.2.4"},{"$f":"Standards!C43","v":"Hospital implements token and / or queue system for users (separate for elderly, disable and pregnant)"}]
[null,{"$f":"Standards!D44","v":0},{"$f":"Standards!B44","v":"1.2.5"},{"$f":"Standards!C44","v":"All staffs of hospital use electronic attendance"}]
[null,{"$f":"Standards!D45","v":0},{"$f":"Standards!B45","v":"1.2.6.1"},{"$f":"Standards!C45","v":"All clinical, technical and administrative staffs have apron / uniform which is worn on duty"}]
[null,{"$f":"Standards!D46","v":0},{"$f":"Standards!B46","v":"1.2.6.2"},{"$f":"Standards!C46","v":"All hospital staffs carry personal ID cards when on duty"}]
[null,{"$f":"Standards!D47","v":0},{"$f":"Standards!B47","v":" 1.2.7.1"},{"$f":"Standards!C47","v":"Hand-over meetings are conducted daily and also in concerned department"}]
[null,{"$f":"Standards!D48","v":0},{"$f":"Standards!B48","v":"1.2.7.2"},{"$f":"Standards!C48","v":"Morning conference is conducted everyday"}]
[null,{"$f":"Standards!D50","v":0},{"$f":"Standards!B50","v":"1.2.7.3.1"},{"$f":"Standards!C50","v":"Intra- departmental meeting every two weeks"}]
[null,{"$f":"Standards!D51","v":0},{"$f":"Standards!B51","v":"1.2.7.3.2"},{"$f":"Standards!C51","v":"Inter-departmental meeting once a month"}]
[null,{"$f":"Standards!D52","v":0},{"$f":"Standards!B52","v":"1.2.7.3.3"},{"$f":"Standards!C52","v":"Staff meeting once a month"}]
[null,{"$f":"Standards!D53","v":0},{"$f":"Standards!B53","v":"1.2.7.4"},{"$f":"Standards!C53","v":"Staff quarters are provided and adequate for the staffs"}]
[null,{"$f":"Standards!D54","v":0},{"$f":"Standards!B54","v":"1.2.7.5"},{"$f":"Standards!C54","v":"Separate space allocated for breast feeding for staffs/ Separate space in duty room designated for breast feeding"}]
[null,{"$f":"Standards!D62","v":0},{"$f":"Standards!B62","v":"1.3.1"},{"$f":"Standards!C62","v":"Personnel administration guideline of HMC is available (for all staffs including locally hired staff) and practiced accordingly"}]
[null,{"$f":"Standards!D63","v":0},{"$f":"Standards!B63","v":"1.3.2"},{"$f":"Standards!C63","v":"Individual records of all staffs including contract staffs are maintained and updated."}]
[{"$f":"Standards!D64","v":0},null,{"$f":"Standards!B64","v":"1.3.3.1"},{"$f":"Standards!C64","v":"Staffs available for service in hospital as per organogram (See Annex 1.3a Functional Organogram Section I: At the end of this standard)"}]
[null,{"$f":"Standards!D65","v":0},{"$f":"Standards!B65","v":"1.3.3.2"},{"$f":"Standards!C65","v":"Maaga Akriti form (माग आकृति फारम) correspondence to fulfill vacant positions to concerned authority as per guideline"}]
[null,{"$f":"Standards!D66","v":0},{"$f":"Standards!B66","v":"1.3.4"},{"$f":"Standards!C66","v":"All staffs including HMC staffs are given a job description when they are recruited/ posted to the hospital (permanent and contract staff) "}]
[null,{"$f":"Standards!D67","v":0},{"$f":"Standards!B67","v":"1.3.5.1"},{"$f":"Standards!C67","v":"Performance appraisal (का. स. मु.) of all staffs is done as per guideline"}]
[null,{"$f":"Standards!D68","v":0},{"$f":"Standards!B68","v":"1.3.6.1"},{"$f":"Standards!C68","v":"A training plan for the hospital is developed based on the training needs of the staff identified at the performance appraisal"}]
[null,{"$f":"Standards!D69","v":0},{"$f":"Standards!B69","v":"1.3.6.2"},{"$f":"Standards!C69","v":"For training and related activities, at any point of time, the acceptable work absenteeism is <10% of staff"}]
[null,{"$f":"Standards!D70","v":0},{"$f":"Standards!B70","v":"1.3.6.3"},{"$f":"Standards!C70","v":"There is activity conducted to motivate staff (staff retreat, rewards, recognition of performances, etc.) at least once a year."}]
[null,{"$f":"Standards!D71","v":0},{"$f":"Standards!B71","v":"1.3.6.4"},{"$f":"Standards!C71","v":"Hospital has system for addressing occupational hazard like needle stick injury, radiation exposure, vaccination"}]
[null,{"$f":"Standards!D72","v":0},{"$f":"Standards!B72","v":"1.3.7.1"},{"$f":"Standards!C72","v":"Hospital conducts CPD / CME classes to technical staff weekly   "}]
[null,{"$f":"Standards!D73","v":0},{"$f":"Standards!B73","v":"1.3.7.2"},{"$f":"Standards!C73","v":"Written record of attendance, subjects presented and discussed during CPD/CME"}]
[null,{"$f":"Standards!D74","v":0},{"$f":"Standards!B74","v":"1.3.7.3"},{"$f":"Standards!C74","v":"Separate space with furniture, audio-visual aids and internet for CPD/CME/meeting are available."}]
[null,{"$f":"Standards!D75","v":0},{"$f":"Standards!B75","v":"1.3.8.1"},{"$f":"Standards!C75","v":"Hospital has its own library  with sitting arrangement for readers  "}]
[null,{"$f":"Standards!D76","v":0},{"$f":"Standards!B76","v":"1.3.8.2"},{"$f":"Standards!C76","v":"A list of national health guidelines and treatment protocols available and inventory managed for readers accessing it"}]
[null,{"$f":"Standards!D77","v":0},{"$f":"Standards!B77","v":"1.3.8.3"},{"$f":"Standards!C77","v":"Computers with printing and photocopy facility available"}]
[null,{"$f":"Standards!D78","v":0},{"$f":"Standards!B78","v":"1.3.8.6"},{"$f":"Standards!C78","v":"Access to internet facility with institutional access to at least one of the international health related domain like HINARI"}]
[null,{"$f":"Standards!D86","v":0},{"$f":"Standards!B86","v":"1.4.1.1"},{"$f":"Standards!C86","v":"Dedicated account department of hospital with space and furniture"}]
[null,{"$f":"Standards!D87","v":0},{"$f":"Standards!B87","v":"1.4.1.2"},{"$f":"Standards!C87","v":"At least one accountant available for hospital financial management "}]
[null,{"$f":"Standards!D88","v":0},{"$f":"Standards!B88","v":"1.4.2.1"},{"$f":"Standards!C88","v":"An annual hospital budget is developed incorporating the revenue from services, government grants, and support provided by other organizations."}]
[null,{"$f":"Standards!D89","v":0},{"$f":"Standards!B89","v":"1.4.2.2"},{"$f":"Standards!C89","v":"Internal income is reviewed during budgeting every year."}]
[null,{"$f":"Standards!D90","v":0},{"$f":"Standards!B90","v":"1.4.3"},{"$f":"Standards!C90","v":"The service fees of the hospital are fixed by HMC every year."}]
[null,{"$f":"Standards!D91","v":0},{"$f":"Standards!B91","v":"1.4.4"},{"$f":"Standards!C91","v":"Daily income is deposited in the bank every day."}]
[null,{"$f":"Standards!D92","v":0},{"$f":"Standards!B92","v":"1.4.5.1"},{"$f":"Standards!C92","v":"Budget absorption rate of last fiscal year is as per national target"}]
[null,{"$f":"Standards!D93","v":0},{"$f":"Standards!B93","v":"1.4.5.2"},{"$f":"Standards!C93","v":"Internal audit, financial and physical progress review is done at least once each trimester (once in every 4 months)."}]
[null,{"$f":"Standards!D94","v":0},{"$f":"Standards!B94","v":" 1.4.5.3"},{"$f":"Standards!C94","v":"Final audit/ external audited accounts are available for last year."}]
[null,{"$f":"Standards!D95","v":0},{"$f":"Standards!B95","v":"1.4.6.1"},{"$f":"Standards!C95","v":"The hospital uses central electronic billing system  "}]
[null,{"$f":"Standards!D96","v":0},{"$f":"Standards!B96","v":"1.4.6.2"},{"$f":"Standards!C96","v":"The hospital uses TABUCS/ LMBIS for accounting including local income and expenses by HMC."}]
[null,{"$f":"Standards!D97","v":0},{"$f":"Standards!B97","v":"1.4.7.1"},{"$f":"Standards!C97","v":"The hospital prepares and keeps monthly financial report."}]
[null,{"$f":"Standards!D98","v":0},{"$f":"Standards!B98","v":"1.4.7.2"},{"$f":"Standards!C98","v":"Trimester financial report is produced (every 4 months) and financial status tracked and discussed in meetings"}]
[null,{"$f":"Standards!D99","v":0},{"$f":"Standards!B99","v":"1.4.7.3"},{"$f":"Standards!C99","v":"Annual financial report is submitted to HMC."}]
[null,{"$f":"Standards!D100","v":0},{"$f":"Standards!B100","v":"1.4.8.1"},{"$f":"Standards!C100","v":"Financial irregularities are responded within 35 days  "}]
[null,{"$f":"Standards!D101","v":0},{"$f":"Standards!B101","v":"1.4.8.2"},{"$f":"Standards!C101","v":"Clearance of financial authorities is done as per national target"}]
[null,{"$f":"Standards!D102","v":0},{"$f":"Standards!B102","v":"1.4.9"},{"$f":"Standards!C102","v":"Inventory inspection is done once in a year and managed accordingly"}]
[null,{"$f":"Standards!D110","v":0},{"$f":"Standards!B110","v":"1.5.1.1"},{"$f":"Standards!C110","v":"Client registration is digitized using standard software "}]
[null,{"$f":"Standards!D111","v":0},{"$f":"Standards!B111","v":"1.5.1.2"},{"$f":"Standards!C111","v":"Referral in and out records are kept using the standard form (HMIS 1.4) and register."}]
[null,{"$f":"Standards!D112","v":0},{"$f":"Standards!B112","v":"1.5.1.3"},{"$f":"Standards!C112","v":"Electronic health record system that generates the HMIS monthly report (HMIS 9.4)is in place"}]
[null,{"$f":"Standards!D113","v":0},{"$f":"Standards!B113","v":"1.5.2.1"},{"$f":"Standards!C113","v":"There is a functional Medical Record Section "}]
[null,{"$f":"Standards!D114","v":0},{"$f":"Standards!B114","v":"1.5.2.2"},{"$f":"Standards!C114","v":"All patients' records are kept in individual folders in racks or held digitally."}]
[null,{"$f":"Standards!D115","v":0},{"$f":"Standards!B115","v":"1.5.2.3"},{"$f":"Standards!C115","v":"There is a set of functional computer and printer available for maintaining medical records."}]
[null,{"$f":"Standards!D116","v":0},{"$f":"Standards!B116","v":"1.5.3.1"},{"$f":"Standards!C116","v":"Hospital monthly reports (HMIS 9.4) of the last three months are shared to the national database  "}]
[null,{"$f":"Standards!D117","v":0},{"$f":"Standards!B117","v":"1.5.3.2"},{"$f":"Standards!C117","v":"Hospital services utilization statistics are analyzed at least every month and shared with all the HODs and in-charge via email, paper and/or dashboard. (Check last three months status)"}]
[null,{"$f":"Standards!D118","v":0},{"$f":"Standards!B118","v":"1.5.3.3"},{"$f":"Standards!C118","v":"Statistics including OPD morbidity pattern data, IPD data, surveillance data are analyzed and discussed in staff meeting and CPD/CME (Check the status in the last meeting)"}]
[null,{"$f":"Standards!D119","v":0},{"$f":"Standards!B119","v":"1.5.3.4"},{"$f":"Standards!C119","v":"Key statistics of service utilization is displayed in respective Departments/ Wards "}]
[null,{"$f":"Standards!D120","v":0},{"$f":"Standards!B120","v":"1.5.3.5"},{"$f":"Standards!C120","v":"Medico-legal incidents and services are recorded"}]
[null,{"$f":"Standards!D121","v":0},{"$f":"Standards!B121","v":"1.5.4.1"},{"$f":"Standards!C121","v":"Medical recorder is trained on ICD and DHIS2"}]
[null,{"$f":"Standards!D122","v":0},{"$f":"Standards!B122","v":"1.5.4.2"},{"$f":"Standards!C122","v":"An information officer is specified to communicate with patients/clients, their relatives, media and other stakeholders."}]
[null,{"$f":"Standards!D123","v":0},{"$f":"Standards!B123","v":"1.5.4.3"},{"$f":"Standards!C123","v":"Contact details of information officer is displayed in hospital premises with photo and phone number."}]
[null,{"$f":"Standards!D131","v":0},{"$f":"Standards!B131","v":"1.6.1.1"},{"$f":"Standards!C131","v":"Hospital (QHSDMS) Committee is formed according to MSS Implementation Guideline."}]
[null,{"$f":"Standards!D132","v":0},{"$f":"Standards!B132","v":"1.6.1.2"},{"$f":"Standards!C132","v":"Hospital (QHSDMS) Committee meetings are held at least every 4 months"}]
[null,{"$f":"Standards!D133","v":0},{"$f":"Standards!B133","v":"1.6.2"},{"$f":"Standards!C133","v":"The hospital has a statement of patient rights and responsibilities, which is posted in public places in the hospital."}]
[null,{"$f":"Standards!D134","v":0},{"$f":"Standards!B134","v":"1.6.3"},{"$f":"Standards!C134","v":"The findings of social audit like client exit interview are shared in whole staff meeting"}]
[null,{"$f":"Standards!D135","v":0},{"$f":"Standards!B135","v":"1.6.4"},{"$f":"Standards!C135","v":"The hospital has assessed the hospital quality using the MSS tool at least every 4 months"}]
[null,{"$f":"Standards!D136","v":0},{"$f":"Standards!B136","v":"1.6.5"},{"$f":"Standards!C136","v":"The hospital has developed specific plans to improve quality based on the MSS assessment."}]
[{"$f":"Standards!D137","v":0},null,{"$f":"Standards!B137","v":"1.6.6"},{"$f":"Standards!C137","v":"Hospital uses QI tools for assessment of the major priority government programs\n(less than 50%=0, 50-70% =1, 70-85% = 2, 85-100% =3)"}]
[null,{"$f":"Standards!D138","v":0},{"$f":"Standards!B138","v":"1.6.7.1"},{"$f":"Standards!C138","v":"Hospital has implemented the specific activities based on the MSS plan."}]
[null,{"$f":"Standards!D139","v":0},{"$f":"Standards!B139","v":"1.6.7.2"},{"$f":"Standards!C139","v":"Hospital has implemented specific activities based on gap analysis of QI tools"}]
[null,{"$f":"Standards!D140","v":0},{"$f":"Standards!B140","v":"1.6.8.1"},{"$f":"Standards!C140","v":"The hospital has functional MPDSR committee (in program district)"}]
[null,{"$f":"Standards!D142","v":0},{"$f":"Standards!B142","v":"1.6.8.2.1"},{"$f":"Standards!C142","v":"Investigations and complications of treatment including medication error"}]
[null,{"$f":"Standards!D143","v":0},{"$f":"Standards!B143","v":"1.6.8.2.2"},{"$f":"Standards!C143","v":"Hospital acquired infections (HAI)"}]
[null,{"$f":"Standards!D144","v":0},{"$f":"Standards!B144","v":"1.6.8.3"},{"$f":"Standards!C144","v":"Mortality audit of every death in the hospital is done and reported"}]
[null,{"$f":"Standards!D145","v":0},{"$f":"Standards!B145","v":"1.6.8.4"},{"$f":"Standards!C145","v":"Hospital implements Robson’s classification (hospitals with CEONC services) "}]
[null,{"$f":"Standards!D146","v":0},{"$f":"Standards!B146","v":"1.6.8.5"},{"$f":"Standards!C146","v":"Hospital implements baby friendly initiative"}]
[{"$f":"Standards!D154","v":0},null,{"$f":"Standards!B154","v":"2.1.1.1"},{"$f":"Standards!C154","v":"OPD is open from 10 AM to 3 PM (See Checklist 2.1 At the end of this standard for scoring)."}]
[null,{"$f":"Standards!D155","v":0},{"$f":"Standards!B155","v":"2.1.1.2"},{"$f":"Standards!C155","v":"Tickets for routine OPD are available till 2 pm"}]
[null,{"$f":"Standards!D156","v":0},{"$f":"Standards!B156","v":"2.1.1.3"},{"$f":"Standards!C156","v":"EHS services from 3PM onwards and tickets available from 2PM onwards"}]
[null,{"$f":"Standards!D157","v":0},{"$f":"Standards!B157","v":"2.1.2.1"},{"$f":"Standards!C157","v":"Doctor: OPD Patients- 1:35-50 per day for quality of care"}]
[null,{"$f":"Standards!D158","v":0},{"$f":"Standards!B158","v":"2.1.2.2"},{"$f":"Standards!C158","v":"One screening counter with 1 paramedics"}]
[{"$f":"Standards!D159","v":0},null,{"$f":"Standards!B159","v":"2.1.3"},{"$f":"Standards!C159","v":"Patient privacy maintained with separate rooms, curtains hung, maintaining queuing of patients with paging system in OPD (See Checklist 2.1 At the end of this standard for scoring)."}]
[{"$f":"Standards!D160","v":0},null,{"$f":"Standards!B160","v":"2.1.4.1"},{"$f":"Standards!C160","v":"Counseling is provided to patients about the type of treatment being given and its consequences (See Checklist 2.1 At the end of this standard for scoring)."}]
[null,{"$f":"Standards!D161","v":0},{"$f":"Standards!B161","v":" 2.1.4.2"},{"$f":"Standards!C161","v":"Appropriate IEC materials (posters, leaflets etc.) as an IEC corner available in the OPD waiting area."}]
[{"$f":"Standards!D162","v":0},null,{"$f":"Standards!B162","v":"2.1.5.1"},{"$f":"Standards!C162","v":"Adequate rooms and space for the practitioners and patients are available (See Checklist 2.1 At the end of this standard for scoring)."}]
[{"$f":"Standards!D163","v":0},null,{"$f":"Standards!B163","v":"2.1.5.2"},{"$f":"Standards!C163","v":"Light and ventilation are adequately maintained. (See Checklist 2.1 At the end of this standard for scoring)"}]
[{"$f":"Standards!D165","v":0},null,{"$f":"Standards!B165","v":"2.1.5.3.1"},{"$f":"Standards!C165","v":"General Medicine OPD (See Annex 2.1a Furniture and supplies for OPD At the end of this standard)"}]
[{"$f":"Standards!D166","v":0},null,{"$f":"Standards!B166","v":"2.1.5.3.2"},{"$f":"Standards!C166","v":"Obstetrics and Gynecology OPD (See Annex 2.1a Furniture and supplies for OPD At the end of this standard)"}]
[{"$f":"Standards!D167","v":0},null,{"$f":"Standards!B167","v":"2.1.5.3.3"},{"$f":"Standards!C167","v":"Pediatrics OPD (See Annex 2.1a Furniture and supplies for OPD At the end of this standard)"}]
[{"$f":"Standards!D168","v":0},null,{"$f":"Standards!B168","v":"2.1.5.3.4"},{"$f":"Standards!C168","v":"General surgery OPD (See Annex 2.1a Furniture and supplies for OPD At the end of this standard)"}]
[{"$f":"Standards!D169","v":0},null,{"$f":"Standards!B169","v":"2.1.5.3.5"},{"$f":"Standards!C169","v":"Orthopedics OPD (See Annex 2.1a Furniture and supplies for OPD At the end of this standard)"}]
[{"$f":"Standards!D171","v":0},null,{"$f":"Standards!B171","v":"2.1.6.1"},{"$f":"Standards!C171","v":"General OPD (See Annex 2.1b Basic Equipment and Instrument for OPD At the end of this standard)"}]
[{"$f":"Standards!D172","v":0},null,{"$f":"Standards!B172","v":"2.1.6.2"},{"$f":"Standards!C172","v":"Obstetrics and Gynecology OPD (See Annex 2.1b Basic Equipment and Instrument for OPD At the end of this standard)"}]
[{"$f":"Standards!D173","v":0},null,{"$f":"Standards!B173","v":"2.1.6.3"},{"$f":"Standards!C173","v":"Pediatrics OPD (See Annex 2.1b Basic Equipment and Instrument for OPD At the end of this standard)"}]
[{"$f":"Standards!D174","v":0},null,{"$f":"Standards!B174","v":"2.1.6.4"},{"$f":"Standards!C174","v":"General surgery OPD(See Annex 2.1b Basic Equipment and Instrument for OPD At the end of this standard)"}]
[{"$f":"Standards!D175","v":0},null,{"$f":"Standards!B175","v":"2.1.6.5"},{"$f":"Standards!C175","v":"Orthopedics OPD (See Annex 2.1b Basic Equipment and Instrument for OPD At the end of this standard)"}]
[null,{"$f":"Standards!D176","v":0},{"$f":"Standards!B176","v":"2.1.7"},{"$f":"Standards!C176","v":"Duty rosters of all OPDs are developed regularly and available in appropriate location."}]
[null,{"$f":"Standards!D177","v":0},{"$f":"Standards!B177","v":"2.1.8.1"},{"$f":"Standards!C177","v":"Availability of waiting space  with sitting arrangement is available for at least 150 persons in waiting lobby (for total OPDs)"}]
[null,{"$f":"Standards!D178","v":0},{"$f":"Standards!B178","v":"2.1.8.2"},{"$f":"Standards!C178","v":"Safe drinking water is available in the waiting lobby throughout the day."}]
[null,{"$f":"Standards!D179","v":0},{"$f":"Standards!B179","v":"2.1.8.3"},{"$f":"Standards!C179","v":"There are at least four toilets with hand‑washing facilities (2 for males and 2 for females separate, one each universal toilet)"}]
[null,{"$f":"Standards!D180","v":0},{"$f":"Standards!B180","v":"2.1.8.4"},{"$f":"Standards!C180","v":"Hand‑washing facilities are available for patients"}]
[{"$f":"Standards!D181","v":0},null,{"$f":"Standards!B181","v":"2.1.9"},{"$f":"Standards!C181","v":"OPD register available in every OPD with ICD 10 classification for diagnosis recorded (electronic health recording system) (See checklist 2.1 At the end of this standard for scoring)"}]
[{"$f":"Standards!D182","v":0},null,{"$f":"Standards!B182","v":"2.1.10.1"},{"$f":"Standards!C182","v":"Masks and gloves are available and used (See Checklist 2.1 At the end of this standard for scoring)"}]
[{"$f":"Standards!D183","v":0},null,{"$f":"Standards!B183","v":"2.1.10.2"},{"$f":"Standards!C183","v":"There are well labelled colored bins for waste segregation and disposal as per HCWM guideline 2014 (MoHP) (See Checklist 2.1 At the end of this standard for scoring)"}]
[{"$f":"Standards!D184","v":0},null,{"$f":"Standards!B184","v":"2.1.10.3"},{"$f":"Standards!C184","v":"Hand‑washing facility with running water and soap or hand sanitizer is available for practitioners (See Checklist 2.1 At the end of this standard for scoring)"}]
[{"$f":"Standards!D185","v":0},null,{"$f":"Standards!B185","v":"2.1.10.4"},{"$f":"Standards!C185","v":"Needle cutter is used (See Checklist 2.1 At the end of this standard for scoring)"}]
[{"$f":"Standards!D186","v":0},null,{"$f":"Standards!B186","v":"2.1.10.5"},{"$f":"Standards!C186","v":"Chlorine solution is available and utilized for decontamination (See Checklist 2.1 At the end of this standard for scoring). "}]
[null,{"$f":"Standards!D195","v":0},{"$f":"Standards!B195","v":"2.2.1.1"},{"$f":"Standards!C195","v":"Immunization and growth monitoring service is available from 10 AM to 3 PM."}]
[null,{"$f":"Standards!D196","v":0},{"$f":"Standards!B196","v":"2.2.1.2"},{"$f":"Standards!C196","v":"Adequate numbers of healthcare workers are available (at least 2 mid-level health workers are assigned)"}]
[null,{"$f":"Standards!D197","v":0},{"$f":"Standards!B197","v":"2.2.1.3"},{"$f":"Standards!C197","v":"Appropriate techniques have been used to ensure the patient privacy (separate rooms, curtains hung, maintaining queuing of patients)."}]
[null,{"$f":"Standards!D198","v":0},{"$f":"Standards!B198","v":"2.2.1.4.1"},{"$f":"Standards!C198","v":"Counseling is provided to caretaker about the type of vaccine, its schedule, nutritional status of child."}]
[null,{"$f":"Standards!D199","v":0},{"$f":"Standards!B199","v":"2.2.1.4.2"},{"$f":"Standards!C199","v":"Appropriate IEC/BCC materials on vaccine, schedule and child growth and nutrition are available in clinic"}]
[{"$f":"Standards!D200","v":0},null,{"$f":"Standards!B200","v":"2.2.1.5"},{"$f":"Standards!C200","v":"Immunization and growth monitoring instrument, equipment and supplies are available (See Annex 2.2.1a Immunization and growth monitoring At the end of this standard)"}]
[null,{"$f":"Standards!D201","v":0},{"$f":"Standards!B201","v":"2.2.1.6.1"},{"$f":"Standards!C201","v":"Adequate rooms and space for health worker and patients are available with at least one working table, chair for health worker and two patients’ chair"}]
[null,{"$f":"Standards!D202","v":0},{"$f":"Standards!B202","v":"2.2.1.6.2"},{"$f":"Standards!C202","v":"Light and ventilation are adequately maintained."}]
[null,{"$f":"Standards!D203","v":0},{"$f":"Standards!B203","v":"2.2.1.7.1"},{"$f":"Standards!C203","v":"Patient’s card (Health card, growth chart) and register available and services recorded"}]
[null,{"$f":"Standards!D204","v":0},{"$f":"Standards!B204","v":"2.2.1.7.2"},{"$f":"Standards!C204","v":"An adverse event following immunization, complication, severe under-nutrition and referral to other sites recorded and reported"}]
[null,{"$f":"Standards!D205","v":0},{"$f":"Standards!B205","v":"2.2.1.8.1"},{"$f":"Standards!C205","v":"Masks and gloves are available and used"}]
[null,{"$f":"Standards!D206","v":0},{"$f":"Standards!B206","v":"2.2.1.8.2"},{"$f":"Standards!C206","v":"There are well labelled colored bins for waste segregation and disposal as per HCWM guideline 2014 (MoHP)"}]
[null,{"$f":"Standards!D207","v":0},{"$f":"Standards!B207","v":"2.2.1.8.3"},{"$f":"Standards!C207","v":"Hand‑washing facility with running water and soap is available for practitioners."}]
[null,{"$f":"Standards!D208","v":0},{"$f":"Standards!B208","v":"2.2.1.8.4"},{"$f":"Standards!C208","v":"Needle cutter is used."}]
[null,{"$f":"Standards!D209","v":0},{"$f":"Standards!B209","v":"2.2.1.8.5"},{"$f":"Standards!C209","v":"Chlorine solution is available and utilized. "}]
[null,{"$f":"Standards!D218","v":0},{"$f":"Standards!B218","v":"2.2.2.1"},{"$f":"Standards!C218","v":"Family planning service is available from 10 AM to 3 PM."}]
[null,{"$f":"Standards!D219","v":0},{"$f":"Standards!B219","v":"2.2.2.2"},{"$f":"Standards!C219","v":"A separate area dedicated for FP counseling and services "}]
[null,{"$f":"Standards!D220","v":0},{"$f":"Standards!B220","v":"2.2.2.3"},{"$f":"Standards!C220","v":"Adequate numbers of healthcare workers are available (at least 2 mid-level health workers are assigned)"}]
[null,{"$f":"Standards!D221","v":0},{"$f":"Standards!B221","v":"2.2.2.4"},{"$f":"Standards!C221","v":"Appropriate techniques have been used to ensure the patient privacy (separate rooms, curtains hung, maintaining queuing of patients)."}]
[null,{"$f":"Standards!D222","v":0},{"$f":"Standards!B222","v":"2.2.2.5.1"},{"$f":"Standards!C222","v":"Counseling is provided to users for family planning methods"}]
[null,{"$f":"Standards!D223","v":0},{"$f":"Standards!B223","v":"2.2.2.5.2"},{"$f":"Standards!C223","v":"Appropriate IEC/BCC materials on family planning including DMT tool used for counseling"}]
[{"$f":"Standards!D224","v":0},null,{"$f":"Standards!B224","v":"2.2.2.6"},{"$f":"Standards!C224","v":"Supplies for Family Planning Services available (See Annex 2.2.2a Supplies for FP services At the end of this standard)"}]
[null,{"$f":"Standards!D225","v":0},{"$f":"Standards!B225","v":"2.2.2.7"},{"$f":"Standards!C225","v":"Functional BP set, stethoscope, thermometer, and weighing scale available"}]
[null,{"$f":"Standards!D226","v":0},{"$f":"Standards!B226","v":"2.2.2.8.1"},{"$f":"Standards!C226","v":"Adequate rooms and space for health worker and patients are available with at least one working table, chair for health worker and two patients’ chair and one examination bed"}]
[null,{"$f":"Standards!D227","v":0},{"$f":"Standards!B227","v":"2.2.2.8.2"},{"$f":"Standards!C227","v":"Light and ventilation are adequately maintained."}]
[null,{"$f":"Standards!D228","v":0},{"$f":"Standards!B228","v":"2.2.2.9.1"},{"$f":"Standards!C228","v":"Patient’s health card and register available and services recorded"}]
[null,{"$f":"Standards!D229","v":0},{"$f":"Standards!B229","v":"2.2.2.9.2"},{"$f":"Standards!C229","v":"FP related complication, defaulter and contraceptive failure are recorded and reported"}]
[null,{"$f":"Standards!D230","v":0},{"$f":"Standards!B230","v":"2.2.2.10.1"},{"$f":"Standards!C230","v":"Masks and gloves are available and used"}]
[null,{"$f":"Standards!D231","v":0},{"$f":"Standards!B231","v":"2.2.2.10.2"},{"$f":"Standards!C231","v":"There are well labelled colored bins for waste segregation and disposal as per HCWM guideline 2014 (MoHP)"}]
[null,{"$f":"Standards!D232","v":0},{"$f":"Standards!B232","v":"2.2.2.10.3"},{"$f":"Standards!C232","v":"Hand‑washing facility with running water and soap is available for practitioners."}]
[null,{"$f":"Standards!D233","v":0},{"$f":"Standards!B233","v":"2.2.2.10.4"},{"$f":"Standards!C233","v":"Needle cutter is used."}]
[null,{"$f":"Standards!D234","v":0},{"$f":"Standards!B234","v":"2.2.2.10.5"},{"$f":"Standards!C234","v":"Chlorine solution is available and utilized. "}]
[null,{"$f":"Standards!D242","v":0},{"$f":"Standards!B242","v":"2.2.3.1"},{"$f":"Standards!C242","v":"Clinic is open from 10 AM to 3 PM."}]
[null,{"$f":"Standards!D243","v":0},{"$f":"Standards!B243","v":"2.2.3.2"},{"$f":"Standards!C243","v":"Adequate numbers of healthcare workers are available in OPD (at least 2 mid-level health workers are assigned)"}]
[null,{"$f":"Standards!D244","v":0},{"$f":"Standards!B244","v":"2.2.3.3"},{"$f":"Standards!C244","v":"Appropriate techniques have been used to ensure the patient privacy (separate rooms, curtains hung, maintaining queuing of patients)."}]
[null,{"$f":"Standards!D245","v":0},{"$f":"Standards!B245","v":"2.2.3.4.1"},{"$f":"Standards!C245","v":"Counseling is provided to patients about the type of treatment being given and its consequences."}]
[null,{"$f":"Standards!D246","v":0},{"$f":"Standards!B246","v":"2.2.3.4.2"},{"$f":"Standards!C246","v":"Appropriate IEC/BCC materials on TB, HIV/AIDS (posters, leaflets) are available in the OPD waiting area."}]
[null,{"$f":"Standards!D247","v":0},{"$f":"Standards!B247","v":"2.2.3.5"},{"$f":"Standards!C247","v":"Medicines for TB, HIV/AIDS as per government treatment protocol available in OPD"}]
[null,{"$f":"Standards!D248","v":0},{"$f":"Standards!B248","v":"2.2.3.6"},{"$f":"Standards!C248","v":"OPD has functional BP set, stethoscope, thermometer and weighing scale"}]
[null,{"$f":"Standards!D249","v":0},{"$f":"Standards!B249","v":"2.2.3.7.1"},{"$f":"Standards!C249","v":"Adequate rooms and space for health worker and patients are available with at least one working table, chair for health worker and two patients’ chair"}]
[null,{"$f":"Standards!D250","v":0},{"$f":"Standards!B250","v":"2.2.3.7.2"},{"$f":"Standards!C250","v":"Light and ventilation are adequately maintained."}]
[null,{"$f":"Standards!D251","v":0},{"$f":"Standards!B251","v":"2.2.3.8.1"},{"$f":"Standards!C251","v":"Safe drinking water with mug or glass is available for taking medicine"}]
[null,{"$f":"Standards!D252","v":0},{"$f":"Standards!B252","v":"2.2.3.8.2"},{"$f":"Standards!C252","v":"Hand‑washing facilities are available for patients."}]
[null,{"$f":"Standards!D253","v":0},{"$f":"Standards!B253","v":"2.2.3.9.1"},{"$f":"Standards!C253","v":"Patient’s card (TB, ART) and register available and services recorded"}]
[null,{"$f":"Standards!D254","v":0},{"$f":"Standards!B254","v":"2.2.3.9.2"},{"$f":"Standards!C254","v":"Drug resistance, complication and referral to other sites recorded and reported"}]
[null,{"$f":"Standards!D255","v":0},{"$f":"Standards!B255","v":"2.2.3.10.1"},{"$f":"Standards!C255","v":"Masks and gloves are available and used"}]
[null,{"$f":"Standards!D256","v":0},{"$f":"Standards!B256","v":"2.2.3.10.2"},{"$f":"Standards!C256","v":"There are well labelled colored bins for waste segregation and disposal as per HCWM guideline 2014 (MoHP)"}]
[null,{"$f":"Standards!D257","v":0},{"$f":"Standards!B257","v":"2.2.3.10.3"},{"$f":"Standards!C257","v":"Hand‑washing facility with running water and soap is available for practitioners."}]
[null,{"$f":"Standards!D258","v":0},{"$f":"Standards!B258","v":"2.2.3.10.4"},{"$f":"Standards!C258","v":"Needle cutter is used"}]
[null,{"$f":"Standards!D259","v":0},{"$f":"Standards!B259","v":"2.2.3.10.5"},{"$f":"Standards!C259","v":"Chlorine solution is available and utilized. "}]
[null,{"$f":"Standards!D268","v":0},{"$f":"Standards!B268","v":"2.2.4.1"},{"$f":"Standards!C268","v":"Safe abortion services is available from 10 AM to 3 PM."}]
[null,{"$f":"Standards!D269","v":0},{"$f":"Standards!B269","v":"2.2.4.2"},{"$f":"Standards!C269","v":"A separate area dedicated for Safe Abortion counseling and services, area is washable and has separate instrument processing space for decontamination"}]
[null,{"$f":"Standards!D270","v":0},{"$f":"Standards!B270","v":"2.2.4.3.1"},{"$f":"Standards!C270","v":"At least one medical officer or gynecologist trained and certified in first trimester SAS is available"}]
[null,{"$f":"Standards!D271","v":0},{"$f":"Standards!B271","v":"2.2.4.3.2"},{"$f":"Standards!C271","v":"For surgical abortion, at least one medical officer or gynecologist or MDGP trained and certified in second trimester SAS is available"}]
[null,{"$f":"Standards!D272","v":0},{"$f":"Standards!B272","v":"2.2.4.4"},{"$f":"Standards!C272","v":"Appropriate techniques have been used to ensure the patient privacy (separate rooms, curtains hung, maintaining queuing of patients)."}]
[null,{"$f":"Standards!D273","v":0},{"$f":"Standards!B273","v":"2.2.4.5.1"},{"$f":"Standards!C273","v":"Counseling is provided to users on Safe Abortion Services, complication and family planning post abortion along with clear discharge instructions"}]
[null,{"$f":"Standards!D274","v":0},{"$f":"Standards!B274","v":"2.2.4.5.2"},{"$f":"Standards!C274","v":"Appropriate IEC/BCC materials on safe abortion services and post abortion family planning services –Medical Abortion Chart, CAC counseling flip chart, second trimester counseling flipchart, DMT Tools used for counseling"}]
[{"$f":"Standards!D275","v":0},null,{"$f":"Standards!B275","v":"2.2.4.6"},{"$f":"Standards!C275","v":"WHO safe surgery checklist is available and used for safe abortion services including written informed consent"}]
[{"$f":"Standards!D276","v":0},null,{"$f":"Standards!B276","v":"2.2.4.7.1"},{"$f":"Standards!C276","v":"Instruments, equipments and supplies for Safe Abortion Services available (See Annex 2.2.2a Instruments, equipments and supplies for Safe Abortion services At the end of this standard)"}]
[null,{"$f":"Standards!D277","v":0},{"$f":"Standards!B277","v":"2.2.4.7.2"},{"$f":"Standards!C277","v":"Functional BP set, stethoscope, thermometer, and weighing scale available"}]
[null,{"$f":"Standards!D278","v":0},{"$f":"Standards!B278","v":"2.2.4.8.1"},{"$f":"Standards!C278","v":"Adequate rooms and space for health worker and patients are available with at least one working table, chair for health worker and two patients’ chair, one examination bed, one procedure table and one foot step "}]
[null,{"$f":"Standards!D279","v":0},{"$f":"Standards!B279","v":"2.2.4.8.2"},{"$f":"Standards!C279","v":"Light and ventilation are adequately maintained."}]
[null,{"$f":"Standards!D280","v":0},{"$f":"Standards!B280","v":"2.2.4.9.1"},{"$f":"Standards!C280","v":"Patient’s health card and register available and services recorded along with complications if any"}]
[null,{"$f":"Standards!D281","v":0},{"$f":"Standards!B281","v":"2.2.4.9.2"},{"$f":"Standards!C281","v":" Product of conception is sent for histopathlogical examination and reports followed up"}]
[null,{"$f":"Standards!D282","v":0},{"$f":"Standards!B282","v":"2.2.4.10.1"},{"$f":"Standards!C282","v":"Utility Gloves, Gumboot, Mask, Plastic Apron, Caps are available and used"}]
[null,{"$f":"Standards!D283","v":0},{"$f":"Standards!B283","v":"2.2.4.10.2"},{"$f":"Standards!C283","v":"There are well labelled colored bins for waste segregation and disposal as per HCWM guideline 2014 (MoHP)"}]
[null,{"$f":"Standards!D284","v":0},{"$f":"Standards!B284","v":"2.2.4.10.3"},{"$f":"Standards!C284","v":"Hand‑washing facility with running water and soap is available for practitioners."}]
[null,{"$f":"Standards!D285","v":0},{"$f":"Standards!B285","v":"2.2.4.10.4"},{"$f":"Standards!C285","v":"Needle cutter is used."}]
[null,{"$f":"Standards!D286","v":0},{"$f":"Standards!B286","v":"2.2.4.10.5"},{"$f":"Standards!C286","v":"Chlorine solution is available and utilized. "}]
[null,{"$f":"Standards!D294","v":0},{"$f":"Standards!B294","v":"2.3.1"},{"$f":"Standards!C294","v":"Emergency room/ward is open 24 hours "}]
[null,{"$f":"Standards!D295","v":0},{"$f":"Standards!B295","v":"2.3.2.1"},{"$f":"Standards!C295","v":"For 5-10 ER beds (Doctor: Nurse: Paramedics: Office Assistant = 1:1:1:1)"}]
[null,{"$f":"Standards!D296","v":0},{"$f":"Standards!B296","v":"2.3.2.2"},{"$f":"Standards!C296","v":"The doctor, nurse and paramedics are trained in PTC, ETM, BLS and ACLS [1]training"}]
[null,{"$f":"Standards!D297","v":0},{"$f":"Standards!B297","v":"2.3.3.1"},{"$f":"Standards!C297","v":"10% of the total hospital beds are allocated for ER of which 1% for red, 2% for yellow, 3% for green and 1 % for black color coded "}]
[{"$f":"Standards!D298","v":0},null,{"$f":"Standards!B298","v":"2.3.3.2"},{"$f":"Standards!C298","v":"Adequate furniture and supplies (See Annex 2.3a Furniture and General Supplies for ER At the end of this standard)"}]
[null,{"$f":"Standards!D299","v":0},{"$f":"Standards!B299","v":"2.3.3.3"},{"$f":"Standards!C299","v":"Light and ventilation are adequately maintained."}]
[null,{"$f":"Standards!D300","v":0},{"$f":"Standards!B300","v":"2.3.3.4"},{"$f":"Standards!C300","v":"Designated area for nursing station centrally placed in ER and all beds visible from nursing station"}]
[null,{"$f":"Standards!D301","v":0},{"$f":"Standards!B301","v":"2.3.3.5"},{"$f":"Standards!C301","v":"Space allocated for duty room and changing room separate for male and female staffs with facilities of tea room "}]
[null,{"$f":"Standards!D302","v":0},{"$f":"Standards!B302","v":"2.3.3.6"},{"$f":"Standards!C302","v":"Separate toilets for staffs at least one each-male, female and universal "}]
[null,{"$f":"Standards!D303","v":0},{"$f":"Standards!B303","v":"2.3.3.7"},{"$f":"Standards!C303","v":"Separate land line/ mobile phone for emergency  "}]
[{"$f":"Standards!D304","v":0},null,{"$f":"Standards!B304","v":"2.3.4"},{"$f":"Standards!C304","v":"Instruments and equipment to carry out the ER works are available and functioning (See Annex 2.3b ER Instruments and Equipment At the end of this standard)"}]
[{"$f":"Standards!D305","v":0},null,{"$f":"Standards!B305","v":"2.3.5.1"},{"$f":"Standards!C305","v":"Medicines and supplies to carry out the ER works are available (See Annex 2.3c Medicines and Supplies for ER At the end of this standard)"}]
[null,{"$f":"Standards!D306","v":0},{"$f":"Standards!B306","v":"2.3.5.2"},{"$f":"Standards!C306","v":"Emergency stock of medicines and supplies for mass casualty management"}]
[null,{"$f":"Standards!D307","v":0},{"$f":"Standards!B307","v":"2.3.6.1"},{"$f":"Standards!C307","v":"Hospital maintains a triage system in the ER with 24 hours triage service "}]
[null,{"$f":"Standards!D308","v":0},{"$f":"Standards!B308","v":"2.3.6.2"},{"$f":"Standards!C308","v":"Triage category board and information to the public (Red, Yellow, Green Board) (descriptive flex)"}]
[null,{"$f":"Standards!D309","v":0},{"$f":"Standards!B309","v":"2.3.7.1"},{"$f":"Standards!C309","v":"In red area one of the bed is Resuscitation bed with availability of emergency crash trolley with emergency lifesaving drugs, cardiac monitor, non-invasive ventilator, oxygen concentrator   "}]
[null,{"$f":"Standards!D310","v":0},{"$f":"Standards!B310","v":"2.3.7.2"},{"$f":"Standards!C310","v":"Development of 001 or Blue code call system whenever any patient visited in Emergency collapses and need immediate and urgent emergency care"}]
[null,{"$f":"Standards!D311","v":0},{"$f":"Standards!B311","v":"2.3.7.3"},{"$f":"Standards!C311","v":" Emergency disposition of the patient either in observation ward or definite care ward or referral or discharge within 3-6 hours"}]
[null,{"$f":"Standards!D312","v":0},{"$f":"Standards!B312","v":"2.3.7.4"},{"$f":"Standards!C312","v":"Critical patient transfer from emergency to OT or Inter-hospital transfer is accompanied at least by paramedics or Nurse for handover of patient   "}]
[null,{"$f":"Standards!D313","v":0},{"$f":"Standards!B313","v":"2.3.8"},{"$f":"Standards!C313","v":"Appropriate methods have been used to ensure patient privacy (separate rooms, curtains hung)"}]
[null,{"$f":"Standards!D314","v":0},{"$f":"Standards!B314","v":"2.3.9"},{"$f":"Standards!C314","v":"The hospital has maintained security system for ER for 24 hours with CCTV coverage"}]
[null,{"$f":"Standards!D315","v":0},{"$f":"Standards!B315","v":"2.3.10.1"},{"$f":"Standards!C315","v":"The hospital has mass casualty management protocol, and all staffs are updated with well labelled direction, prepositioning clipboards"}]
[null,{"$f":"Standards!D316","v":0},{"$f":"Standards!B316","v":"2.3.10.2"},{"$f":"Standards!C316","v":"Disaster area identified with adequate furniture to carry out Triage in case of disaster"}]
[null,{"$f":"Standards!D317","v":0},{"$f":"Standards!B317","v":"2.3.10.3"},{"$f":"Standards!C317","v":"Hospital carried out at least one mock preparedness once a year "}]
[{"$f":"Standards!D318","v":0},null,{"$f":"Standards!B318","v":"2.3.10.4"},{"$f":"Standards!C318","v":"There must be disaster store in ER with required medicines, supplies and equipment (See Annex 2.3d List of medicine, supplies and equipment for Disaster Store At the end of this standard)"}]
[null,{"$f":"Standards!D319","v":0},{"$f":"Standards!B319","v":"2.3.11"},{"$f":"Standards!C319","v":"Duty rosters of the ER are developed regularly and available in appropriate location"}]
[null,{"$f":"Standards!D320","v":0},{"$f":"Standards!B320","v":"2.3.12"},{"$f":"Standards!C320","v":"Separate inventories for emergency lifesaving drugs/equipment and narcotics are maintained"}]
[null,{"$f":"Standards!D321","v":0},{"$f":"Standards!B321","v":"2.3.13"},{"$f":"Standards!C321","v":"Narcotic drugs are kept separately and securely with mandatory recording system"}]
[null,{"$f":"Standards!D322","v":0},{"$f":"Standards!B322","v":"2.3.14.1"},{"$f":"Standards!C322","v":"Safe drinking water is available 24 hours"}]
[null,{"$f":"Standards!D323","v":0},{"$f":"Standards!B323","v":"2.3.14.2"},{"$f":"Standards!C323","v":"Hand‑washing facility with running water and liquid soap"}]
[null,{"$f":"Standards!D324","v":0},{"$f":"Standards!B324","v":"2.3.14.3"},{"$f":"Standards!C324","v":"There are at least 3 toilets with hand‑washing facilities (1 for males, 1 for females, and 1 universal) for every 10 ER beds and for additional beds increase proportionately for male and female "}]
[null,{"$f":"Standards!D325","v":0},{"$f":"Standards!B325","v":"2.3.15"},{"$f":"Standards!C325","v":"Decontamination area specified and practiced"}]
[null,{"$f":"Standards!D326","v":0},{"$f":"Standards!B326","v":"2.3.16.1"},{"$f":"Standards!C326","v":"Staff wear mask and gloves at work"}]
[null,{"$f":"Standards!D327","v":0},{"$f":"Standards!B327","v":"2.3.16.2"},{"$f":"Standards!C327","v":"There are clearly labelled colored bins for waste segregation and disposal as per HCWM Guideline 2014 (MoHP)"}]
[null,{"$f":"Standards!D328","v":0},{"$f":"Standards!B328","v":"2.3.16.3"},{"$f":"Standards!C328","v":"Needle cutter is used"}]
[null,{"$f":"Standards!D329","v":0},{"$f":"Standards!B329","v":"2.3.16.4"},{"$f":"Standards!C329","v":"Chlorine solution is available and utilized for decontamination"}]
[null,{"$f":"Standards!D337","v":0},{"$f":"Standards!B337","v":"2.4.1"},{"$f":"Standards!C337","v":"A separate room for dresesing and injection service is available"}]
[{"$f":"Standards!D338","v":0},null,{"$f":"Standards!B338","v":"2.4.2"},{"$f":"Standards!C338","v":"Adequate furniture and general supplies are available (See Annex 2.4a Furniture and General Supplies for ER Minor OT At the end of this standard)."}]
[{"$f":"Standards!D339","v":0},null,{"$f":"Standards!B339","v":"2.4.3"},{"$f":"Standards!C339","v":"Minimum dressing services and routine procedures are available (See Annex 2.4b List of Minimum Services from ER Minor OT At the end of this standard)."}]
[{"$f":"Standards!D340","v":0},null,{"$f":"Standards!B340","v":"2.4.4"},{"$f":"Standards!C340","v":"Medicines and supplies needed for surgical procedures available (See Annex 2.4c Medicine and Supplies for Minor OT At the end of this standard)."}]
[{"$f":"Standards!D341","v":0},null,{"$f":"Standards!B341","v":"2.4.5.1"},{"$f":"Standards!C341","v":"Sterile supply for Minor OT are available (See Annex 2.4d Sterile Supplies for Minor OT At the end of this standard)."}]
[null,{"$f":"Standards!D342","v":0},{"$f":"Standards!B342","v":"2.4.5.2"},{"$f":"Standards!C342","v":"Separate containers for sterile gauze and cotton balls are available."}]
[null,{"$f":"Standards!D343","v":0},{"$f":"Standards!B343","v":"2.4.6.1"},{"$f":"Standards!C343","v":"Mask, gloves, plastic apron, boots and goggles are available and used whenever required."}]
[null,{"$f":"Standards!D344","v":0},{"$f":"Standards!B344","v":"2.4.6.2"},{"$f":"Standards!C344","v":"At least three color coded waste bins as per HCWM guideline are available and used"}]
[null,{"$f":"Standards!D345","v":0},{"$f":"Standards!B345","v":"2.4.6.3"},{"$f":"Standards!C345","v":"Supplies trolley with needle cutter is available and used"}]
[null,{"$f":"Standards!D346","v":0},{"$f":"Standards!B346","v":"2.4.6.4"},{"$f":"Standards!C346","v":"Hand‑washing facility with running water and soap "}]
[null,{"$f":"Standards!D347","v":0},{"$f":"Standards!B347","v":"2.4.6.5"},{"$f":"Standards!C347","v":"Chlorine solution is available and utilized for decontamination"}]
[null,{"$f":"Standards!D348","v":0},{"$f":"Standards!B348","v":"2.4.7"},{"$f":"Standards!C348","v":"Proper records of all procedures are kept and reported."}]
[null,{"$f":"Standards!D356","v":0},{"$f":"Standards!B356","v":"2.5.1"},{"$f":"Standards!C356","v":"Hospital has designated pharmacy department"}]
[null,{"$f":"Standards!D358","v":0},{"$f":"Standards!B358","v":"2.5.2.1"},{"$f":"Standards!C358","v":"Drug and Therapeutic committee (DTC)"}]
[null,{"$f":"Standards!D359","v":0},{"$f":"Standards!B359","v":"2.5.2.2"},{"$f":"Standards!C359","v":"Hospital pharmacy operation committee"}]
[null,{"$f":"Standards!D360","v":0},{"$f":"Standards!B360","v":"2.5.3.1"},{"$f":"Standards!C360","v":"Hospital has prepared formulary list based on Nepalese National Formulary (NNF) approved by DTC  "}]
[null,{"$f":"Standards!D361","v":0},{"$f":"Standards!B361","v":"2.5.3.2"},{"$f":"Standards!C361","v":"Hospital formulary includes all medicines and supplies as per services provided by hospital"}]
[null,{"$f":"Standards!D362","v":0},{"$f":"Standards!B362","v":"2.5.3.3"},{"$f":"Standards!C362","v":"Hospital has all ,medicines and supplies available as per approved hospital formulary list"}]
[null,{"$f":"Standards!D363","v":0},{"$f":"Standards!B363","v":"2.5.4.1"},{"$f":"Standards!C363","v":"Annual procurement plan for medicines and supplies for pharmacy services is available"}]
[null,{"$f":"Standards!D364","v":0},{"$f":"Standards!B364","v":"2.5.4.2"},{"$f":"Standards!C364","v":"Procurement is done based on public procurement guideline"}]
[null,{"$f":"Standards!D365","v":0},{"$f":"Standards!B365","v":"2.5.4.3"},{"$f":"Standards!C365","v":"Product specification for each medicine and related supplies of approved formulary list is available"}]
[null,{"$f":"Standards!D366","v":0},{"$f":"Standards!B366","v":"2.5.4.4"},{"$f":"Standards!C366","v":"Technical criteria on quality assurance of procured medicines is included in standard bidding document"}]
[null,{"$f":"Standards!D367","v":0},{"$f":"Standards!B367","v":"2.5.4.5"},{"$f":"Standards!C367","v":"Certificate of analysis (CoA) from manufacturer of each batch of procured medicine is available"}]
[null,{"$f":"Standards!D368","v":0},{"$f":"Standards!B368","v":"2.5.4.6"},{"$f":"Standards!C368","v":"Selling price of the drugs does not exceed 20% of the procurement price"}]
[null,{"$f":"Standards!D369","v":0},{"$f":"Standards!B369","v":"2.5.5"},{"$f":"Standards!C369","v":"The pharmacy is open 24x7"}]
[null,{"$f":"Standards!D370","v":0},{"$f":"Standards!B370","v":"2.5.6.1"},{"$f":"Standards!C370","v":" Pharmacy department is led by at least one clinical pharmacist"}]
[null,{"$f":"Standards!D371","v":0},{"$f":"Standards!B371","v":"2.5.6.2"},{"$f":"Standards!C371","v":"Pharmacy has at least 3 pharmacist, 6 assistant pharmacist and 2 office assistants"}]
[null,{"$f":"Standards!D372","v":0},{"$f":"Standards!B372","v":"2.5.6.3"},{"$f":"Standards!C372","v":"Duty roster of pharmacy to cover 24 hours service is prepared and visibly placed"}]
[null,{"$f":"Standards!D373","v":0},{"$f":"Standards!B373","v":"2.5.7"},{"$f":"Standards!C373","v":"The list of free medicines is displayed in a clearly visible place."}]
[{"$f":"Standards!D374","v":0},null,{"$f":"Standards!B374","v":"2.5.8"},{"$f":"Standards!C374","v":"All of the required medicines and supplies for specific programs are available in pharmacy (less than 50%= 0; 50-70 =1, 70-85=2 85-100= 3)"}]
[null,{"$f":"Standards!D375","v":0},{"$f":"Standards!B375","v":"2.5.9"},{"$f":"Standards!C375","v":"Hospital pharmacy directly supplies  inpatient medicine and supplies to wards and OT"}]
[null,{"$f":"Standards!D376","v":0},{"$f":"Standards!B376","v":"2.5.10"},{"$f":"Standards!C376","v":"Pharmacy uses computer with software for inventory management and medicine use"}]
[{"$f":"Standards!D377","v":0},null,{"$f":"Standards!B377","v":"2.5.11"},{"$f":"Standards!C377","v":"Number of items of hospital formulary stocked in pharmacy(less than 50%= 0; 50-70 =1, 70-85=2 85-100= 3)"}]
[null,{"$f":"Standards!D378","v":0},{"$f":"Standards!B378","v":"2.5.12.1"},{"$f":"Standards!C378","v":"All the medicines and supplies are displayed in clean racks following either alphabetical orders and generic names or grouping as use"}]
[null,{"$f":"Standards!D379","v":0},{"$f":"Standards!B379","v":"2.5.12.2"},{"$f":"Standards!C379","v":"Temperature of pharmacy is monitored and recorded and is maintained in range of (25+/-2°C)"}]
[null,{"$f":"Standards!D380","v":0},{"$f":"Standards!B380","v":"2.5.12.3"},{"$f":"Standards!C380","v":"Functional freeze +/-4°C for thermolabile medicine"}]
[null,{"$f":"Standards!D381","v":0},{"$f":"Standards!B381","v":"2.5.13.1"},{"$f":"Standards!C381","v":"Pharmacy department has its allocated separate information and counseling unit with reference books or e-books"}]
[null,{"$f":"Standards!D382","v":0},{"$f":"Standards!B382","v":"2.5.13.2"},{"$f":"Standards!C382","v":"Information regarding the medicines is provided to the patients."}]
[null,{"$f":"Standards!D383","v":0},{"$f":"Standards!B383","v":"2.5.13.3"},{"$f":"Standards!C383","v":"IEC materials (posters, leaflets, national hospital formulary) about the appropriate use for medicines are available in the pharmacy area."}]
[null,{"$f":"Standards!D384","v":0},{"$f":"Standards!B384","v":"2.5.14"},{"$f":"Standards!C384","v":"Hospital has pre-printed list of medicines for  generic prescription  available"}]
[null,{"$f":"Standards!D385","v":0},{"$f":"Standards!B385","v":"2.5.15.1"},{"$f":"Standards!C385","v":" Medicine is dispensed using electronic billing with barcode system"}]
[null,{"$f":"Standards!D386","v":0},{"$f":"Standards!B386","v":"2.5.15.2"},{"$f":"Standards!C386","v":"Each medicine is given with written instructions on how to take "}]
[null,{"$f":"Standards!D387","v":0},{"$f":"Standards!B387","v":"2.5.16"},{"$f":"Standards!C387","v":"FIFO system is maintained using standard stock book/cards."}]
[null,{"$f":"Standards!D388","v":0},{"$f":"Standards!B388","v":"2.5.17"},{"$f":"Standards!C388","v":"Every month, all medicines and supplies are counted, out- of-date discarded, and tallied with the medical store."}]
[null,{"$f":"Standards!D389","v":0},{"$f":"Standards!B389","v":"2.5.18.1"},{"$f":"Standards!C389","v":"Pharmacy department operates pharmacovigilance  activities and adverse drug reaction (ADR) Reporting"}]
[null,{"$f":"Standards!D390","v":0},{"$f":"Standards!B390","v":"2.5.18.2"},{"$f":"Standards!C390","v":"Pharmacy department conducts studies on drug utilization and quantification "}]
[null,{"$f":"Standards!D391","v":0},{"$f":"Standards!B391","v":"2.5.19"},{"$f":"Standards!C391","v":"Pharmaceutical waste (expired or unused pharmaceutical products, spilled contaminated pharmaceutical products surplus drugs, vaccines or sera, etc) management is done based on HCWM guideline 2014 (MoHP) or returned to the supplier on time"}]
[{"$f":"Standards!D399","v":0},null,{"$f":"Standards!B399","v":"2.6.1.1"},{"$f":"Standards!C399","v":"Separate space for nursing station is available in each ward (See Checklist 2.6 At the end of this standard for scoring)"}]
[{"$f":"Standards!D400","v":0},null,{"$f":"Standards!B400","v":" 2.6.1.2"},{"$f":"Standards!C400","v":"Separate changing room available for male and female staffs (See Checklist 2.6 At the end of this standard for scoring)"}]
[{"$f":"Standards!D401","v":0},null,{"$f":"Standards!B401","v":"2.6.1.3"},{"$f":"Standards!C401","v":"Separate store room is available (See Checklist 2.6 At the end of this standard for scoring)"}]
[{"$f":"Standards!D403","v":0},null,{"$f":"Standards!B403","v":"2.6.2.1"},{"$f":"Standards!C403","v":"Medicine Ward (See Annex 2.6a Furniture and supplies for inpatient wards At the end of this standard)"}]
[{"$f":"Standards!D404","v":0},null,{"$f":"Standards!B404","v":"2.6.2.2"},{"$f":"Standards!C404","v":"Surgery Ward(See Annex 2.6a Furniture and supplies for inpatient wards At the end of this standard)"}]
[{"$f":"Standards!D405","v":0},null,{"$f":"Standards!B405","v":"2.6.2.3.1"},{"$f":"Standards!C405","v":"Pediatrics Ward (See Annex 2.6a Furniture and supplies for inpatient wards At the end of this standard)"}]
[null,{"$f":"Standards!D406","v":0},{"$f":"Standards!B406","v":"2.6.2.3.2"},{"$f":"Standards!C406","v":"Separate area dedicated for play room with play materials for different pediatric age groups"}]
[{"$f":"Standards!D408","v":0},null,{"$f":"Standards!B408","v":"2.6.3.1"},{"$f":"Standards!C408","v":"Medicine Ward (See Annex 2.6b medicine and supplies for inpatient wards At the end of this standard)"}]
[{"$f":"Standards!D409","v":0},null,{"$f":"Standards!B409","v":"2.6.3.2"},{"$f":"Standards!C409","v":"Surgery Ward (See Annex 2.6b medicine and supplies for inpatient wards At the end of this standard)"}]
[{"$f":"Standards!D410","v":0},null,{"$f":"Standards!B410","v":"2.6.3.3"},{"$f":"Standards!C410","v":"Pediatrics Ward (See Annex 2.6b medicine and supplies for inpatient wards At the end of this standard)"}]
[{"$f":"Standards!D411","v":0},null,{"$f":"Standards!B411","v":"2.6.4"},{"$f":"Standards!C411","v":"There is a set of at least one table and two chairs in the nursing station and shelves for storage of charts and inpatient forms and formats (See Checklist 2.6 At the end of this standard for scoring)"}]
[{"$f":"Standards!D412","v":0},null,{"$f":"Standards!B412","v":" 2.6.5"},{"$f":"Standards!C412","v":"Adequate numbers of nursing staff are available in ward per shift (nurse patient ratio 1:6 in general ward, 1:4 in pediatric ward, 1:2 in high dependency or intermediate ward or post-operative ward or burn/plastic) and at least one trained office assistant/ward attendant per shift in each ward (See Checklist 2.6 At the end of this standard for scoring)"}]
[{"$f":"Standards!D413","v":0},null,{"$f":"Standards!B413","v":"2.6.6"},{"$f":"Standards!C413","v":"Duty roster of doctors, nurses, paramedics and support staffs kept visibly in nursing station (See Checklist 2.6 At the end of this standard for scoring)"}]
[{"$f":"Standards!D414","v":0},null,{"$f":"Standards!B414","v":"2.6.7"},{"$f":"Standards!C414","v":"Telephone facility is available with list of important contact numbers and hospital codes visibly kept (See Checklist 2.6 At the end of this standard for scoring)"}]
[{"$f":"Standards!D415","v":0},null,{"$f":"Standards!B415","v":"2.6.8.1"},{"$f":"Standards!C415","v":"All staffs in wards are trained for BLS and oriented about emergency code 001 or blue code (See Checklist 2.6 At the end of this standard for scoring)"}]
[{"$f":"Standards!D417","v":0},null,{"$f":"Standards!B417","v":"2.6.8.2.1"},{"$f":"Standards!C417","v":"Medicine Ward (See Annex 2.6c Emergency Trolley for Inpatient At the end of this standard)"}]
[{"$f":"Standards!D418","v":0},null,{"$f":"Standards!B418","v":"2.6.8.2.2"},{"$f":"Standards!C418","v":"Surgery Ward (See Annex 2.6c Emergency Trolley for Inpatient At the end of this standard)"}]
[{"$f":"Standards!D419","v":0},null,{"$f":"Standards!B419","v":"2.6.8.2.3"},{"$f":"Standards!C419","v":"Pediatrics Ward (See Annex 2.6c Emergency Trolley for Inpatient At the end of this standard)"}]
[{"$f":"Standards!D420","v":0},null,{"$f":"Standards!B420","v":"2.6.8.3"},{"$f":"Standards!C420","v":"At least one defibrillator in immediate accessible area (See Checklist 2.6 At the end of this standard for scoring)"}]
[null,{"$f":"Standards!D421","v":0},{"$f":"Standards!B421","v":"2.6.9"},{"$f":"Standards!C421","v":"Safe abortion service (SAS) is available as per National SAS Implementation Guideline"}]
[{"$f":"Standards!D422","v":0},null,{"$f":"Standards!B422","v":"2.6.10.1"},{"$f":"Standards!C422","v":"Separate area designated for admission of male and female inpatients in wards (See Checklist 2.6 At the end of this standard for scoring)"}]
[{"$f":"Standards!D423","v":0},null,{"$f":"Standards!B423","v":"2.6.10.2"},{"$f":"Standards!C423","v":"There are adequate separate toilets for male and female patients in each ward (1 for 6 female bed and 1 for 8 male beds) and also adequate wash basins/sinks for the patients. (See Checklist 2.6 At the end of this standard for scoring)"}]
[{"$f":"Standards!D424","v":0},null,{"$f":"Standards!B424","v":"2.6.10.3"},{"$f":"Standards!C424","v":"Safe drinking water is available 24 hours for inpatients(See Checklist 2.6 At the end of this standard for scoring)"}]
[{"$f":"Standards!D425","v":0},null,{"$f":"Standards!B425","v":"2.6.10.4"},{"$f":"Standards!C425","v":"Hours/ Time allocated for visitors to meet the inpatients and controlled traffic to prevent cross infection (See Checklist 2.6 At the end of this standard for scoring)"}]
[null,{"$f":"Standards!D426","v":0},{"$f":"Standards!B426","v":"2.6.10.5"},{"$f":"Standards!C426","v":"Separate space is available for patients’ visitors (KuruwaGhar)."}]
[{"$f":"Standards!D427","v":0},null,{"$f":"Standards!B427","v":" 2.6.11"},{"$f":"Standards!C427","v":"Basic information regarding admitted patients is displayed in a separate board  (See Checklist 2.6 At the end of this standard for scoring)"}]
[{"$f":"Standards!D428","v":0},null,{"$f":"Standards!B428","v":"2.6.12"},{"$f":"Standards!C428","v":"Appropriate IEC/BCC materials (posters, leaflets etc.) are available in the inpatient ward with focus on infection prevention (See Checklist 2.6 At the end of this standard for scoring)"}]
[{"$f":"Standards!D429","v":0},null,{"$f":"Standards!B429","v":"2.6.13"},{"$f":"Standards!C429","v":"Admission and discharge registers are available and are being filled completely (HMIS 8.1 and 8.2) (See Checklist 2.6 At the end of this standard for scoring)"}]
[{"$f":"Standards!D430","v":0},null,{"$f":"Standards!B430","v":"2.6.14.1"},{"$f":"Standards!C430","v":"PPE[2] are available and used whenever required (See Checklist 2.6 At the end of this standard for scoring)"}]
[{"$f":"Standards!D431","v":0},null,{"$f":"Standards!B431","v":"2.6.14.2"},{"$f":"Standards!C431","v":"Each ward has hand sanitizer in visible place for health workers to use before and after touching patients (See Checklist 2.6 At the end of this standard for scoring)"}]
[{"$f":"Standards!D432","v":0},null,{"$f":"Standards!B432","v":"2.6.14.3"},{"$f":"Standards!C432","v":"There are well labelled color-coded bins for waste segregation and disposal as per HCWM[3] guideline 2014 (MoHP) (See Checklist 2.6 At the end of this standard for scoring)"}]
[{"$f":"Standards!D433","v":0},null,{"$f":"Standards!B433","v":"2.6.14.4"},{"$f":"Standards!C433","v":"Hand‑washing facility with running water and liquid soap is available and being practiced (See Checklist 2.6 At the end of this standard for scoring)"}]
[{"$f":"Standards!D434","v":0},null,{"$f":"Standards!B434","v":"2.6.14.5"},{"$f":"Standards!C434","v":"Needle cutter is used (See Checklist 2.6 At the end of this standard for scoring)"}]
[{"$f":"Standards!D435","v":0},null,{"$f":"Standards!B435","v":"2.6.14.6"},{"$f":"Standards!C435","v":"Chlorine solution is available and utilized for decontamination (See Checklist 2.6 At the end of this standard for scoring)"}]
[null,{"$f":"Standards!D444","v":0},{"$f":"Standards!B444","v":"2.7.1.1.1"},{"$f":"Standards!C444","v":"Separate pre-labor room/ labor room with privacy is available."}]
[null,{"$f":"Standards!D445","v":0},{"$f":"Standards!B445","v":"2.7.1.1.2"},{"$f":"Standards!C445","v":"Delivery service is available round the clock"}]
[null,{"$f":"Standards!D446","v":0},{"$f":"Standards!B446","v":"2.7.1.1.3"},{"$f":"Standards!C446","v":"At least one delivery bed is assigned for every 15 maternity beds"}]
[null,{"$f":"Standards!D447","v":0},{"$f":"Standards!B447","v":"2.7.1.1.4"},{"$f":"Standards!C447","v":"Labor room has adequate space for accommodating team of health workers during emergencies and easy access to OT"}]
[null,{"$f":"Standards!D449","v":0},{"$f":"Standards!B449","v":"2.7.1.2.1.1"},{"$f":"Standards!C449","v":"Nurse: pregnant women ratio 1:2 in pre-labor; 2:1 per delivery table and 1:6 in post-natal ward"}]
[null,{"$f":"Standards!D450","v":0},{"$f":"Standards!B450","v":"2.7.1.2.1.2"},{"$f":"Standards!C450","v":" At least one ASBA trained medical officer on duty "}]
[null,{"$f":"Standards!D451","v":0},{"$f":"Standards!B451","v":"2.7.1.2.1.3"},{"$f":"Standards!C451","v":" At least one office assistant is available per shift"}]
[null,{"$f":"Standards!D452","v":0},{"$f":"Standards!B452","v":"2.7.1.2.2"},{"$f":"Standards!C452","v":"All staffs- nursing, medical practitioner designated for delivery services are trained skilled birth attendants"}]
[null,{"$f":"Standards!D453","v":0},{"$f":"Standards!B453","v":"2.7.1.3"},{"$f":"Standards!C453","v":"Duty roster to cover 24 hours shift is developed and placed in visible place"}]
[null,{"$f":"Standards!D454","v":0},{"$f":"Standards!B454","v":"2.7.1.4"},{"$f":"Standards!C454","v":"Partograph available and being used rationally"}]
[null,{"$f":"Standards!D455","v":0},{"$f":"Standards!B455","v":"2.7.1.5"},{"$f":"Standards!C455","v":"At least 2 KMC chairs available for providing KMC to premature and preterm babies"}]
[null,{"$f":"Standards!D456","v":0},{"$f":"Standards!B456","v":"2.7.1.6"},{"$f":"Standards!C456","v":"A formally signed standard birth certificate is issued."}]
[null,{"$f":"Standards!D457","v":0},{"$f":"Standards!B457","v":"2.7.1.7.1"},{"$f":"Standards!C457","v":"Pre-labor/ during labor patient and patients’ family are adequately given counseling on labor, possible complications and written consent taken"}]
[null,{"$f":"Standards!D458","v":0},{"$f":"Standards!B458","v":"2.7.1.7.2"},{"$f":"Standards!C458","v":"Health education on PNC, danger signs of mother and child, Immunization, nutrition, hygiene and family planning is given "}]
[null,{"$f":"Standards!D459","v":0},{"$f":"Standards!B459","v":"2.7.1.7.3"},{"$f":"Standards!C459","v":"Postpartum family planning and breastfeeding- early, exclusive and extended counseling is done prior to discharge."}]
[null,{"$f":"Standards!D460","v":0},{"$f":"Standards!B460","v":"2.7.1.8"},{"$f":"Standards!C460","v":"Appropriate IEC/BCC materials (posters, leaflets etc.) on postnatal care, breastfeeding- early, exclusive and extended, nutrition, immunization are used and available for users"}]
[null,{"$f":"Standards!D461","v":0},{"$f":"Standards!B461","v":" 2.7.1.9.1"},{"$f":"Standards!C461","v":"Separate store room for delivery service related logistics"}]
[{"$f":"Standards!D462","v":0},null,{"$f":"Standards!B462","v":"2.7.1.9.2"},{"$f":"Standards!C462","v":"The facility has adequate equipment, instrument and general supplies for delivery services (See Annex 2.7.1a Furniture, equipment, instrument and general supplies for labor room At the end of this standard)"}]
[{"$f":"Standards!D463","v":0},null,{"$f":"Standards!B463","v":"2.7.1.9.3"},{"$f":"Standards!C463","v":"Labor room has medicines and supplies available for delivery services (See Annex 2.7.1bmedicines and supplies for Labor Room At the end of this standard)"}]
[{"$f":"Standards!D464","v":0},null,{"$f":"Standards!B464","v":"2.7.1.9.4"},{"$f":"Standards!C464","v":"Labor room has emergency cart with medicines and supplies available (See Annex 2.7.1c Medicines and Supplies for ER[2] Trolley Labor Room At the end of this standard)"}]
[null,{"$f":"Standards!D465","v":0},{"$f":"Standards!B465","v":"2.7.1.10.1"},{"$f":"Standards!C465","v":"Safe drinking water is available 24 hours."}]
[null,{"$f":"Standards!D466","v":0},{"$f":"Standards!B466","v":"2.7.1.10.2"},{"$f":"Standards!C466","v":"Separate toilet for patient is available in pre-labor room and accessible to patient after delivery"}]
[null,{"$f":"Standards!D467","v":0},{"$f":"Standards!B467","v":"2.7.1.10.3"},{"$f":"Standards!C467","v":"There should be maternity waiting homes[3]where there is more than 20 deliveries per day and the waiting home must be taken round by every shift with at least one visit (by nurse)"}]
[null,{"$f":"Standards!D468","v":0},{"$f":"Standards!B468","v":"2.7.1.11.1"},{"$f":"Standards!C468","v":"Personal protective equipment are available and used whenever required."}]
[null,{"$f":"Standards!D469","v":0},{"$f":"Standards!B469","v":"2.7.1.11.2"},{"$f":"Standards!C469","v":"Washable labor room"}]
[null,{"$f":"Standards!D470","v":0},{"$f":"Standards!B470","v":"2.7.1.11.3"},{"$f":"Standards!C470","v":"Separate slipper designated for labor room and hand sanitizer placed in visible place for use"}]
[null,{"$f":"Standards!D471","v":0},{"$f":"Standards!B471","v":"2.7.1.11.4"},{"$f":"Standards!C471","v":"There are at well labelled color-coded bins for waste segregation and disposal as per HCWM guideline 2014 (MoHP)"}]
[null,{"$f":"Standards!D472","v":0},{"$f":"Standards!B472","v":"2.7.1.11.5"},{"$f":"Standards!C472","v":"Hand‑washing facility with running water and liquid soap is available"}]
[null,{"$f":"Standards!D473","v":0},{"$f":"Standards!B473","v":"2.7.1.11.6"},{"$f":"Standards!C473","v":"Needle cutter is used."}]
[null,{"$f":"Standards!D474","v":0},{"$f":"Standards!B474","v":"2.7.1.11.7"},{"$f":"Standards!C474","v":" Liquid sodium hypochoride (0.5% Chlorine solution) is available and utilized for decontamination. "}]
[null,{"$f":"Standards!D475","v":0},{"$f":"Standards!B475","v":"2.7.1.11.8"},{"$f":"Standards!C475","v":"Dry gauze and cotton are stored separately in clean containers."}]
[null,{"$f":"Standards!D476","v":0},{"$f":"Standards!B476","v":"2.7.1.11.9"},{"$f":"Standards!C476","v":"Separate bowls/ bucket for placenta and plastic "}]
[null,{"$f":"Standards!D477","v":0},{"$f":"Standards!B477","v":"2.7.1.11.10"},{"$f":"Standards!C477","v":"Placenta pit is used to dispose placenta."}]
[null,{"$f":"Standards!D486","v":0},{"$f":"Standards!B486","v":"2.7.2.1.1"},{"$f":"Standards!C486","v":"Separate space for nursing station is available "}]
[null,{"$f":"Standards!D487","v":0},{"$f":"Standards!B487","v":" 2.7.2.1.2"},{"$f":"Standards!C487","v":"Separate changing room available for male and female staffs"}]
[null,{"$f":"Standards!D488","v":0},{"$f":"Standards!B488","v":"2.7.2.1.3"},{"$f":"Standards!C488","v":"Separate store room is available "}]
[null,{"$f":"Standards!D489","v":0},{"$f":"Standards!B489","v":"2.7.2.1.4"},{"$f":"Standards!C489","v":"Separate space dedicated for pre-labor, labor and post-labor patients"}]
[{"$f":"Standards!D490","v":0},null,{"$f":"Standards!B490","v":"2.7.2.2"},{"$f":"Standards!C490","v":"Furniture and supplies to carry out the inpatient services are available and functioning (See annex 2.7.2a Furniture and supplies for maternity inpatient wards At the end of this standard ) (including nursing station)"}]
[{"$f":"Standards!D491","v":0},null,{"$f":"Standards!B491","v":"2.7.2.3"},{"$f":"Standards!C491","v":"Medicine and supplies to carry out the inpatient services are available General Ward (See Annex 2.7.2bmedicine and supplies for maternity inpatient wards At the end of this standard)"}]
[null,{"$f":"Standards!D492","v":0},{"$f":"Standards!B492","v":" 2.7.2.4.1"},{"$f":"Standards!C492","v":"Adequate numbers of nursing staff are available in ward per shift (nurse patient ratio 1:6 in general ward)    "}]
[null,{"$f":"Standards!D493","v":0},{"$f":"Standards!B493","v":"2.7.2.4.2"},{"$f":"Standards!C493","v":"At least one trained office assistant per shift in each ward"}]
[null,{"$f":"Standards!D494","v":0},{"$f":"Standards!B494","v":"2.7.2.5"},{"$f":"Standards!C494","v":"Duty roster of doctors, nurses, paramedics and support staffs kept visibly in nursing station "}]
[null,{"$f":"Standards!D495","v":0},{"$f":"Standards!B495","v":"2.7.2.6"},{"$f":"Standards!C495","v":"Telephone facility is available with list of important contact numbers and hospital codes visibly kept "}]
[null,{"$f":"Standards!D496","v":0},{"$f":"Standards!B496","v":"2.7.2.7.1"},{"$f":"Standards!C496","v":"All staffs in wards are trained for BLS and oriented about emergency code 001 or blue code"}]
[{"$f":"Standards!D497","v":0},null,{"$f":"Standards!B497","v":"2.7.2.7.2"},{"$f":"Standards!C497","v":"At least one emergency trolley with emergency medicine available in ward (Annex 2.7.2c Medicine and Supplies for ER Trolley for Maternity In patient Ward At the end of this standard) "}]
[null,{"$f":"Standards!D498","v":0},{"$f":"Standards!B498","v":"2.7.2.7.3"},{"$f":"Standards!C498","v":"At least one defibrillator in immediate accessible area "}]
[null,{"$f":"Standards!D499","v":0},{"$f":"Standards!B499","v":"2.7.2.8.1"},{"$f":"Standards!C499","v":"Separate area designated for admission of male and female inpatients in general ward"}]
[null,{"$f":"Standards!D500","v":0},{"$f":"Standards!B500","v":"2.7.2.8.2"},{"$f":"Standards!C500","v":"There are adequate toilets for male and female patients in each ward (1 for 6 female bed)"}]
[null,{"$f":"Standards!D501","v":0},{"$f":"Standards!B501","v":"2.7.2.8.3"},{"$f":"Standards!C501","v":"Safe drinking water is available 24 hours for inpatients"}]
[null,{"$f":"Standards!D502","v":0},{"$f":"Standards!B502","v":"2.7.2.8.4"},{"$f":"Standards!C502","v":"Hours/ Time allocated for visitors to meet the inpatients and controlled traffic to prevent cross infection"}]
[null,{"$f":"Standards!D503","v":0},{"$f":"Standards!B503","v":"2.7.2.8.5"},{"$f":"Standards!C503","v":"Separate space is available for patients’ visitors (Kuruwa Ghar)."}]
[null,{"$f":"Standards!D504","v":0},{"$f":"Standards!B504","v":" 2.7.2.9"},{"$f":"Standards!C504","v":"Basic information regarding admitted patients is displayed in a separate board  "}]
[null,{"$f":"Standards!D505","v":0},{"$f":"Standards!B505","v":"2.7.2.10"},{"$f":"Standards!C505","v":"Appropriate IEC materials (posters, leaflets etc.) are available in the inpatient ward with focus on infection prevention"}]
[null,{"$f":"Standards!D506","v":0},{"$f":"Standards!B506","v":"2.7.2.11"},{"$f":"Standards!C506","v":"Admission and discharge registers are available and are being filled completely (HMIS 8.1 and 8.2)"}]
[null,{"$f":"Standards!D507","v":0},{"$f":"Standards!B507","v":"2.7.2.12.1"},{"$f":"Standards!C507","v":"Personal Protective equipment are available and used whenever required "}]
[null,{"$f":"Standards!D508","v":0},{"$f":"Standards!B508","v":"2.7.2.12.2"},{"$f":"Standards!C508","v":"Each ward has hand sanitizer in visible place for health workers to use before and after touching patients"}]
[null,{"$f":"Standards!D509","v":0},{"$f":"Standards!B509","v":"2.7.2.12.3"},{"$f":"Standards!C509","v":"There are well labelled color-coded bins for waste segregation and disposal as per HCWM guideline 2014 (MoHP)"}]
[null,{"$f":"Standards!D510","v":0},{"$f":"Standards!B510","v":"2.7.2.12.4"},{"$f":"Standards!C510","v":"Hand washing facility with running water and liquid soap is available and being practiced "}]
[null,{"$f":"Standards!D511","v":0},{"$f":"Standards!B511","v":"2.7.2.12.5"},{"$f":"Standards!C511","v":"Needle cutter  is used"}]
[null,{"$f":"Standards!D512","v":0},{"$f":"Standards!B512","v":"2.7.2.12.6"},{"$f":"Standards!C512","v":"Chlorine solution is available and utilized for decontamination "}]
[null,{"$f":"Standards!D520","v":0},{"$f":"Standards!B520","v":"2.8.1.1.1"},{"$f":"Standards!C520","v":"Routine minor and intermediate surgeries available on scheduled days"}]
[null,{"$f":"Standards!D521","v":0},{"$f":"Standards!B521","v":"2.8.1.1.2"},{"$f":"Standards!C521","v":"Routine major surgeries available on scheduled days"}]
[null,{"$f":"Standards!D522","v":0},{"$f":"Standards!B522","v":"2.8.1.2"},{"$f":"Standards!C522","v":"Emergency surgeries available round the clock"}]
[null,{"$f":"Standards!D523","v":0},{"$f":"Standards!B523","v":"2.8.1.3"},{"$f":"Standards!C523","v":"At least four functional operating rooms"}]
[null,{"$f":"Standards!D524","v":0},{"$f":"Standards!B524","v":"2.8.2.1"},{"$f":"Standards!C524","v":"For one surgery, at least a team is composed of: MS/MDGP with one trained medical officer, two OT trained nurse (one scrub and one circulating), one Anesthesiologist/MDGP, one anesthesia assistant and one office assistant ( for cleaning and helping)"}]
[null,{"$f":"Standards!D525","v":0},{"$f":"Standards!B525","v":"2.8.2.2"},{"$f":"Standards!C525","v":"For overall management of operation theatre, there is one OT nurse (with minimum bachelors degree) assigned as OT in-charge"}]
[null,{"$f":"Standards!D526","v":0},{"$f":"Standards!B526","v":"2.8.2.3"},{"$f":"Standards!C526","v":"At least two nurses in pre-anesthesia area for receiving and transferring of the patient and "}]
[null,{"$f":"Standards!D527","v":0},{"$f":"Standards!B527","v":"2.8.2.4"},{"$f":"Standards!C527","v":"At least two ICU trained nurses for post anesthesia care for receiving patient after OT "}]
[{"$f":"Standards!D528","v":0},null,{"$f":"Standards!B528","v":"2.8.3.1"},{"$f":"Standards!C528","v":"General Surgeries (See Annex 2.8a List of Minimum Surgeries Available At the end of this standard)"}]
[null,{"$f":"Standards!D529","v":0},{"$f":"Standards!B529","v":"2.8.3.2"},{"$f":"Standards!C529","v":"Casaerian Section"}]
[{"$f":"Standards!D530","v":0},null,{"$f":"Standards!B530","v":"2.8.3.3"},{"$f":"Standards!C530","v":"Orthopedic Surgeries (See Annex 2.8b List of Minimum Orthopedics Surgeries Available At the end of this standard)"}]
[null,{"$f":"Standards!D531","v":0},{"$f":"Standards!B531","v":"2.8.4.1"},{"$f":"Standards!C531","v":"Indications and reviews the clinical history and physical examination is documented "}]
[null,{"$f":"Standards!D532","v":0},{"$f":"Standards!B532","v":"2.8.4.2"},{"$f":"Standards!C532","v":"Pre-anesthesia checkup done for routine surgeries and documented"}]
[null,{"$f":"Standards!D533","v":0},{"$f":"Standards!B533","v":"2.8.4.3"},{"$f":"Standards!C533","v":"Informed consent is taken before surgery; patients and caretakers are given appropriate counseling about the surgery"}]
[{"$f":"Standards!D534","v":0},null,{"$f":"Standards!B534","v":"2.8.5"},{"$f":"Standards!C534","v":"The WHO Safe Surgery Checklist is available in OT and used"}]
[null,{"$f":"Standards!D535","v":0},{"$f":"Standards!B535","v":"2.8.6"},{"$f":"Standards!C535","v":"Preoperative instructions for patient preparation are given and practiced with routine pre-anesthesia check up"}]
[{"$f":"Standards!D536","v":0},null,{"$f":"Standards!B536","v":"2.8.7.1"},{"$f":"Standards!C536","v":"OT has appropriate physical set up (See Annex 2.8c Physical Set Up for OT At the end of this standard)"}]
[{"$f":"Standards!D537","v":0},null,{"$f":"Standards!B537","v":"2.8.7.2"},{"$f":"Standards!C537","v":"Each operating room has general equipment, instruments and supplies available (See Annex 2.8d Furniture, Equipment, Instruments and Supplies for OT At the end of this standard)"}]
[{"$f":"Standards!D538","v":0},null,{"$f":"Standards!B538","v":"2.8.7.3"},{"$f":"Standards!C538","v":"Each operating room has medicines and supplies available (See Annex 2.8e General Medicine and Supplies for OT At the end of this standard)"}]
[{"$f":"Standards!D539","v":0},null,{"$f":"Standards!B539","v":"2.8.7.4"},{"$f":"Standards!C539","v":"Surgical sets for minimum list of the surgical services available (See Annex 2.8f Surgical sets for Minimum list of the surgical procedures At the end of this standard) "}]
[null,{"$f":"Standards!D541","v":0},{"$f":"Standards!B541","v":"2.8.8.1.1"},{"$f":"Standards!C541","v":"Local anesthesia "}]
[null,{"$f":"Standards!D542","v":0},{"$f":"Standards!B542","v":"2.8.8.1.2"},{"$f":"Standards!C542","v":"Regional anesthesia "}]
[null,{"$f":"Standards!D543","v":0},{"$f":"Standards!B543","v":"2.8.8.1.3"},{"$f":"Standards!C543","v":"Spinal anesthesia  "}]
[null,{"$f":"Standards!D544","v":0},{"$f":"Standards!B544","v":"2.8.8.1.4"},{"$f":"Standards!C544","v":"General anesthesia"}]
[{"$f":"Standards!D545","v":0},null,{"$f":"Standards!B545","v":"2.8.8.2"},{"$f":"Standards!C545","v":"Equipment, instrument and supplies for anesthesia available (See Annex 2.8g Equipment, Instrument and Supplies for Anesthesia At the end of this standard)"}]
[{"$f":"Standards!D546","v":0},null,{"$f":"Standards!B546","v":"2.8.8.3"},{"$f":"Standards!C546","v":"Medicine and supplies for anesthesia available (See Annex 2.8h Medicine and Supplies for Anesthesia At the end of this standard)"}]
[null,{"$f":"Standards!D547","v":0},{"$f":"Standards!B547","v":"2.8.8.4.1"},{"$f":"Standards!C547","v":"Anesthesia should be provided, led, or overseen by an anesthesiologist"}]
[null,{"$f":"Standards!D548","v":0},{"$f":"Standards!B548","v":"2.8.9.1"},{"$f":"Standards!C548","v":"Dedicated space for pre-anesthesia assessment  and post-anesthesia recovery with patient bed, IV stand, IV cannula, fixing tapes, infusion sets, burette sets, syringes, three-way stop cocks and at least one cardiac monitor "}]
[null,{"$f":"Standards!D549","v":0},{"$f":"Standards!B549","v":"2.8.9.2"},{"$f":"Standards!C549","v":"Separate area designated for post-operative care to stabilize the patient after surgery"}]
[null,{"$f":"Standards!D550","v":0},{"$f":"Standards!B550","v":"2.8.9.3"},{"$f":"Standards!C550","v":"Staffs are specified for the post-operative care including close monitoring of the vital signs and observation of patient"}]
[null,{"$f":"Standards!D551","v":0},{"$f":"Standards!B551","v":"2.8.9.4"},{"$f":"Standards!C551","v":"Patients’ pain management is prioritized, measures well documented and analgesic effect followed up"}]
[null,{"$f":"Standards!D552","v":0},{"$f":"Standards!B552","v":"2.8.9.5"},{"$f":"Standards!C552","v":"Patient undergoing surgical procedure is done pre- anesthetic check-up, continuously monitored during and at least 2 hours post- anesthesia"}]
[null,{"$f":"Standards!D553","v":0},{"$f":"Standards!B553","v":"2.8.9.6"},{"$f":"Standards!C553","v":"Adequate information shared for patient care and patient followed by at least one nurse/doctor for hand over or transfer of patient within or outside the hospital"}]
[null,{"$f":"Standards!D554","v":0},{"$f":"Standards!B554","v":"2.8.10.1"},{"$f":"Standards!C554","v":"Recording is done for all surgeries procedure including observation, management and complications if any"}]
[null,{"$f":"Standards!D555","v":0},{"$f":"Standards!B555","v":"2.8.10.2"},{"$f":"Standards!C555","v":"Records of all anesthetic procedures are kept and reported"}]
[null,{"$f":"Standards!D557","v":0},{"$f":"Standards!B557","v":"2.8.11.1"},{"$f":"Standards!C557","v":"Hand‑washing and scrubbing facility with running water and soap is available and being practiced with elbow tap"}]
[null,{"$f":"Standards!D558","v":0},{"$f":"Standards!B558","v":"2.8.11.2"},{"$f":"Standards!C558","v":"Gowns and sterile drapes for patients and sterile gown for surgery team are available and used whenever required."}]
[null,{"$f":"Standards!D559","v":0},{"$f":"Standards!B559","v":"2.8.11.3"},{"$f":"Standards!C559","v":"Fumigation is done at least once a week in the OT on Saturdays and as per need"}]
[null,{"$f":"Standards!D560","v":0},{"$f":"Standards!B560","v":"2.8.11.4"},{"$f":"Standards!C560","v":"High Level Disinfection (e.g. Cidex) facility is available and being practiced."}]
[null,{"$f":"Standards!D561","v":0},{"$f":"Standards!B561","v":"2.8.11.5"},{"$f":"Standards!C561","v":"High wash is done at least once a month in OT"}]
[null,{"$f":"Standards!D562","v":0},{"$f":"Standards!B562","v":"2.8.11.6"},{"$f":"Standards!C562","v":"Separate colored waste bins based on HCWM guideline 2014 (MoHP) are available and used"}]
[null,{"$f":"Standards!D563","v":0},{"$f":"Standards!B563","v":"2.8.11.7"},{"$f":"Standards!C563","v":"Needle cutter is used."}]
[null,{"$f":"Standards!D564","v":0},{"$f":"Standards!B564","v":"2.8.11.8"},{"$f":"Standards!C564","v":"Chlorine solution is available and utilized for decontamination. "}]
[null,{"$f":"Standards!D573","v":0},{"$f":"Standards!B573","v":"2.9.1.1.1.1"},{"$f":"Standards!C573","v":"Laboratory is open from 10 AM to 3 PM  for routine services and separate emergency lab service available round the clock"}]
[{"$f":"Standards!D574","v":0},null,{"$f":"Standards!B574","v":"2.9.1.1.1.2"},{"$f":"Standards!C574","v":"Basic investigations are available (See Annex 2.9.1a List of investigations for Laboratory At the end of this standard)"}]
[null,{"$f":"Standards!D575","v":0},{"$f":"Standards!B575","v":"2.9.1.1.1.3"},{"$f":"Standards!C575","v":"Histopathology service in coordination with other health facilites"}]
[null,{"$f":"Standards!D576","v":0},{"$f":"Standards!B576","v":"2.9.1.1.2"},{"$f":"Standards!C576","v":"At least 2 medical technologist, 3 lab staffs (1 lab Technician, 1 Lab Assistant and 1 Helper) in each shift"}]
[{"$f":"Standards!D577","v":0},null,{"$f":"Standards!B577","v":"2.9.1.1.3"},{"$f":"Standards!C577","v":"Instruments and equipment to carry out all parameters of tests are available and functioning (See Annex 2.9.1.1b Equipment and Instrument for Lab At the end of this standard)"}]
[null,{"$f":"Standards!D578","v":0},{"$f":"Standards!B578","v":"2.9.1.1.4.1"},{"$f":"Standards!C578","v":"Separate space with working desk and chair designated for specific laboratory procedures like- hematology, biochemistry, microbiology, serology"}]
[null,{"$f":"Standards!D579","v":0},{"$f":"Standards!B579","v":"2.9.1.1.4.2"},{"$f":"Standards!C579","v":"Light and ventilation are adequately maintained."}]
[null,{"$f":"Standards!D580","v":0},{"$f":"Standards!B580","v":"2.9.1.1.4.3"},{"$f":"Standards!C580","v":"Designated area well labelled for reception of sample and dispatch of reports "}]
[null,{"$f":"Standards!D581","v":0},{"$f":"Standards!B581","v":"2.9.1.1.5"},{"$f":"Standards!C581","v":"Duty rosters of lab are developed regularly and available in appropriate location. "}]
[null,{"$f":"Standards!D582","v":0},{"$f":"Standards!B582","v":"2.9.1.1.6.1"},{"$f":"Standards!C582","v":"Waiting space with sitting arrangement is available for at least 15 persons in waiting lobby."}]
[null,{"$f":"Standards!D583","v":0},{"$f":"Standards!B583","v":"2.9.1.1.6.2"},{"$f":"Standards!C583","v":"At least one each male, female and universal toilet for patients using laboratory services "}]
[null,{"$f":"Standards!D584","v":0},{"$f":"Standards!B584","v":"2.9.1.1.6.3"},{"$f":"Standards!C584","v":"Safe drinking water is available in the waiting lobby throughout the day."}]
[null,{"$f":"Standards!D585","v":0},{"$f":"Standards!B585","v":"2.9.1.1.7.1"},{"$f":"Standards!C585","v":"Sample is adequately recorded with requisition form with detail information of patients"}]
[null,{"$f":"Standards!D586","v":0},{"$f":"Standards!B586","v":"2.9.1.1.7.2"},{"$f":"Standards!C586","v":"Standard reporting sheets are being used and all reports are recorded in a standard register (HMIS 9.4)."}]
[null,{"$f":"Standards!D587","v":0},{"$f":"Standards!B587","v":"2.9.1.1.7.3"},{"$f":"Standards!C587","v":"Report have adequate information of patient and checked by designated person before release"}]
[null,{"$f":"Standards!D588","v":0},{"$f":"Standards!B588","v":"2.9.1.1.8.1"},{"$f":"Standards!C588","v":"At least three months buffer stock of laboratory supplies is available."}]
[null,{"$f":"Standards!D589","v":0},{"$f":"Standards!B589","v":"2.9.1.1.8.2"},{"$f":"Standards!C589","v":"Reagents are stored at appropriate temperature in store and lab"}]
[null,{"$f":"Standards!D590","v":0},{"$f":"Standards!B590","v":"2.9.1.1.9.1"},{"$f":"Standards!C590","v":"Blood storage is done based on Nepal Blood Bank and Transfusion Service Guideline"}]
[{"$f":"Standards!D591","v":0},null,{"$f":"Standards!B591","v":"2.9.1.1.9.2"},{"$f":"Standards!C591","v":"Blood storage has required instrument and equipment ( See Annex 2.9.1.1c At the end of this standard)"}]
[null,{"$f":"Standards!D592","v":0},{"$f":"Standards!B592","v":"2.9.1.1.10.1"},{"$f":"Standards!C592","v":"Biohazard signs and symbols are used at appropriate places visibly"}]
[null,{"$f":"Standards!D593","v":0},{"$f":"Standards!B593","v":"2.9.1.1.10.2"},{"$f":"Standards!C593","v":"All staffs know how to respond in case of spillage and other incidents"}]
[null,{"$f":"Standards!D594","v":0},{"$f":"Standards!B594","v":"2.9.1.1.10.3"},{"$f":"Standards!C594","v":"Masks and gloves are available"}]
[null,{"$f":"Standards!D595","v":0},{"$f":"Standards!B595","v":"2.9.1.1.10.4"},{"$f":"Standards!C595","v":"There are colored bins for waste segregation based on HCWM guideline 2014 (MoHP) and infectious waste is sterilized using autoclave before disposal"}]
[null,{"$f":"Standards!D596","v":0},{"$f":"Standards!B596","v":"2.9.1.1.10.5"},{"$f":"Standards!C596","v":"Hand‑washing facility with running water and soap is available for practitioners "}]
[null,{"$f":"Standards!D597","v":0},{"$f":"Standards!B597","v":"2.9.1.1.10.6"},{"$f":"Standards!C597","v":"Needle cutter is used"}]
[null,{"$f":"Standards!D598","v":0},{"$f":"Standards!B598","v":"2.9.1.1.10.7"},{"$f":"Standards!C598","v":"Chlorine solution and bleach is available and utilized for decontamination"}]
[null,{"$f":"Standards!D606","v":0},{"$f":"Standards!B606","v":" 2.9.1.2.1"},{"$f":"Standards!C606","v":"Blood bank is open / facility is available round the clock"}]
[null,{"$f":"Standards!D607","v":0},{"$f":"Standards!B607","v":"2.9.1.2.2"},{"$f":"Standards!C607","v":"Adequate numbers of trained healthcare workers are available in blood bank (at least 2 blood bank staffs to cover shifts including ER)"}]
[null,{"$f":"Standards!D608","v":0},{"$f":"Standards!B608","v":"2.9.1.2.3.1"},{"$f":"Standards!C608","v":"Adequate rooms and space for the staffs and patients are available (area of more than 10 meter squares)"}]
[null,{"$f":"Standards!D609","v":0},{"$f":"Standards!B609","v":"2.9.1.2.3.2"},{"$f":"Standards!C609","v":"Light and ventilation are adequately maintained."}]
[{"$f":"Standards!D610","v":0},null,{"$f":"Standards!B610","v":"2.9.1.2.3.3"},{"$f":"Standards!C610","v":"The required furniture and supplies are available (See Annex 2.9.1.2a Blood Bank Furniture and Supplies At the end of the standard)"}]
[null,{"$f":"Standards!D611","v":0},{"$f":"Standards!B611","v":"2.9.1.2.3.4"},{"$f":"Standards!C611","v":"Thermometers are attached to all equipment requiring temperature control and temperatures are recorded daily "}]
[{"$f":"Standards!D612","v":0},null,{"$f":"Standards!B612","v":"2.9.1.2.4"},{"$f":"Standards!C612","v":"Instruments and equipment are calibrated, available and functioning with record of smear kept (See Annex 2.9.1.2b Equipment and Instrument for Blood Bank At the end of the standard)"}]
[null,{"$f":"Standards!D613","v":0},{"$f":"Standards!B613","v":"2.9.1.2.5"},{"$f":"Standards!C613","v":"Duty rosters of lab are developed regularly and available in appropriate location. "}]
[null,{"$f":"Standards!D614","v":0},{"$f":"Standards!B614","v":"2.9.1.2.6.1"},{"$f":"Standards!C614","v":"Comfortable waiting space with sitting arrangement is available for at least 15 persons in waiting lobby."}]
[null,{"$f":"Standards!D615","v":0},{"$f":"Standards!B615","v":"2.9.1.2.6.2"},{"$f":"Standards!C615","v":"Safe drinking water is available in the waiting lobby throughout the day."}]
[null,{"$f":"Standards!D616","v":0},{"$f":"Standards!B616","v":"2.9.1.2.7.1"},{"$f":"Standards!C616","v":"Sample is adequately recorded with requisition form with detail information of patients"}]
[null,{"$f":"Standards!D617","v":0},{"$f":"Standards!B617","v":"2.9.1.2.7.2"},{"$f":"Standards!C617","v":"Standard reporting sheets are being used and all reports are recorded in a standard register or NBBTS software and computerized bill available to patients"}]
[null,{"$f":"Standards!D618","v":0},{"$f":"Standards!B618","v":"2.9.1.2.7.3"},{"$f":"Standards!C618","v":"Report have essential information of patient and checked by designated person before release"}]
[null,{"$f":"Standards!D619","v":0},{"$f":"Standards!B619","v":"2.9.1.2.7.4"},{"$f":"Standards!C619","v":"BTSC submits regular reports to NPHL/NBBTS of provided proficiency panels related to TTIs"}]
[null,{"$f":"Standards!D620","v":0},{"$f":"Standards!B620","v":"2.9.1.2.8.1"},{"$f":"Standards!C620","v":"At least three months buffer stock of laboratory supplies is available."}]
[null,{"$f":"Standards!D621","v":0},{"$f":"Standards!B621","v":"2.9.1.2.8.2"},{"$f":"Standards!C621","v":"Blood bags, transfusion sets, blood and blood components, reagents are stored at appropriate temperature in store and lab"}]
[null,{"$f":"Standards!D622","v":0},{"$f":"Standards!B622","v":"2.9.1.2.9.1"},{"$f":"Standards!C622","v":"Biohazard signs and symbols are used at appropriate places"}]
[null,{"$f":"Standards!D623","v":0},{"$f":"Standards!B623","v":"2.9.1.2.9.2"},{"$f":"Standards!C623","v":"All staffs know how to respond in case of spillage and other incidents"}]
[null,{"$f":"Standards!D624","v":0},{"$f":"Standards!B624","v":"2.9.1.2.9.3"},{"$f":"Standards!C624","v":"Masks and gloves are available"}]
[null,{"$f":"Standards!D625","v":0},{"$f":"Standards!B625","v":"2.9.1.2.9.4"},{"$f":"Standards!C625","v":"Bio-waste disposal is done based on HCWM guideline 2014 (MoHP)"}]
[null,{"$f":"Standards!D626","v":0},{"$f":"Standards!B626","v":"2.9.1.2.9.5"},{"$f":"Standards!C626","v":"Hand‑washing facility with running water and soap is available for practitioners "}]
[null,{"$f":"Standards!D627","v":0},{"$f":"Standards!B627","v":"2.9.1.2.9.6"},{"$f":"Standards!C627","v":"Needle cutter is used "}]
[null,{"$f":"Standards!D628","v":0},{"$f":"Standards!B628","v":"2.9.1.2.9.7"},{"$f":"Standards!C628","v":"Chlorine solution and bleach is available and utilized for decontamination"}]
[null,{"$f":"Standards!D636","v":0},{"$f":"Standards!B636","v":"2.9.2.1.1"},{"$f":"Standards!C636","v":"X-ray service is open from 10 AM to 3 PM "}]
[null,{"$f":"Standards!D637","v":0},{"$f":"Standards!B637","v":"2.9.2.1.2"},{"$f":"Standards!C637","v":"Emergency x-ray service is available round the clock"}]
[null,{"$f":"Standards!D638","v":0},{"$f":"Standards!B638","v":"2.9.2.2"},{"$f":"Standards!C638","v":"Adequate numbers of trained healthcare workers are available in x-ray (at least 2 staffs to cover shifts including ER) with on call radiologist"}]
[null,{"$f":"Standards!D639","v":0},{"$f":"Standards!B639","v":"2.9.2.3"},{"$f":"Standards!C639","v":"Counseling is provided to patients about radiation hazard, site and position for x-ray"}]
[null,{"$f":"Standards!D640","v":0},{"$f":"Standards!B640","v":"2.9.2.4"},{"$f":"Standards!C640","v":"Radiation sign, appropriate Radiation awareness posters, leaflets are available in the department and OPD waiting area."}]
[null,{"$f":"Standards!D641","v":0},{"$f":"Standards!B641","v":"2.9.2.5.1"},{"$f":"Standards!C641","v":"General X ray unit (with minimum 125KV and 300ma X-ray machine) with floatation table top and vertical bucky"}]
[null,{"$f":"Standards!D642","v":0},{"$f":"Standards!B642","v":"2.9.2.5.2"},{"$f":"Standards!C642","v":"Complete CR system with CR cassette at least 5 of 14 x 17 inch   and 3 of 10x12inch."}]
[null,{"$f":"Standards!D643","v":0},{"$f":"Standards!B643","v":"2.9.2.6.1"},{"$f":"Standards!C643","v":"X ray room of at least 4x4sqm with wall of at least 23cm of brick or 6cm RCC or 2mm lead equivalent."}]
[null,{"$f":"Standards!D644","v":0},{"$f":"Standards!B644","v":"2.9.2.6.2"},{"$f":"Standards!C644","v":"Light and ventilation are adequately maintained."}]
[null,{"$f":"Standards!D645","v":0},{"$f":"Standards!B645","v":"2.9.2.6.3"},{"$f":"Standards!C645","v":"The required furniture  and supplies including radiation protective measures for patients, visitors and staffs are available including magnetic gown"}]
[null,{"$f":"Standards!D646","v":0},{"$f":"Standards!B646","v":"2.9.2.7"},{"$f":"Standards!C646","v":"Duty rosters of X-ray are developed regularly and available in appropriate location. "}]
[null,{"$f":"Standards!D647","v":0},{"$f":"Standards!B647","v":"2.9.2.8"},{"$f":"Standards!C647","v":"Waiting space with sitting arrangement is available for at least 5 persons in waiting lobby."}]
[null,{"$f":"Standards!D648","v":0},{"$f":"Standards!B648","v":"2.9.2.9.1"},{"$f":"Standards!C648","v":"X-ray is adequately recorded as per requisition form with detail information of patients, date of x-ray and site and view"}]
[null,{"$f":"Standards!D649","v":0},{"$f":"Standards!B649","v":"2.9.2.9.2"},{"$f":"Standards!C649","v":"Report have adequate information of patient and checked by designated person before release"}]
[null,{"$f":"Standards!D650","v":0},{"$f":"Standards!B650","v":"2.9.2.10"},{"$f":"Standards!C650","v":"Biohazard signs and symbols are used at appropriate places"}]
[null,{"$f":"Standards!D651","v":0},{"$f":"Standards!B651","v":"2.9.2.11.1"},{"$f":"Standards!C651","v":"Radiological waste is disposed based on HCWM guideline 2014 (MoHP)"}]
[null,{"$f":"Standards!D652","v":0},{"$f":"Standards!B652","v":"2.9.2.11.2"},{"$f":"Standards!C652","v":"Hand‑washing facility with running water and soap is available for practitioners "}]
[null,{"$f":"Standards!D653","v":0},{"$f":"Standards!B653","v":"2.9.2.11.3"},{"$f":"Standards!C653","v":"Needle cutter is used"}]
[null,{"$f":"Standards!D654","v":0},{"$f":"Standards!B654","v":"2.9.2.11.4"},{"$f":"Standards!C654","v":"Chlorine solution and bleach is available and utilized for decontamination"}]
[null,{"$f":"Standards!D662","v":0},{"$f":"Standards!B662","v":"2.9.3.1"},{"$f":"Standards!C662","v":"USG is open from 10 AM to 3 PM for obstetrics, abdominal, pelvic and superficial structure like testis, thyroid"}]
[null,{"$f":"Standards!D663","v":0},{"$f":"Standards!B663","v":"2.9.3.2"},{"$f":"Standards!C663","v":"USG trained medical practitioner and mid-level health worker  in each USG room "}]
[null,{"$f":"Standards!D664","v":0},{"$f":"Standards!B664","v":"2.9.3.3"},{"$f":"Standards!C664","v":"Counseling is provided to patients about site and indication of USG"}]
[null,{"$f":"Standards!D665","v":0},{"$f":"Standards!B665","v":"2.9.3.4"},{"$f":"Standards!C665","v":"Appropriate techniques have been used to ensure the patient privacy (separate rooms, curtains hung, maintaining queuing of patients)"}]
[null,{"$f":"Standards!D666","v":0},{"$f":"Standards!B666","v":"2.9.3.5"},{"$f":"Standards!C666","v":"USG machine (advanced) with different probes, computer and printer with USG papers , gel and wipes is available and functional"}]
[null,{"$f":"Standards!D667","v":0},{"$f":"Standards!B667","v":"2.9.3.6.1"},{"$f":"Standards!C667","v":" Adequate space for practitioner and patient for USG with working table and examination bed one per each USG machine"}]
[null,{"$f":"Standards!D668","v":0},{"$f":"Standards!B668","v":"2.9.3.6.2"},{"$f":"Standards!C668","v":"Proper light and ventilation maintained."}]
[null,{"$f":"Standards!D669","v":0},{"$f":"Standards!B669","v":"2.9.3.7"},{"$f":"Standards!C669","v":"Waiting space with sitting arrangement is available for at least 15 persons in waiting lobby."}]
[null,{"$f":"Standards!D670","v":0},{"$f":"Standards!B670","v":"2.9.3.8.1"},{"$f":"Standards!C670","v":"USG is adequately recorded as per requisition form with detail information of patients, date of USG"}]
[null,{"$f":"Standards!D671","v":0},{"$f":"Standards!B671","v":"2.9.3.8.2"},{"$f":"Standards!C671","v":"Report have adequate information of patient, information of area of examination and radiological opinion, further referral and checked by designated person before release"}]
[null,{"$f":"Standards!D672","v":0},{"$f":"Standards!B672","v":"2.9.3.9.1"},{"$f":"Standards!C672","v":"Hand‑washing facility with running water and soap is available for practitioners"}]
[null,{"$f":"Standards!D673","v":0},{"$f":"Standards!B673","v":"2.9.3.9.2"},{"$f":"Standards!C673","v":"Chlorine solution and bleach is available and utilized for decontamination"}]
[null,{"$f":"Standards!D681","v":0},{"$f":"Standards!B681","v":"2.9.4.1"},{"$f":"Standards!C681","v":"ECG service is available for patients in OPD, Emergency and Indoor  "}]
[null,{"$f":"Standards!D682","v":0},{"$f":"Standards!B682","v":"2.9.4.2"},{"$f":"Standards!C682","v":"Separate space is dedicated for ECG Service"}]
[null,{"$f":"Standards!D683","v":0},{"$f":"Standards!B683","v":"2.9.4.3"},{"$f":"Standards!C683","v":"Counseling is provided to patients about procedure and indication of ECG"}]
[null,{"$f":"Standards!D684","v":0},{"$f":"Standards!B684","v":"2.9.4.4"},{"$f":"Standards!C684","v":"Appropriate techniques have been used to ensure the patient privacy (separate rooms, curtains hung, maintaining queuing of patients)"}]
[null,{"$f":"Standards!D685","v":0},{"$f":"Standards!B685","v":"2.9.4.5"},{"$f":"Standards!C685","v":"Functional ECG machine (12 lead with power back up), paper, gel, wipes and hand sanitizer are available in ECG trolley "}]
[null,{"$f":"Standards!D686","v":0},{"$f":"Standards!B686","v":"2.9.4.6.1"},{"$f":"Standards!C686","v":"ECG is adequately recorded as per requisition form with detail information of patients, date of ECG"}]
[null,{"$f":"Standards!D687","v":0},{"$f":"Standards!B687","v":"2.9.4.6.2"},{"$f":"Standards!C687","v":"Reporting folder of ECG should have adequate information of patient, including analysis of 12 lead ECG with final impression of ECG diagnosis done by designated person before release"}]
[null,{"$f":"Standards!D688","v":0},{"$f":"Standards!B688","v":"2.9.4.7.1"},{"$f":"Standards!C688","v":"Hand‑washing facility with running water and liquid soap is available for practitioners"}]
[null,{"$f":"Standards!D689","v":0},{"$f":"Standards!B689","v":"2.9.4.7.2"},{"$f":"Standards!C689","v":"Chlorine solution and bleach is available and utilized for decontamination"}]
[null,{"$f":"Standards!D697","v":0},{"$f":"Standards!B697","v":"2.10.1.1"},{"$f":"Standards!C697","v":"Dental service is available from 10 AM to 3 PM "}]
[null,{"$f":"Standards!D698","v":0},{"$f":"Standards!B698","v":"2.10.1.2"},{"$f":"Standards!C698","v":"Tickets for routine dental service are available till 2 pm"}]
[null,{"$f":"Standards!D699","v":0},{"$f":"Standards!B699","v":"2.10.1.3"},{"$f":"Standards!C699","v":"EHS services from 3PM onwards and tickets available from 2PM onwards"}]
[null,{"$f":"Standards!D700","v":0},{"$f":"Standards!B700","v":"2.10..2"},{"$f":"Standards!C700","v":"Dental Hygienist/Dentist : OPD Patients- 1:20 per day for quality of care"}]
[null,{"$f":"Standards!D701","v":0},{"$f":"Standards!B701","v":"2.10.3"},{"$f":"Standards!C701","v":"Patient privacy maintained with separate rooms, curtains hung, maintaining queuing of patients "}]
[null,{"$f":"Standards!D702","v":0},{"$f":"Standards!B702","v":"2.10.4.1"},{"$f":"Standards!C702","v":"Counseling is provided to patients about the type of treatment being given and its consequences "}]
[null,{"$f":"Standards!D703","v":0},{"$f":"Standards!B703","v":" 2.10.4.2"},{"$f":"Standards!C703","v":"Appropriate IEC materials (posters, leaflets etc.) as an IEC corner available in the OPD waiting area."}]
[null,{"$f":"Standards!D704","v":0},{"$f":"Standards!B704","v":"2.10.5.1"},{"$f":"Standards!C704","v":"At least 1 rooms with adequate space for the practitioners and patients is dedicated for Dental Service"}]
[null,{"$f":"Standards!D705","v":0},{"$f":"Standards!B705","v":"2.10.5.2"},{"$f":"Standards!C705","v":"Light and ventilation are adequately maintained "}]
[{"$f":"Standards!D706","v":0},null,{"$f":"Standards!B706","v":"2.10.5.3"},{"$f":"Standards!C706","v":"Required furniture, supplies and space are available (See Annex 2.10a Furniture and Supplies for Dental Services At the end of this standard)"}]
[{"$f":"Standards!D707","v":0},null,{"$f":"Standards!B707","v":"2.10.6.1"},{"$f":"Standards!C707","v":"Equipment, instrument and supplies to carry out Dental Services (See Annex 2.10b Basic Equipment and Instrument for Dental Services at the end of this standard) are available and functioning"}]
[null,{"$f":"Standards!D708","v":0},{"$f":"Standards!B708","v":"2.10.7"},{"$f":"Standards!C708","v":"Duty rosters developed regularly and available in appropriate location."}]
[null,{"$f":"Standards!D709","v":0},{"$f":"Standards!B709","v":"2.10.8"},{"$f":"Standards!C709","v":"OPD register available in every OPD and ICD 10 classification for diagnosis recorded (electronic health recording system) "}]
[null,{"$f":"Standards!D710","v":0},{"$f":"Standards!B710","v":"2.10.9.1"},{"$f":"Standards!C710","v":"Masks and gloves are available and used "}]
[null,{"$f":"Standards!D711","v":0},{"$f":"Standards!B711","v":"2.10.9.2"},{"$f":"Standards!C711","v":"There are well labelled colored bins for waste segregation and disposal as per HCWM guideline 2014 (MoHP)"}]
[null,{"$f":"Standards!D712","v":0},{"$f":"Standards!B712","v":"2.10.9.3"},{"$f":"Standards!C712","v":"Hand‑washing facility with running water and soap is available for practitioners "}]
[null,{"$f":"Standards!D713","v":0},{"$f":"Standards!B713","v":"2.10.9.4"},{"$f":"Standards!C713","v":"Needle cutter is used"}]
[null,{"$f":"Standards!D714","v":0},{"$f":"Standards!B714","v":"2.10.9.5"},{"$f":"Standards!C714","v":"Chlorine solution is available and utilized for decontamination "}]
[null,{"$f":"Standards!D722","v":0},{"$f":"Standards!B722","v":"2.11.1.1.1"},{"$f":"Standards!C722","v":"Designated area for mortuary room, changing room and store room and bathroom"}]
[null,{"$f":"Standards!D723","v":0},{"$f":"Standards!B723","v":"2.11.1.1.2"},{"$f":"Standards!C723","v":"Body dissection table (at least one) is available and used"}]
[null,{"$f":"Standards!D724","v":0},{"$f":"Standards!B724","v":"2.11.1.1.3"},{"$f":"Standards!C724","v":"Organ dissection table (at least one) is available and used"}]
[null,{"$f":"Standards!D725","v":0},{"$f":"Standards!B725","v":"2.11.1.1.4"},{"$f":"Standards!C725","v":"Adequate ventilation and light and odor management"}]
[null,{"$f":"Standards!D726","v":0},{"$f":"Standards!B726","v":"2.11.2"},{"$f":"Standards!C726","v":"Examination of the dead body in any unnatural death and suspicious death (Post-mortem examination or autopsy) available from 9 am to 5pm"}]
[null,{"$f":"Standards!D727","v":0},{"$f":"Standards!B727","v":"2.11.3"},{"$f":"Standards!C727","v":"At least one MD forensic and one trained medical officer for autopsy and clinical medico-legal services"}]
[{"$f":"Standards!D728","v":0},null,{"$f":"Standards!B728","v":"2.11.4"},{"$f":"Standards!C728","v":"Adequate supplies and instruments for forensic services (See Annex 2.11a Supplies and instrument for post mortem At the end of this standard)"}]
[null,{"$f":"Standards!D729","v":0},{"$f":"Standards!B729","v":"2.11.5"},{"$f":"Standards!C729","v":"Mortuary van is available 24 hours (at least one)"}]
[null,{"$f":"Standards!D730","v":0},{"$f":"Standards!B730","v":"2.11.6"},{"$f":"Standards!C730","v":"Standardized medico-legal examination formats available"}]
[null,{"$f":"Standards!D731","v":0},{"$f":"Standards!B731","v":"2.11.7.1 "},{"$f":"Standards!C731","v":"Staff wear mask and gloves at work."}]
[null,{"$f":"Standards!D732","v":0},{"$f":"Standards!B732","v":"2.11.7.2"},{"$f":"Standards!C732","v":"There are colored bins for waste segregation and disposal based on HCWM guideline 2014 (MoHP)"}]
[null,{"$f":"Standards!D733","v":0},{"$f":"Standards!B733","v":" 2.11.7.3"},{"$f":"Standards!C733","v":"Hand‑washing facility with running water and soap is available and being practiced."}]
[null,{"$f":"Standards!D734","v":0},{"$f":"Standards!B734","v":" 2.7.11.4"},{"$f":"Standards!C734","v":"Chlorine solution is available and utilized. "}]
[null,{"$f":"Standards!D735","v":0},{"$f":"Standards!B735","v":" 2.11.7.5"},{"$f":"Standards!C735","v":"Proper disposal of anatomical waste in placenta pit after autoclaving"}]
[null,{"$f":"Standards!D743","v":0},{"$f":"Standards!B743","v":"2.12.1"},{"$f":"Standards!C743","v":"Designated area for medico-legal examination with examination bed and working desk with chair"}]
[null,{"$f":"Standards!D744","v":0},{"$f":"Standards!B744","v":"2.12.2"},{"$f":"Standards!C744","v":"Medico-legal services are available 24 hours "}]
[null,{"$f":"Standards!D745","v":0},{"$f":"Standards!B745","v":"2.12.3"},{"$f":"Standards!C745","v":"Trained medical officer for medico-legal services at least one"}]
[{"$f":"Standards!D746","v":0},null,{"$f":"Standards!B746","v":"2.12.4.1"},{"$f":"Standards!C746","v":"Adequate supplies and instruments for medico-legal services (See Annex 2.12a Supplies and instrument for medico legal services At the end of this standard)"}]
[null,{"$f":"Standards!D747","v":0},{"$f":"Standards!B747","v":"2.12.4.2"},{"$f":"Standards!C747","v":"Preservation of sample ensured before dispatching for test"}]
[null,{"$f":"Standards!D748","v":0},{"$f":"Standards!B748","v":"2.12.5"},{"$f":"Standards!C748","v":"Post-traumatic counseling is done to the victims of medico-legal issues like sexual offence"}]
[null,{"$f":"Standards!D749","v":0},{"$f":"Standards!B749","v":"2.12.6"},{"$f":"Standards!C749","v":"Standardized medico-legal examination formats available"}]
[null,{"$f":"Standards!D750","v":0},{"$f":"Standards!B750","v":"2.12.7.1"},{"$f":"Standards!C750","v":"Staff wear mask and gloves at work."}]
[null,{"$f":"Standards!D751","v":0},{"$f":"Standards!B751","v":"2.12.7.2"},{"$f":"Standards!C751","v":"There are well labelled colored bins for waste disposal based on HCWM guideline 2014 (MoHP)"}]
[null,{"$f":"Standards!D752","v":0},{"$f":"Standards!B752","v":"2.12.7.3"},{"$f":"Standards!C752","v":"Hand‑washing facility with running water and soap is available and being practiced."}]
[null,{"$f":"Standards!D753","v":0},{"$f":"Standards!B753","v":"2.12.7.4"},{"$f":"Standards!C753","v":"Chlorine solution is available and utilized. "}]
[null,{"$f":"Standards!D761","v":0},{"$f":"Standards!B761","v":"2.13.1"},{"$f":"Standards!C761","v":"Quarterly meeting minute of coordination committee"}]
[null,{"$f":"Standards!D762","v":0},{"$f":"Standards!B762","v":" 2.13.2"},{"$f":"Standards!C762","v":"Monthly meeting minute of case management committee"}]
[null,{"$f":"Standards!D763","v":0},{"$f":"Standards!B763","v":"2.13.3.1"},{"$f":"Standards!C763","v":"Prioritized services for GBV victims/survivors exits"}]
[null,{"$f":"Standards!D764","v":0},{"$f":"Standards!B764","v":"2.13.3.2"},{"$f":"Standards!C764","v":"Treatment for GBV survivors/affected by GBV is available 24 hours "}]
[{"$f":"Standards!D765","v":0},null,{"$f":"Standards!B765","v":"2.13.4"},{"$f":"Standards!C765","v":"Separate space allocated for OCMC services with adequate physical facilities (See Annex 2.13a Physical facilities for OCMC At the end of this standard)"}]
[null,{"$f":"Standards!D766","v":0},{"$f":"Standards!B766","v":"2.13.5.1"},{"$f":"Standards!C766","v":"At least one Medical officer working in the hospital trained in medico-legal issues is available"}]
[null,{"$f":"Standards!D767","v":0},{"$f":"Standards!B767","v":" 2.13.5.2"},{"$f":"Standards!C767","v":"At least two Staff nurse working in the hospital and  1 trained psycho social counselor"}]
[{"$f":"Standards!D768","v":0},null,{"$f":"Standards!B768","v":" 2.13.6.1"},{"$f":"Standards!C768","v":"Health check-up, medico-legal examination including documentation (See Annex2.13b  Instruments and supplies for treatment in OCMC At the end of this standard)"}]
[{"$f":"Standards!D769","v":0},null,{"$f":"Standards!B769","v":" 2.13.6.2"},{"$f":"Standards!C769","v":"Preservation of samples as legal evidence done for future use (See Annex 2.13c Instruments and supplies for evidence collection in OCMC At the end of this standard)"}]
[null,{"$f":"Standards!D770","v":0},{"$f":"Standards!B770","v":" 2.13.6.3"},{"$f":"Standards!C770","v":"Pregnancy test and emergency contraceptive services, tests for HIV/HBV available"}]
[null,{"$f":"Standards!D771","v":0},{"$f":"Standards!B771","v":"2.13.7.1"},{"$f":"Standards!C771","v":"Whole site orientation on GBV clinical protocol conducted "}]
[null,{"$f":"Standards!D772","v":0},{"$f":"Standards!B772","v":"2.13.7.2"},{"$f":"Standards!C772","v":"Availability and use of the treatment as per the protocol and OCMC guideline"}]
[null,{"$f":"Standards!D773","v":0},{"$f":"Standards!B773","v":"2.13.8.1"},{"$f":"Standards!C773","v":"Mental health and psychosocial counselling services available"}]
[null,{"$f":"Standards!D774","v":0},{"$f":"Standards!B774","v":" 2.13.8.2"},{"$f":"Standards!C774","v":"If the female survivor requires to stay more days or requires advance psychosocial counseling including livelihood training, she/he shall be referred to nearby appropriate safe home/ rehabilitation centers"}]
[null,{"$f":"Standards!D775","v":0},{"$f":"Standards!B775","v":" 2.13.9.1"},{"$f":"Standards!C775","v":"Provide required referral and other services (as per the health service guideline and protocol). (Beyond health: security, legal, shelter, rehabilitation)"}]
[null,{"$f":"Standards!D776","v":0},{"$f":"Standards!B776","v":"2.13.9.2"},{"$f":"Standards!C776","v":"Health related referral services e.g. Safe abortion services "}]
[null,{"$f":"Standards!D777","v":0},{"$f":"Standards!B777","v":" 2.13.10.1"},{"$f":"Standards!C777","v":"Detailed information concerning the services being provided by OCMC to the survivors of GBV (Citizen charter, leaflets, community radio etc) "}]
[null,{"$f":"Standards!D778","v":0},{"$f":"Standards!B778","v":" 2.13.10.2"},{"$f":"Standards!C778","v":"Information is being given in an integrated manner ( Safe home related, OCMC, Police women children service unit)"}]
[null,{"$f":"Standards!D779","v":0},{"$f":"Standards!B779","v":"2.13.11.1"},{"$f":"Standards!C779","v":"Details of the events registered in the OCMC, services (health and non-health) being provided to the survivors, listing of the referred organizations shall be documented to be classified and analyzed in due course.   "}]
[null,{"$f":"Standards!D780","v":0},{"$f":"Standards!B780","v":" 2.13.11.2"},{"$f":"Standards!C780","v":"Confidentiality shall be maintained at all stages of documentation."}]
[null,{"$f":"Standards!D781","v":0},{"$f":"Standards!B781","v":" 2.13.11.3"},{"$f":"Standards!C781","v":"Report to concerned authority (DCC and MoHP)  in monthly report service format"}]
[null,{"$f":"Standards!D782","v":0},{"$f":"Standards!B782","v":"2.13.11.4"},{"$f":"Standards!C782","v":"Documentation of the current status of GBV survivors of at least last 1 year is done "}]
[null,{"$f":"Standards!D783","v":0},{"$f":"Standards!B783","v":" 2.13.12.1"},{"$f":"Standards!C783","v":"Masks and gloves are available and used"}]
[null,{"$f":"Standards!D784","v":0},{"$f":"Standards!B784","v":" 2.13.12.2"},{"$f":"Standards!C784","v":"There are colored bins for waste segregation and disposal based on HCWM guideline 2014 (MoHP)"}]
[null,{"$f":"Standards!D785","v":0},{"$f":"Standards!B785","v":"2.13.12.3"},{"$f":"Standards!C785","v":"Hand‑washing facility with running water and soap is available for practitioners."}]
[null,{"$f":"Standards!D786","v":0},{"$f":"Standards!B786","v":"2.13.12.4"},{"$f":"Standards!C786","v":"Needle cutter  is used."}]
[null,{"$f":"Standards!D787","v":0},{"$f":"Standards!B787","v":"2.13.12.5"},{"$f":"Standards!C787","v":"Chlorine solution is available and utilized. "}]
[null,{"$f":"Standards!D795","v":0},{"$f":"Standards!B795","v":"2.14.1"},{"$f":"Standards!C795","v":"Separate room for OPD physiotherapy with at least 10 physiotherapy beds with 5 exercise beds and 5 electric beds"}]
[null,{"$f":"Standards!D796","v":0},{"$f":"Standards!B796","v":"2.14.2.1 "},{"$f":"Standards!C796","v":"Physiotherapy OPD is open from 10 AM to 5 PM."}]
[null,{"$f":"Standards!D797","v":0},{"$f":"Standards!B797","v":" 2.14.2.2"},{"$f":"Standards!C797","v":"Inpatient physiotherapy service is available based on the requisition"}]
[null,{"$f":"Standards!D798","v":0},{"$f":"Standards!B798","v":" 2.14.3"},{"$f":"Standards!C798","v":"At least 1 physiotherapist trained in Masters in Physiotherapy (MPT), 2 trained in Bachelors in Physiotherapy (BPT),and 2 Certificate in physiotherapy (CPT) or Diploma in physiotherapy  (DPT) and 1 trained office assistant treating 20 patients per day on OPD basis"}]
[null,{"$f":"Standards!D799","v":0},{"$f":"Standards!B799","v":"2.14.4"},{"$f":"Standards!C799","v":"Appropriate techniques have been used to ensure the patient privacy (separate rooms, curtains hung, maintaining queuing of patients)."}]
[null,{"$f":"Standards!D800","v":0},{"$f":"Standards!B800","v":" 2.14.5"},{"$f":"Standards!C800","v":"Counseling is provided to patients about the type of treatment being given and its consequences."}]
[null,{"$f":"Standards!D801","v":0},{"$f":"Standards!B801","v":"2.14.6"},{"$f":"Standards!C801","v":"Appropriate IEC/BCC materials (posters, leaflets etc.) are available in the OPD waiting area."}]
[{"$f":"Standards!D802","v":0},null,{"$f":"Standards!B802","v":"2.14.7"},{"$f":"Standards!C802","v":"Instruments and equipment to carry out the Physiotherapy works are available and functioning (See Annex 2.14a Instruments and equipment physiotherapy At the end of this standard)."}]
[null,{"$f":"Standards!D803","v":0},{"$f":"Standards!B803","v":"2.14.8.1"},{"$f":"Standards!C803","v":"Adequate rooms and space for the practitioners and patients are available."}]
[null,{"$f":"Standards!D804","v":0},{"$f":"Standards!B804","v":"2.14.8.2"},{"$f":"Standards!C804","v":"Light and ventilation are adequately maintained."}]
[null,{"$f":"Standards!D805","v":0},{"$f":"Standards!B805","v":"2.14.9"},{"$f":"Standards!C805","v":"Duty rosters of OPD are developed regularly and available in appropriate location."}]
[null,{"$f":"Standards!D806","v":0},{"$f":"Standards!B806","v":"2.14.10.1"},{"$f":"Standards!C806","v":"Safe drinking water is available in the waiting lobby throughout the day."}]
[null,{"$f":"Standards!D807","v":0},{"$f":"Standards!B807","v":"2.14.10.2"},{"$f":"Standards!C807","v":"Hand‑washing facilities are available for patients."}]
[null,{"$f":"Standards!D808","v":0},{"$f":"Standards!B808","v":"2.14.11.1"},{"$f":"Standards!C808","v":"Recording and reporting throughout treatment and follow up is done"}]
[null,{"$f":"Standards!D809","v":0},{"$f":"Standards!B809","v":"2.14.12.1"},{"$f":"Standards!C809","v":"Masks and gloves are available and used"}]
[null,{"$f":"Standards!D810","v":0},{"$f":"Standards!B810","v":"2.14.12.2"},{"$f":"Standards!C810","v":"There are colored bins for waste disposal based on HCWM guideline 2014 (MoHP)"}]
[null,{"$f":"Standards!D811","v":0},{"$f":"Standards!B811","v":"2.14.12.3"},{"$f":"Standards!C811","v":"Hand‑washing facility with running water and soap is available for practitioners."}]
[null,{"$f":"Standards!D812","v":0},{"$f":"Standards!B812","v":"2.14.12.4"},{"$f":"Standards!C812","v":"Needle cutter is used"}]
[null,{"$f":"Standards!D813","v":0},{"$f":"Standards!B813","v":"2.14.12.5"},{"$f":"Standards!C813","v":"Chlorine solution is available and utilized. "}]
[null,{"$f":"Standards!D821","v":0},{"$f":"Standards!B821","v":"3.1.1.1"},{"$f":"Standards!C821","v":"Separate central supply sterile department (CSSD) is available with running water facility"}]
[null,{"$f":"Standards!D822","v":0},{"$f":"Standards!B822","v":"3.1.1.2"},{"$f":"Standards!C822","v":"There are separate rooms designated for dirty utility, cleaning, washing and drying and sterile area for sterilizing, packaging and storage"}]
[null,{"$f":"Standards!D823","v":0},{"$f":"Standards!B823","v":"3.1.2"},{"$f":"Standards!C823","v":"Separate staffs assigned for CSSD and is led by CSSD trained personal"}]
[{"$f":"Standards!D824","v":0},null,{"$f":"Standards!B824","v":"3.1.3"},{"$f":"Standards!C824","v":"Equipment and supplies for sterilization available and functional round the clock (See Annex 3.1a CSSD Equipment and Supplies At the end of this standard)"}]
[null,{"$f":"Standards!D825","v":0},{"$f":"Standards!B825","v":"3.1.4"},{"$f":"Standards!C825","v":"Wrapper, gauze, cotton balls, bandages are prepared."}]
[null,{"$f":"Standards!D826","v":0},{"$f":"Standards!B826","v":"3.1.5.1"},{"$f":"Standards!C826","v":"All used instruments are cleaned using brush chemical/detergents in a separate room."}]
[null,{"$f":"Standards!D827","v":0},{"$f":"Standards!B827","v":"3.1.5.2"},{"$f":"Standards!C827","v":"All instruments and equipment are dried in a separate place"}]
[null,{"$f":"Standards!D828","v":0},{"$f":"Standards!B828","v":"3.1.5.3"},{"$f":"Standards!C828","v":"All instruments are packed in double wrappers  "}]
[null,{"$f":"Standards!D829","v":0},{"$f":"Standards!B829","v":"3.1.6"},{"$f":"Standards!C829","v":"All wrapped instruments are indicated with thermal indicator and autoclaved in a separate room."}]
[null,{"$f":"Standards!D830","v":0},{"$f":"Standards!B830","v":"3.1.7"},{"$f":"Standards!C830","v":"All sterile packs with sticker of sterilization date are stored in separate cupboards "}]
[null,{"$f":"Standards!D831","v":0},{"$f":"Standards!B831","v":"3.1.8.1"},{"$f":"Standards!C831","v":"System for single door collection and different route for distribution of the sterile supply exist and is practiced"}]
[null,{"$f":"Standards!D832","v":0},{"$f":"Standards!B832","v":"3.1.8.2"},{"$f":"Standards!C832","v":"Sterile supplies are distributed using basket supply system or on-demand supply system"}]
[null,{"$f":"Standards!D833","v":0},{"$f":"Standards!B833","v":"3.1.9"},{"$f":"Standards!C833","v":"All instruments and wrappers are recorded and inventory maintained"}]
[null,{"$f":"Standards!D834","v":0},{"$f":"Standards!B834","v":"3.1.10.1"},{"$f":"Standards!C834","v":"Staffs use personal protective equipment at work"}]
[null,{"$f":"Standards!D835","v":0},{"$f":"Standards!B835","v":"3.1.10.2"},{"$f":"Standards!C835","v":"There are well labelled colored bins for waste disposal based on HCWM[1] guideline 2014 (MoHP)"}]
[null,{"$f":"Standards!D836","v":0},{"$f":"Standards!B836","v":"3.1.10.3"},{"$f":"Standards!C836","v":"Hand‑washing facility with running water and liquid soap is available and being practiced."}]
[null,{"$f":"Standards!D837","v":0},{"$f":"Standards!B837","v":"3.1.10.4"},{"$f":"Standards!C837","v":"Chlorine solution is available and utilized for decontamination"}]
[null,{"$f":"Standards!D845","v":0},{"$f":"Standards!B845","v":"3.2.1.1"},{"$f":"Standards!C845","v":"Separate laundry room is available."}]
[null,{"$f":"Standards!D846","v":0},{"$f":"Standards!B846","v":"3.2.1.2"},{"$f":"Standards!C846","v":"Separate space allocated for clean and dirty linens"}]
[null,{"$f":"Standards!D847","v":0},{"$f":"Standards!B847","v":"3.2.2"},{"$f":"Standards!C847","v":"There is a special schedule for collection and distribution of linens with visible duty roster for staffs"}]
[{"$f":"Standards!D848","v":0},null,{"$f":"Standards!B848","v":"3.2.3"},{"$f":"Standards!C848","v":"Adequate equipment and supplies are available for laundry (See Annex 3.2a Equipment and Supplies for Laundry At the end of this standard)."}]
[null,{"$f":"Standards!D849","v":0},{"$f":"Standards!B849","v":"3.2.4.1"},{"$f":"Standards!C849","v":"Linens are segregated (soiled, unsoiled, colorful, white, blood stained) before wash "}]
[null,{"$f":"Standards!D850","v":0},{"$f":"Standards!B850","v":"3.2.4.2"},{"$f":"Standards!C850","v":"Separated linens are decontaminated before wash"}]
[null,{"$f":"Standards!D851","v":0},{"$f":"Standards!B851","v":"3.2.5"},{"$f":"Standards!C851","v":"All linens are washed using a washing machine."}]
[null,{"$f":"Standards!D852","v":0},{"$f":"Standards!B852","v":"3.2.6.1"},{"$f":"Standards!C852","v":"Space available for drying linens like blankets in direct sunlight."}]
[null,{"$f":"Standards!D853","v":0},{"$f":"Standards!B853","v":"3.2.6.2"},{"$f":"Standards!C853","v":"Linen dryer is available and used"}]
[null,{"$f":"Standards!D854","v":0},{"$f":"Standards!B854","v":"3.2.7"},{"$f":"Standards!C854","v":"All linens are ironed and packed properly."}]
[null,{"$f":"Standards!D855","v":0},{"$f":"Standards!B855","v":"3.2.8"},{"$f":"Standards!C855","v":"Linens are properly stored in separate cupboard."}]
[null,{"$f":"Standards!D856","v":0},{"$f":"Standards!B856","v":"3.2.9"},{"$f":"Standards!C856","v":"All linens are distributed using a proper method (basket supply system and on-demand supply system)."}]
[null,{"$f":"Standards!D857","v":0},{"$f":"Standards!B857","v":"3.2.10"},{"$f":"Standards!C857","v":"All linens are recorded and inventory maintained. "}]
[null,{"$f":"Standards!D858","v":0},{"$f":"Standards!B858","v":"3.2.11.1"},{"$f":"Standards!C858","v":"Staff wear mask and gloves at work."}]
[null,{"$f":"Standards!D859","v":0},{"$f":"Standards!B859","v":"3.2.11.2"},{"$f":"Standards!C859","v":"There are well labelled colored bins for waste disposal based on HCWM[1] guideline 2014 (MoHP)"}]
[null,{"$f":"Standards!D860","v":0},{"$f":"Standards!B860","v":"3.2.11.3"},{"$f":"Standards!C860","v":"Hand‑washing facility with running water and soap is available and being practiced."}]
[null,{"$f":"Standards!D861","v":0},{"$f":"Standards!B861","v":"3.2.11.4"},{"$f":"Standards!C861","v":"Chlorine solution is available and utilized for decontamination "}]
[null,{"$f":"Standards!D869","v":0},{"$f":"Standards!B869","v":"3.3.1"},{"$f":"Standards!C869","v":"Separate space is allocated for storage of the housekeeping basic supplies"}]
[null,{"$f":"Standards!D870","v":0},{"$f":"Standards!B870","v":"3.3.2.1"},{"$f":"Standards!C870","v":"Allocation of the staff for cleaning with visible duty roster "}]
[{"$f":"Standards!D871","v":0},null,{"$f":"Standards!B871","v":"3.3.2.2"},{"$f":"Standards!C871","v":"There is checklist of cleaning in each department with contact number of assigned working personnel"}]
[{"$f":"Standards!D872","v":0},null,{"$f":"Standards!B872","v":"3.3.3"},{"$f":"Standards!C872","v":"Basic supplies are available (See Annex 3.3a Housekeeping Basic Supplies  At the end of this standard)"}]
[null,{"$f":"Standards!D873","v":0},{"$f":"Standards!B873","v":"3.3.4.1.1"},{"$f":"Standards!C873","v":"The hospital premises are visibly clean and dust free"}]
[null,{"$f":"Standards!D874","v":0},{"$f":"Standards!B874","v":"3.3.4.1.2.1"},{"$f":"Standards!C874","v":"All hospital toilets are clean with no offensive smell"}]
[null,{"$f":"Standards!D875","v":0},{"$f":"Standards!B875","v":"3.3.4.1.2.2"},{"$f":"Standards!C875","v":"All toilets are cleaned at least three times a day"}]
[null,{"$f":"Standards!D876","v":0},{"$f":"Standards!B876","v":"3.3.4.3"},{"$f":"Standards!C876","v":"All doors and windows of hospital are dust-free and cleaned once a day."}]
[null,{"$f":"Standards!D877","v":0},{"$f":"Standards!B877","v":"3.3.4.4"},{"$f":"Standards!C877","v":"All floors of the hospital are clean and cleaned at least twice a day (like- before registration in morning and after OPD closes)"}]
[null,{"$f":"Standards!D878","v":0},{"$f":"Standards!B878","v":"3.3.4.5"},{"$f":"Standards!C878","v":"All walls of the hospital are clean and are tiled or painted with enamel up to 4 feet"}]
[null,{"$f":"Standards!D879","v":0},{"$f":"Standards!B879","v":"3.3.4.6"},{"$f":"Standards!C879","v":"Every ward/unit must have high wash twice a month and fumigation as per need"}]
[null,{"$f":"Standards!D880","v":0},{"$f":"Standards!B880","v":"3.3.5"},{"$f":"Standards!C880","v":"Separate drainage system or pit is maintained for drainage of chlorine solution "}]
[null,{"$f":"Standards!D881","v":0},{"$f":"Standards!B881","v":"3.3.6"},{"$f":"Standards!C881","v":"Garden and trees should cover at least 25% of the hospital premises "}]
[null,{"$f":"Standards!D889","v":0},{"$f":"Standards!B889","v":"3.4.1.1"},{"$f":"Standards!C889","v":"Human resource trained in biomedical engineer is designated for repair and maintenance"}]
[null,{"$f":"Standards!D890","v":0},{"$f":"Standards!B890","v":"3.4.1.2"},{"$f":"Standards!C890","v":"Staffs assigned to cover 24 hours shift with visible duty roster for staffs."}]
[null,{"$f":"Standards!D891","v":0},{"$f":"Standards!B891","v":"3.4.2.1"},{"$f":"Standards!C891","v":"Hospital has regular preventive maintenance practices (calibration, servicing of equipment) and corrective maintenance)"}]
[null,{"$f":"Standards!D892","v":0},{"$f":"Standards!B892","v":"3.4.2.2"},{"$f":"Standards!C892","v":"Biomedical equipment inventory of all equipment and instrument is updated "}]
[null,{"$f":"Standards!D893","v":0},{"$f":"Standards!B893","v":"3.4.2.3"},{"$f":"Standards!C893","v":"Separate room for storage of repairing tools and instrument"}]
[null,{"$f":"Standards!D894","v":0},{"$f":"Standards!B894","v":"3.4.2.4"},{"$f":"Standards!C894","v":"Availability of spare parts for repair and maintenance of biomedical equipment and instruments "}]
[null,{"$f":"Standards!D895","v":0},{"$f":"Standards!B895","v":"3.4.2.5"},{"$f":"Standards!C895","v":"Record keeping of repair and maintenance of biomedical equipment and instruments"}]
[null,{"$f":"Standards!D896","v":0},{"$f":"Standards!B896","v":"3.4.2.6"},{"$f":"Standards!C896","v":"Specification of annual maintenance cost of major equipment"}]
[null,{"$f":"Standards!D897","v":0},{"$f":"Standards!B897","v":"3.4.3.1"},{"$f":"Standards!C897","v":"Hospital has main-grid power supply with three‑phase line"}]
[null,{"$f":"Standards!D898","v":0},{"$f":"Standards!B898","v":"3.4.3.2"},{"$f":"Standards!C898","v":"Hospital has alternate power generator capable of running x-ray and other hospital equipment"}]
[null,{"$f":"Standards!D899","v":0},{"$f":"Standards!B899","v":"3.4.3.3"},{"$f":"Standards!C899","v":"Proper inventory of fuel is maintained."}]
[null,{"$f":"Standards!D900","v":0},{"$f":"Standards!B900","v":"3.4.3.4"},{"$f":"Standards!C900","v":"Hospital has solar system installed (at least for essential clinical services and administrative function)."}]
[null,{"$f":"Standards!D908","v":0},{"$f":"Standards!B908","v":"3.5.1"},{"$f":"Standards!C908","v":"There is regular water supply system – boring or well or from drinking water supply dedicated for hospital"}]
[null,{"$f":"Standards!D909","v":0},{"$f":"Standards!B909","v":" 3.5.2.1"},{"$f":"Standards!C909","v":"Water storage tank is covered to prevent contamination and cleaned on a regular basis"}]
[null,{"$f":"Standards!D910","v":0},{"$f":"Standards!B910","v":" 3.5.2.2"},{"$f":"Standards!C910","v":"Water storage tank has the reserve capacity to supply water for two full days in case of interruptions in main water supply "}]
[null,{"$f":"Standards!D911","v":0},{"$f":"Standards!B911","v":" 3.5.3"},{"$f":"Standards!C911","v":"Water quality test is done every year and report is available as per Nepal Drinking Water Quality Standards, 2005  "}]
[null,{"$f":"Standards!D919","v":0},{"$f":"Standards!B919","v":"3.6.1"},{"$f":"Standards!C919","v":"There is work plan prepared and implemented by hospital for hospital waste management"}]
[null,{"$f":"Standards!D920","v":0},{"$f":"Standards!B920","v":"3.6.1.1"},{"$f":"Standards!C920","v":"There is allocation of staff for HCWM from segregation to final disposal "}]
[null,{"$f":"Standards!D921","v":0},{"$f":"Standards!B921","v":"3.6.1.2"},{"$f":"Standards!C921","v":"Whole site coaching/ orientation on health care waste management is done"}]
[null,{"$f":"Standards!D922","v":0},{"$f":"Standards!B922","v":"3.6.2"},{"$f":"Standards!C922","v":"There is separate area/space designated for solid waste storage and management with functional hand washing facility"}]
[null,{"$f":"Standards!D923","v":0},{"$f":"Standards!B923","v":"3.6.3"},{"$f":"Standards!C923","v":"Different colored bins (for risk and non-risk waste) are used during collection of waste"}]
[null,{"$f":"Standards!D924","v":0},{"$f":"Standards!B924","v":"3.6.4"},{"$f":"Standards!C924","v":"Staff use cap, mask, gloves, boot, and gown while collecting waste."}]
[null,{"$f":"Standards!D925","v":0},{"$f":"Standards!B925","v":"3.6.5"},{"$f":"Standards!C925","v":"Information regarding proper use of waste bins is displayed publicly and basic information of HCWM is displayed in hospital premises"}]
[null,{"$f":"Standards!D926","v":0},{"$f":"Standards!B926","v":"3.6.6"},{"$f":"Standards!C926","v":"Medication trolley has well labeled buckets for segregation of waste during procedures  "}]
[null,{"$f":"Standards!D927","v":0},{"$f":"Standards!B927","v":" 3.6.7"},{"$f":"Standards!C927","v":"Hospital uses transportation trolleys separate for risk and non-risk waste "}]
[null,{"$f":"Standards!D928","v":0},{"$f":"Standards!B928","v":" 3.6.8.1"},{"$f":"Standards!C928","v":"Infectious waste is sterilized using autoclave before disposal"}]
[null,{"$f":"Standards!D929","v":0},{"$f":"Standards!B929","v":" 3.6.8.2"},{"$f":"Standards!C929","v":"Collection of recyclable/reusable items such as plastic bottles, paper, decontaminated sharps is practiced and sold to vendor/municipality"}]
[null,{"$f":"Standards!D930","v":0},{"$f":"Standards!B930","v":" 3.6.8.3"},{"$f":"Standards!C930","v":"Composting of bio-degradable waste is practiced"}]
[null,{"$f":"Standards!D931","v":0},{"$f":"Standards!B931","v":" 3.6.8.4"},{"$f":"Standards!C931","v":"Collection of waste by the local municipality/ rural municipality after sterilization /decontamination"}]
[null,{"$f":"Standards!D932","v":0},{"$f":"Standards!B932","v":" 3.6.8.5"},{"$f":"Standards!C932","v":"Placenta pit used for disposal of human anatomical waste such as placenta, human tissue"}]
[null,{"$f":"Standards!D933","v":0},{"$f":"Standards!B933","v":"3.6.8.6"},{"$f":"Standards!C933","v":"Biogas plant in place and energy generated used for hospital support services"}]
[null,{"$f":"Standards!D934","v":0},{"$f":"Standards!B934","v":"3.6.9"},{"$f":"Standards!C934","v":"Pharmaceutical waste and radiological waste treated  and disposed based on the HCWM guideline 2014 (MoHP)"}]
[null,{"$f":"Standards!D935","v":0},{"$f":"Standards!B935","v":"3.6.10"},{"$f":"Standards!C935","v":"Hospital liquid waste management is done "}]
[null,{"$f":"Standards!D943","v":0},{"$f":"Standards!B943","v":"3.7.1.1"},{"$f":"Standards!C943","v":"Hospital has trained security personnel round the clock."}]
[null,{"$f":"Standards!D944","v":0},{"$f":"Standards!B944","v":"3.7.1.2"},{"$f":"Standards!C944","v":"All security staffs are oriented with hospital codes like 001- call for help for crashing patients, 007- call for disaster in ER"}]
[null,{"$f":"Standards!D945","v":0},{"$f":"Standards!B945","v":"3.7.1.3"},{"$f":"Standards!C945","v":"All security staffs have participated in emergency drills"}]
[null,{"$f":"Standards!D946","v":0},{"$f":"Standards!B946","v":"3.7.2"},{"$f":"Standards!C946","v":"A separate office for security with communication system is available"}]
[{"$f":"Standards!D947","v":0},null,{"$f":"Standards!B947","v":"3.7.3"},{"$f":"Standards!C947","v":"Basic amenities for safety and security are available (See Annex 3.7a Safety and Security Basic Amenities Section At the end of this standard)"}]
[null,{"$f":"Standards!D948","v":0},{"$f":"Standards!B948","v":"3.7.4"},{"$f":"Standards!C948","v":"The hospital has replaced all mercury apparatus with other appropriate technologies."}]
[null,{"$f":"Standards!D949","v":0},{"$f":"Standards!B949","v":"3.7.5"},{"$f":"Standards!C949","v":"CCTV coverage of major areas and control under Medical Superintendent and security in-charge"}]
[null,{"$f":"Standards!D950","v":0},{"$f":"Standards!B950","v":"3.7.6.1"},{"$f":"Standards!C950","v":"The hospital has fire extinguisher in all blocks including the fire extinguishing system "}]
[null,{"$f":"Standards!D951","v":0},{"$f":"Standards!B951","v":"3.7.6.2"},{"$f":"Standards!C951","v":"The hospital has installed safety alarm system including smoke detector"}]
[null,{"$f":"Standards!D952","v":0},{"$f":"Standards!B952","v":"3.7.6.3"},{"$f":"Standards!C952","v":"The hospital has prevented lightening by ensuring earthing system in electrification."}]
[null,{"$f":"Standards!D953","v":0},{"$f":"Standards!B953","v":"3.7.6.4"},{"$f":"Standards!C953","v":"Disaster preparedness orientation has been given to all staff at least every six months."}]
[null,{"$f":"Standards!D954","v":0},{"$f":"Standards!B954","v":"3.7.6.5"},{"$f":"Standards!C954","v":"Exit signs are displayed to escape during disaster in all departments and wards"}]
[null,{"$f":"Standards!D955","v":0},{"$f":"Standards!B955","v":"3.7.6.6"},{"$f":"Standards!C955","v":"An assembly zone has been specified for disaster"}]
[null,{"$f":"Standards!D956","v":0},{"$f":"Standards!B956","v":"3.7.6.7"},{"$f":"Standards!C956","v":"Hospital has functional rapid response team "}]
[null,{"$f":"Standards!D957","v":0},{"$f":"Standards!B957","v":"3.7.6.8"},{"$f":"Standards!C957","v":"Medicine stock for post disaster response is available"}]
[null,{"$f":"Standards!D965","v":0},{"$f":"Standards!B965","v":"3.8.1.1"},{"$f":"Standards!C965","v":"24-hour ambulance service is available."}]
[null,{"$f":"Standards!D966","v":0},{"$f":"Standards!B966","v":"3.8.1.2"},{"$f":"Standards!C966","v":"Hospital has its own well-equipped ambulance at least 2"}]
[null,{"$f":"Standards!D967","v":0},{"$f":"Standards!B967","v":"3.8.1.3"},{"$f":"Standards!C967","v":"The hospital has access to utility van"}]
[null,{"$f":"Standards!D968","v":0},{"$f":"Standards!B968","v":"3.8.2.1"},{"$f":"Standards!C968","v":"The hospital has telephone with intercom (EPABX) network."}]
[null,{"$f":"Standards!D969","v":0},{"$f":"Standards!B969","v":"3.8.2.2"},{"$f":"Standards!C969","v":"Internal communication (paging) system has been installed in all major service stations."}]
[null,{"$f":"Standards!D970","v":0},{"$f":"Standards!B970","v":"3.8.2.3"},{"$f":"Standards!C970","v":"A notice board is available and being utilized."}]
[null,{"$f":"Standards!D971","v":0},{"$f":"Standards!B971","v":"3.8.2.4"},{"$f":"Standards!C971","v":"List of important phone numbers including emergency contacts like ambulance, fire brigade, blood banks, hospital administration, hospital staffs is available in the reception, emergency and administration office"}]
[null,{"$f":"Standards!D972","v":0},{"$f":"Standards!B972","v":"3.8.2.5"},{"$f":"Standards!C972","v":"There should be a public contact or information center in prime location of hospital with 24 hours staff availability"}]
[null,{"$f":"Standards!D980","v":0},{"$f":"Standards!B980","v":"3.9.1"},{"$f":"Standards!C980","v":"Separate space allocated for store for hospital- medicine and logistics"}]
[null,{"$f":"Standards!D981","v":0},{"$f":"Standards!B981","v":"3.9.2.1"},{"$f":"Standards!C981","v":"A separate hospital medical store with 3 months' buffer stock is available"}]
[null,{"$f":"Standards!D982","v":0},{"$f":"Standards!B982","v":" 3.9.2.2"},{"$f":"Standards!C982","v":"Minimum and Maximum stock levels for each item are calculated and used when re-ordering stock"}]
[null,{"$f":"Standards!D983","v":0},{"$f":"Standards!B983","v":" 3.9.3.1"},{"$f":"Standards!C983","v":"Electronic database system is used in the hospital medical store."}]
[null,{"$f":"Standards!D984","v":0},{"$f":"Standards!B984","v":" 3.9.3.2"},{"$f":"Standards!C984","v":"Hospital submits quarterly reports to LMIS utilizing either paper report or web-based (eLMIS-7)"}]
[null,{"$f":"Standards!D985","v":0},{"$f":"Standards!B985","v":"3.9.4"},{"$f":"Standards!C985","v":"Disposal of expired medicine as per HCWM guideline 2014 (MoHP) is practiced in every six month"}]
[null,{"$f":"Standards!D986","v":0},{"$f":"Standards!B986","v":"3.9.5"},{"$f":"Standards!C986","v":"Auction of identified old logistics is done annually"}]
[null,{"$f":"Standards!D994","v":0},{"$f":"Standards!B994","v":"3.10.1"},{"$f":"Standards!C994","v":"Hospital has canteen in its premises with 24 hours service"}]
[null,{"$f":"Standards!D995","v":0},{"$f":"Standards!B995","v":"3.10.2"},{"$f":"Standards!C995","v":"A list of food items with price list approved by Hospital Management Committee is available"}]
[null,{"$f":"Standards!D996","v":0},{"$f":"Standards!B996","v":"3.10.3.1"},{"$f":"Standards!C996","v":"Visibly clean floors and space allocated for cooking, cleaning and storage of stock"}]
[null,{"$f":"Standards!D997","v":0},{"$f":"Standards!B997","v":"3.10.3.2"},{"$f":"Standards!C997","v":"Light and ventilation are adequately maintained."}]
[null,{"$f":"Standards!D998","v":0},{"$f":"Standards!B998","v":"3.10.3.3"},{"$f":"Standards!C998","v":"All walls of the canteen are clean and are tiled or painted with enamel up to 4 feet"}]
[null,{"$f":"Standards!D999","v":0},{"$f":"Standards!B999","v":"3.10.3.4"},{"$f":"Standards!C999","v":"Safe drinking water is available 24 hours"}]
[null,{"$f":"Standards!D1000","v":0},{"$f":"Standards!B1000","v":"3.10.4"},{"$f":"Standards!C1000","v":"Dress code is maintained"}]
[null,{"$f":"Standards!D1001","v":0},{"$f":"Standards!B1001","v":"3.10.5"},{"$f":"Standards!C1001","v":"The inpatients who are identified needy or covered by SSU are provided with food at least four times a day and the food contains carbohydrate, fats, proteins and at least one vegetable item"}]
[null,{"$f":"Standards!D1002","v":0},{"$f":"Standards!B1002","v":"3.10.6"},{"$f":"Standards!C1002","v":"Appropriate IEC/ BCC materials (posters, leaflets, television) are available in the canteen for balanced diet"}]
[null,{"$f":"Standards!D1003","v":0},{"$f":"Standards!B1003","v":"3.10.7"},{"$f":"Standards!C1003","v":"Comfortable space with sitting arrangement is available for at least 50 people"}]
[null,{"$f":"Standards!D1004","v":0},{"$f":"Standards!B1004","v":"3.10.8.1"},{"$f":"Standards!C1004","v":"Separate area designated for washing dishes and visibly clean."}]
[null,{"$f":"Standards!D1005","v":0},{"$f":"Standards!B1005","v":"3.10.8.2"},{"$f":"Standards!C1005","v":"There are colored bins for waste segregation and  disposal based on HCWM guideline 2014 (MoHP)"}]
[null,{"$f":"Standards!D1006","v":0},{"$f":"Standards!B1006","v":"3.10.8.3"},{"$f":"Standards!C1006","v":"Hand‑washing facility with running water and soap is available  "}]
[null,{"$f":"Standards!D1007","v":0},{"$f":"Standards!B1007","v":"3.10.8.4"},{"$f":"Standards!C1007","v":"Mesh/ net to cover food and refrigerator used to store food used to cover food "}]
[null,{"$f":"Standards!D1008","v":0},{"$f":"Standards!B1008","v":"3.10.8.5"},{"$f":"Standards!C1008","v":"Rat proofing and daily scrubbing of the canteen is done"}]
[null,{"$f":"Standards!D1009","v":0},{"$f":"Standards!B1009","v":"3.10.8.6"},{"$f":"Standards!C1009","v":"Use of refrigerator for storage of food"}]
[null,{"$f":"Standards!D1017","v":0},{"$f":"Standards!B1017","v":" 3.11.1.1"},{"$f":"Standards!C1017","v":"SSU open from 8am to 7pm"}]
[null,{"$f":"Standards!D1018","v":0},{"$f":"Standards!B1018","v":" 3.11.1.2"},{"$f":"Standards!C1018","v":"Management committee to manage 24 hours SSU services for patients"}]
[{"$f":"Standards!D1019","v":0},null,{"$f":"Standards!B1019","v":" 3.11.2"},{"$f":"Standards!C1019","v":"Separate space allocated for SSU is accessible to patients (See Annex 3.11a Physical Facilities SSU At the end of this standard)"}]
[null,{"$f":"Standards!D1020","v":0},{"$f":"Standards!B1020","v":" 3.11.3"},{"$f":"Standards!C1020","v":"Allocation of staffs for SSU under unit chief  a team of 2 to 10 facilitators"}]
[null,{"$f":"Standards!D1021","v":0},{"$f":"Standards!B1021","v":" 3.11.4"},{"$f":"Standards!C1021","v":"Refer to ‘deprived citizen treatment fund guideline 2071’ to identify target group, and display target group and services covered"}]
[null,{"$f":"Standards!D1022","v":0},{"$f":"Standards!B1022","v":" 3.11.5.1"},{"$f":"Standards!C1022","v":"Referral of patients based on treatment protocol"}]
[null,{"$f":"Standards!D1023","v":0},{"$f":"Standards!B1023","v":" 3.11.5.2"},{"$f":"Standards!C1023","v":"Documentation of referral based on  ‘deprived citizen treatment fund guideline 2071’   "}]
[null,{"$f":"Standards!D1024","v":0},{"$f":"Standards!B1024","v":" 3.11.5.3"},{"$f":"Standards!C1024","v":"SSU allocates fund for transportation for referral "}]
[null,{"$f":"Standards!D1025","v":0},{"$f":"Standards!B1025","v":" 3.11.6.1"},{"$f":"Standards!C1025","v":"Meetings of SSU every two months to review and discuss problems"}]
[null,{"$f":"Standards!D1026","v":0},{"$f":"Standards!B1026","v":" 3.11.6.2"},{"$f":"Standards!C1026","v":"Daily display of names of persons receiving free and partially free services from the unit"}]
[null,{"$f":"Standards!D1027","v":0},{"$f":"Standards!B1027","v":" 3.11.6.3"},{"$f":"Standards!C1027","v":" Record information on free and partially free service recipients on the formats to records section of the concerned hospital"}]
[null,{"$f":"Standards!D1028","v":0},{"$f":"Standards!B1028","v":" 3.11.6.4"},{"$f":"Standards!C1028","v":"Prepare and submit monthly, trimester and annual report to concerned authority"}]

{"sheet":"DataSheet_Extract","index":9,"n_rows":2,"n_cols":2603,"rows_kept":2,"hidden":true}
["Province","Name","Date","Reason","Number",{"$f":"TRANSPOSE('Calculation Sheet'!B1:C2598)","v":"Summary    1.1"},"Summary    1.2","Summary    1.3","Summary    1.4","Summary    1.5","Summary    1.6","Section I","Summary    2.1","Summary    2.2","Summary    2.3","Summary    2.4","Summary    2.5","Summary    2.6","Summary    2.7","Summary    2.7","Summary    2.8","Summary    2.9","Summary    2.10","Summary    2.11","Summary    2.12","Section II","Summary    3.1","Summary    3.2","Summary    3.3","Summary    3.4","Summary    3.5","Summary    3.6","Summary    3.7","Summary    3.8","Summary    3.9","Summary    3.10","Summary    3.11","Section III","Percent","Std 1.1.1","Std 1.1.2","Std 1.1.3","Std 1.1.4.1","Std 1.1.4.2.1","Std 1.1.4.2.2","Std 1.1.4.2.3","Std 1.1.4.2.4","Std 1.1.4.2.5","Std 1.1.4.2.6","Std 1.1.4.2.7","Std 1.1.5.1","Std 1.1.5.2","Std 1.1.6","Std 1.1.7","Std 1.1.8.1","Std 1.1.8.2","Std 1.1.8.3","Std 1.1.8.4","Std 1.1.8.5","Std 1.1.8.6","Std 1.1.8.7","Std 1.1.9.1","Std 1.1.9.2","Std 1.1.10","Std 1.1.11","Std 1.1.12","Std 1.1 Total","Std 1.1 Percentage","Std 1.2.1.1","Std 1.2.1.2","Std  1.2.2","Std 1.2.3","Std 1.2.4","Std 1.2.5","Std 1.2.6.1","Std 1.2.6.2","Std 1.2.7.1","Std 1.2.7.2","Std 1.2.7.3","Std 1.2.7.3.1","Std 1.2.7.3.2","Std 1.2.7.3.3","Std 1.2.7.4","Std 1.2.7.5","Std 1.2 Total","Std 1.2 Percentage","Std 1.3.1","Std 1.3.2","Std 1.3.3.1","Std 1.3.3.2","Std 1.3.4","Std 1.3.5.1","Std 1.3.6.1","Std 1.3.6.2","Std 1.3.6.3","Std 1.3.6.4","Std 1.3.7.1","Std 1.3.7.2","Std 1.3.7.3","Std 1.3.8.1","Std 1.3.8.2","Std 1.3.8.3","Std 1.3.8.6","Std 1.3 Total","Std 1.3 Percentage","Std 1.4.1.1","Std 1.4.1.2","Std 1.4.2.1","Std 1.4.2.2","Std 1.4.3","Std 1.4.4","Std 1.4.5.1","Std 1.4.5.2","Std 1.4.5.3","Std 1.4.6.1","Std 1.4.6.2","Std 1.4.7.1","Std 1.4.7.2","Std 1.4.7.3","Std 1.4.8.1","Std 1.4.8.2","Std 1.4.9","Std 1.4 Total","Std 1.4 Percentage","Std 1.5.1.1","Std 1.5.1.2","Std 1.5.1.3","Std 1.5.2.1","Std 1.5.2.2","Std 1.5.2.3","Std 1.5.3.1","Std 1.5.3.2","Std 1.5.3.3","Std 1.5.3.4","Std 1.5.3.5","Std 1.5.4.1","Std 1.5.4.2","Std 1.5.4.3","Std 1.5 Total","Std 1.5 Percentage","Std 1.6.1.1","Std 1.6.1.2","Std 1.6.2","Std 1.6.3","Std 1.6.4","Std 1.6.5","Std 1.6.6","Std 1.6.7.1","Std 1.6.7.2","Std 1.6.8.1","Std 1.6.8.2.1","Std 1.6.8.2.2","Std 1.6.8.3","Std 1.6.8.4","Std 1.6.8.5","Std 1.6 Total","Std 1.6 Percentage","Std 2.1.1.1","Std 2.1.1.2","Std 2.1.1.3","Std 2.1.2.1","Std 2.1.2.2","Std 2.1.3","Std 2.1.4.1","Std 2.1.4.2","Std 2.1.5.1","Std 2.1.5.2","Std 2.1.5.3.1","Std 2.1.5.3.2","Std 2.1.5.3.3","Std 2.1.5.3.4","Std 2.1.5.3.5","Std 2.1.6.1","Std 2.1.6.2","Std 2.1.6.3","Std 2.1.6.4","Std 2.1.6.5","Std 2.1.7","Std 2.1.8.1","Std 2.1.8.2","Std 2.1.8.3","Std 2.1.8.4","Std 2.1.9","Std 2.1.10.1","Std 2.1.10.2","Std 2.1.10.3","Std 2.1.10.4","Std 2.1.10.5","Std 2.1 Total","Std 2.1 Percentage","Std 2.2.1.1","Std 2.2.1.2","Std 2.2.1.3","Std 2.2.1.4.1","Std 2.2.1.4.2","Std 2.2.1.5","Std 2.2.1.6.1","Std 2.2.1.6.2","Std 2.2.1.7.1","Std 2.2.1.7.2","Std 2.2.1.8.1","Std 2.2.1.8.2","Std 2.2.1.8.3","Std 2.2.1.8.4","Std 2.2.1.8.5","Std 2.2 Total","Std 2.2 Percentage","Std 2.2.2.1","Std 2.2.2.2","Std 2.2.2.3","Std 2.2.2.4","Std 2.2.2.5.1","Std 2.2.2.5.2","Std 2.2.2.6","Std 2.2.2.7","Std 2.2.2.8.1","Std 2.2.2.8.2","Std 2.2.2.9.1","Std 2.2.2.9.2","Std 2.2.2.10.1","Std 2.2.2.10.2","Std 2.2.2.10.3","Std 2.2.2.10.4","Std 2.2.2.10.5","Std 2.2.2 Total","Std 2.2.2 Percentage","Std 2.2.3.1","Std 2.2.3.2","Std 2.2.3.3","Std 2.2.3.4.1","Std 2.2.3.4.2","Std 2.2.3.5","Std 2.2.3.6","Std 2.2.3.7.1","Std 2.2.3.7.2","Std 2.2.3.8.1","Std 2.2.3.8.2","Std 2.2.3.9.1","Std 2.2.3.9.2","Std 2.2.3.10.1","Std 2.2.3.10.2","Std 2.2.3.10.3","Std 2.2.3.10.4","Std 2.2.3.10.5","Std 2.2.3 Total","Std 2.2.3 Percentage","Std 2.2.4.1","Std 2.2.4.2","Std 2.2.4.3.1","Std 2.2.4.3.2","Std 2.2.4.4","Std 2.2.4.5.1","Std 2.2.4.5.2","Std 2.2.4.6","Std 2.2.4.7.1","Std 2.2.4.7.2","Std 2.2.4.8.1","Std 2.2.4.8.2","Std 2.2.4.9.1","Std 2.2.4.9.2","Std 2.2.4.10.1","Std 2.2.4.10.2","Std 2.2.4.10.3","Std 2.2.4.10.4","Std 2.2.4.10.5","Std 2.2.4 Total","Std 2.2.4 Percentage","Std 2.3.1","Std 2.3.2.1","Std 2.3.2.2","Std 2.3.3.1","Std 2.3.3.2","Std 2.3.3.3","Std 2.3.3.4","Std 2.3.3.5","Std 2.3.3.6","Std 2.3.3.7","Std 2.3.4","Std 2.3.5.1","Std 2.3.5.2","Std 2.3.6.1","Std 2.3.6.2","Std 2.3.7.1","Std 2.3.7.2","Std 2.3.7.3","Std 2.3.7.4","Std 2.3.8","Std 2.3.9","Std 2.3.10.1","Std 2.3.10.2","Std 2.3.10.3","Std 2.3.10.4","Std 2.3.11","Std 2.3.12","Std 2.3.13","Std 2.3.14.1","Std 2.3.14.2","Std 2.3.14.3","Std 2.3.15","Std 2.3.16.1","Std 2.3.16.2","Std 2.3.16.3","Std 2.3.16.4","Std 2.3 Total","Std 2.3 Percentage","Std 2.4.1","Std 2.4.2","Std 2.4.3","Std 2.4.4","Std 2.4.5.1","Std 2.4.5.2","Std 2.4.6.1","Std 2.4.6.2","Std 2.4.6.3","Std 2.4.6.4","Std 2.4.6.5","Std 2.4.7","Std 2.4 Total","Std 2.4 Percentage","Std 2.5.1","Std 2.5.2.1","Std 2.5.2.2","Std 2.5.3.1","Std 2.5.3.2","Std 2.5.3.3","Std 2.5.4.1","Std 2.5.4.2","Std 2.5.4.3","Std 2.5.4.4","Std 2.5.4.5","Std 2.5.4.6","Std 2.5.5","Std 2.5.6.1","Std 2.5.6.2","Std 2.5.6.3","Std 2.5.7","Std 2.5.8","Std 2.5.9","Std 2.5.10","Std 2.5.11","Std 2.5.12.1","Std 2.5.12.2","Std 2.5.12.3","Std 2.5.13.1","Std 2.5.13.2","Std 2.5.13.3","Std 2.5.14","Std 2.5.15.1","Std 2.5.15.2","Std 2.5.16","Std 2.5.17","Std 2.5.18.1","Std 2.5.18.2","Std 2.5.19","Std 2.5 Total","Std 2.5 Percentage","Std 2.6.1.1","Std  2.6.1.2","Std 2.6.1.3","Std 2.6.2.1","Std 2.6.2.2","Std 2.6.2.3.1","Std 2.6.2.3.2","Std 2.6.3.1","Std 2.6.3.2","Std 2.6.3.3","Std 2.6.4","Std 2.6.5","Std 2.6.6","Std 2.6.7","Std 2.6.8.1","Std 2.6.8.2.1","Std 2.6.8.2.2","Std 2.6.8.2.3","Std 2.6.8.3","Std 2.6.9","Std 2.6.10.1","Std 2.6.10.2","Std 2.6.10.3","Std 2.6.10.4","Std 2.6.10.5","Std 2.6.11","Std 2.6.12","Std 2.6.13","Std 2.6.14.1","Std 2.6.14.2","Std 2.6.14.3","Std 2.6.14.4","Std 2.6.14.5","Std 2.6.14.6","Std 2.6 Total","Std 2.6 Percentage","Std 2.7.1.1.1","Std 2.7.1.1.2","Std 2.7.1.1.3","Std 2.7.1.1.4","Std 2.7.1.2.1.1","Std 2.7.1.2.1.2","Std 2.7.1.2.1.3","Std 2.7.1.2.2","Std 2.7.1.3","Std 2.7.1.4","Std 2.7.1.5","Std 2.7.1.6","Std 2.7.1.7.1","Std 2.7.1.7.2","Std 2.7.1.7.3","Std 2.7.1.8","Std  2.7.1.9.1","Std 2.7.1.9.2","Std 2.7.1.9.3","Std 2.7.1.9.4","Std 2.7.1.10.1","Std 2.7.1.10.2","Std 2.7.1.10.3","Std 2.7.1.11.1","Std 2.7.1.11.2","Std 2.7.1.11.3","Std 2.7.1.11.4","Std 2.7.1.11.5","Std 2.7.1.11.6","Std 2.7.1.11.7","Std 2.7.1.11.8","Std 2.7.1.11.9","Std 2.7.1.11.10","Std 2.7 Total","Std 2.7 Percentage","Std 2.7.2.1.1","Std 2.7.2.1.2","Std 2.7.2.1.3","Std 2.7.2.1.4","Std 2.7.2.2","Std 2.7.2.3","Std 2.7.2.4.1","Std 2.7.2.4.2","Std 2.7.2.5","Std 2.7.2.6","Std 2.7.2.7.1","Std 2.7.2.7.2","Std 2.7.2.7.3","Std 2.7.2.8.1","Std 2.7.2.8.2","Std 2.7.2.8.3","Std 2.7.2.8.4","Std 2.7.2.8.5","Std  2.7.2.9","Std 2.7.2.10","Std 2.7.2.11","Std 2.7.2.12.1","Std 2.7.2.12.2","Std 2.7.2.12.3","Std 2.7.2.12.4","Std 2.7.2.12.5","Std 2.7.2.12.6","Std 2.7 Total","Std 2.7 Percentage","Std 2.8.1.1.1","Std 2.8.1.1.2","Std 2.8.1.2","Std 2.8.1.3","Std 2.8.2.1","Std 2.8.2.2","Std 2.8.2.3","Std 2.8.2.4","Std 2.8.3.1","Std 2.8.3.2","Std 2.8.3.3","Std 2.8.4.1","Std 2.8.4.2","Std 2.8.4.3","Std 2.8.5","Std 2.8.6","Std 2.8.7.1","Std 2.8.7.2","Std 2.8.7.3","Std 2.8.7.4","Std 2.8.8.1.1","Std 2.8.8.1.2","Std 2.8.8.1.3","Std 2.8.8.1.4","Std 2.8.8.2","Std 2.8.8.3","Std 2.8.8.4.1","Std 2.8.9.1","Std 2.8.9.2","Std 2.8.9.3","Std 2.8.9.4","Std 2.8.9.5","Std 2.8.9.6","Std 2.8.10.1","Std 2.8.10.2","Std 2.8.11.1","Std 2.8.11.2","Std 2.8.11.3","Std 2.8.11.4","Std 2.8.11.5","Std 2.8.11.6","Std 2.8.11.7","Std 2.8.11.8","Std 2.8 Total","Std 2.8 Percentage","Std 2.9.1.1.1.1","Std 2.9.1.1.1.2","Std 2.9.1.1.1.3","Std 2.9.1.1.2","Std 2.9.1.1.3.1","Std 2.9.1.1.4.1","Std 2.9.1.1.4.2","Std 2.9.1.1.4.3","Std 2.9.1.1.5","Std 2.9.1.1.6.1","Std 2.9.1.1.6.2","Std 2.9.1.1.6.3","Std 2.9.1.1.7.1","Std 2.9.1.1.7.2","Std 2.9.1.1.7.3","Std 2.9.1.1.8.1","Std 2.9.1.1.8.2","Std 2.9.1.1.9.1","Std 2.9.1.1.9.2","Std 2.9.1.1.10.1","Std 2.9.1.1.10.2","Std 2.9.1.1.10.3","Std 2.9.1.1.10.4","Std 2.9.1.1.10.5","Std 2.9.1.1.10.6","Std 2.9.1.1.10.7","Std 2.9 Total","Std 2.9Percentage","Std  2.9.1.2.1","Std 2.9.1.2.2","Std 2.9.1.2.3.1","Std 2.9.1.2.3.2","Std 2.9.1.2.3.3","Std 2.9.1.2.3.4","Std 2.9.1.2.4","Std 2.9.1.2.5","Std 2.9.1.2.6.1","Std 2.9.1.2.6.2","Std 2.9.1.2.7.1","Std 2.9.1.2.7.2","Std 2.9.1.2.7.3","Std 2.9.1.2.7.4","Std 2.9.1.2.8.1","Std 2.9.1.2.8.2","Std 2.9.1.2.9.1","Std 2.9.1.2.9.2","Std 2.9.1.2.9.3","Std 2.9.1.2.9.4","Std 2.9.1.2.9.5","Std 2.9.1.2.9.6","Std 2.9.1.2.9.7","Std 2.9.1 Total","Std 2.9.1 Pecentage","Std 2.9.2.1.1","Std 2.9.2.1.2","Std 2.9.2.2","Std 2.9.2.3","Std 2.9.2.4","Std 2.9.2.5.1","Std 2.9.2.5.2","Std 2.9.2.6.1","Std 2.9.2.6.2","Std 2.9.2.6.3","Std 2.9.2.7","Std 2.9.2.8","Std 2.9.2.9.1","Std 2.9.2.9.2","Std 2.9.2.10","Std 2.9.2.11.1","Std 2.9.2.11.2","Std 2.9.2.11.3","Std 2.9.2.11.4","Std 2.9.2 Total","Std 2.9.2 Percentage","Std 2.9.3.1","Std 2.9.3.2","Std 2.9.3.3","Std 2.9.3.4","Std 2.9.3.5","Std 2.9.3.6.1","Std 2.9.3.6.2","Std 2.9.3.7","Std 2.9.3.8.1","Std 2.9.3.8.2","Std 2.9.3.9.1","Std 2.9.3.9.2","Std 2.9.3 Total","Std 2.9.3 Percentage","Std 2.9.4.1","Std 2.9.4.2","Std 2.9.4.3","Std 2.9.4.4","Std 2.9.4.5","Std 2.9.4.6.1","Std 2.9.4.6.2","Std 2.9.4.7.1","Std 2.9.4.7.2","Std 2.9.4 Total","Std 2.9.4 Percentage","Std 2.10.1.1","Std 2.10.1.2","Std 2.10.1.3","Std 2.10..2","Std 2.10.3","Std 2.10.4.1","Std  2.10.4.2","Std 2.10.5.1","Std 2.10.5.2","Std 2.10.5.3","Std 2.10.6.1","Std 2.10.7","Std 2.10.8","Std 2.10.9.1","Std 2.10.9.2","Std 2.10.9.3","Std 2.10.9.4","Std 2.10.9.5","Std 2.10 Total","Std 2.10 Percentage","Std 2.11.1.1.1","Std 2.11.1.1.2","Std 2.11.1.1.3","Std 2.11.1.1.4","Std 2.11.2","Std 2.11.3","Std 2.11.4","Std 2.11.5","Std 2.11.6","Std 2.11.7.1 ","Std 2.11.7.2","Std 2.11.7.3","Std 2.11.7.4","Std  2.11.7.5","Std 2.11 Total","Std 2.11 Percentage","Std 2.12.1","Std 2.12.2","Std 2.12.3","Std 2.12.4.1","Std 2.12.4.2","Std 2.12.5","Std 2.12.6","Std 2.12.7.1","Std 2.12.7.2","Std 2.12.7.3","Std 2.12.7.4","Std 2.12 Total","Std 2.12 Percentage","Std 2.13.1","Std 2.13.2","Std 2.13.3.1","Std 2.13.3.2","Std 2.13.4","Std 2.13.5.1","Std  2.13.5.2","Std  2.13.6.1","Std  2.13.6.2","Std  2.13.6.3","Std 2.13.7.1","Std 2.13.7.2","Std 2.13.8.1","Std 2.13.8.2","Std 2.13.9.1","Std 2.13.9.2","Std 2.13.10.1","Std 2.13.10.2","Std 2.13.11.1","Std  2.13.11.2","Std  2.13.11.3","Std 2.13.11.4","Std 2.13.12.1","Std 2.13.12.2","Std 2.13.12.3","Std 2.13.12.4","Std 2.13.12.5","Std 2.13 Total","Std 2.13 Percentage","Std 2.14.1","Std 2.14.2.1 ","Std 2.14.2.2","Std 2.14.3","Std 2.14.4","Std 2.14.5","Std 2.14.6","Std 2.14.7","Std 2.14.8.1","Std 2.14.8.2","Std 2.14.9","Std 2.14.10.1","Std 2.14.10.2","Std 2.14.11.1","Std 2.14.12.1","Std 2.14.12.2","Std 2.14.12.3","Std 2.14.12.4","Std 2.14.12.5","Std 2.14 Total","Std 2.14 Percentage","Std 3.1.1.1","Std 3.1.1.2","Std 3.1.2","Std 3.1.3","Std 3.1.4","Std 3.1.5.1","Std 3.1.5.2","Std 3.1.5.3","Std 3.1.6","Std 3.1.7","Std 3.1.8.1","Std 3.1.8.2","Std 3.1.9","Std 3.1.10.1","Std 3.1.10.2","Std 3.1.10.3","Std 3.1.10.4","Std 3.1 Total","Std 3.1 Percentage","Std 3.2.1.1","Std 3.2.1.2","Std 3.2.2","Std 3.2.3","Std 3.2.4.1","Std 3.2.4.2","Std 3.2.5","Std 3.2.6.1","Std 3.2.6.2","Std 3.2.7","Std 3.2.8","Std 3.2.9","Std 3.2.10","Std 3.2.11.1","Std 3.2.11.2","Std 3.2.11.3","Std 3.2.11.4","Std 3.2 Total","Std 3.2 Percentage","Std 3.3.1","Std 3.3.2.1","Std 3.3.2.2","Std 3.3.3","Std 3.3.4.1.1","Std 3.3.4.1.2.1","Std 3.3.4.1.2.2","Std 3.3.4.3","Std 3.3.4.4","Std 3.3.4.5","Std 3.3.4.6","Std 3.3.5","Std 3.3.6","Std 3.3 Total","Std 3.3 Percentage","Std 3.4.1.1","Std 3.4.1.2","Std 3.4.2.1","Std 3.4.2.2","Std 3.4.2.3","Std 3.4.2.4","Std 3.4.2.5","Std 3.4.2.6","Std 3.4.3.1","Std 3.4.3.2","Std 3.4.3.3","Std 3.4.3.4","Std 3.4 Total","Std 3.4 Percentage","Std 3.5.1","Std 3.5.2.1","Std 3.5.2.2","Std 3.5.3","Std 3.5 Total","Std 3.5 Percentage","Std 3.6.1","Std 3.6.1.1","Std 3.6.1.2","Std 3.6.2","Std 3.6.3","Std 3.6.4","Std 3.6.5","Std 3.6.6","Std 3.6.7","Std 3.6.8.1","Std 3.6.8.2","Std 3.6.8.3","Std 3.6.8.4","Std 3.6.8.5","Std 3.6.8.6","Std 3.6.9","Std 3.6.10","Std 3.6 Total","Std 3.6 Percentage","Std 3.7.1.1","Std 3.7.1.2","Std 3.7.1.3","Std 3.7.2","Std 3.7.3","Std 3.7.4","Std 3.7.5","Std 3.7.6.1","Std 3.7.6.2","Std 3.7.6.3","Std 3.7.6.4","Std 3.7.6.5","Std 3.7.6.6","Std 3.7.6.7","Std 3.7.6.8","Std 3.7 Total","Std 3.7 Percentage","Std 3.8.1.1","Std 3.8.1.2","Std 3.8.1.3","Std 3.8.2.1","Std 3.8.2.2","Std 3.8.2.3","Std 3.8.2.4","Std 3.8.2.5","Std 3.8 Total","Std 3.8 Percentage","Std 3.9.1","Std 3.9.2.1","Std 3.9.2.2","Std 3.9.3.1","Std 3.9.3.2","Std 3.9.4","Std 3.9.5","Std 3.9 Total","Std 3.9 Percentage","Std 3.10.1","Std 3.10.2","Std 3.10.3.1","Std 3.10.3.2","Std 3.10.3.3","Std 3.10.3.4","Std 3.10.4","Std 3.10.5","Std 3.10.6","Std 3.10.7","Std 3.10.8.1","Std 3.10.8.2","Std 3.10.8.3","Std 3.10.8.4","Std 3.10.8.5","Std 3.10.8.6","Std 3.10 Total","Std 3.10 Percentage","Std 3.11.1.1","Std 3.11.1.2","Std 3.11.2","Std 3.11.3","Std 3.11.4","Std 3.11.5.1","Std 3.11.5.2","Std 3.11.5.3","Std 3.11.6.1","Std 3.11.6.2","Std 3.11.6.3","Std 3.11.6.4","Std 3.11 Total","Std 3.11 Percentage","Checklist_2.1_GM_Score_2.1.1.1","Checklist_2.1_GM_Score_2.1.3","Checklist_2.1_GM_Score_2.1.4.1","Checklist_2.1_GM_Score_2.1.5.1","Checklist_2.1_GM_Score_2.1.5.3","Checklist_2.1_GM_Score_2.1.9","Checklist_2.1_GM_Score_2.1.10.1","Checklist_2.1_GM_Score_2.1.10.2","Checklist_2.1_GM_Score_2.1.10.3","Checklist_2.1_GM_Score_2.1.10.4","Checklist_2.1_GM_Score_2.1.10.5","Checklist_2.1_OG_Score_2.1.1.1","Checklist_2.1_OG_Score_2.1.3","Checklist_2.1_OG_Score_2.1.4.1","Checklist_2.1_OG_Score_2.1.5.1","Checklist_2.1_OG_Score_2.1.5.3","Checklist_2.1_OG_Score_2.1.9","Checklist_2.1_OG_Score_2.1.10.1","Checklist_2.1_OG_Score_2.1.10.2","Checklist_2.1_OG_Score_2.1.10.3","Checklist_2.1_OG_Score_2.1.10.4","Checklist_2.1_OG_Score_2.1.10.5","Checklist_2.1_PG_Score_2.1.1.1","Checklist_2.1_PG_Score_2.1.3","Checklist_2.1_PG_Score_2.1.4.1","Checklist_2.1_PG_Score_2.1.5.1","Checklist_2.1_PG_Score_2.1.5.3","Checklist_2.1_PG_Score_2.1.9","Checklist_2.1_PG_Score_2.1.10.1","Checklist_2.1_PG_Score_2.1.10.2","Checklist_2.1_PG_Score_2.1.10.3","Checklist_2.1_PG_Score_2.1.10.4","Checklist_2.1_PG_Score_2.1.10.5","Checklist_2.1_GS_Score_2.1.1.1","Checklist_2.1_GS_Score_2.1.3","Checklist_2.1_GS_Score_2.1.4.1","Checklist_2.1_GS_Score_2.1.5.1","Checklist_2.1_GS_Score_2.1.5.3","Checklist_2.1_GS_Score_2.1.9","Checklist_2.1_GS_Score_2.1.10.1","Checklist_2.1_GS_Score_2.1.10.2","Checklist_2.1_GS_Score_2.1.10.3","Checklist_2.1_GS_Score_2.1.10.4","Checklist_2.1_GS_Score_2.1.10.5","Checklist_2.1_OW_Score_2.1.1.1","Checklist_2.1_OW_Score_2.1.3","Checklist_2.1_OW_Score_2.1.4.1","Checklist_2.1_OW_Score_2.1.5.1","Checklist_2.1_OW_Score_2.1.5.3","Checklist_2.1_OW_Score_2.1.9","Checklist_2.1_OW_Score_2.1.10.1","Checklist_2.1_OW_Score_2.1.10.2","Checklist_2.1_OW_Score_2.1.10.3","Checklist_2.1_OW_Score_2.1.10.4","Checklist_2.1_OW_Score_2.1.10.5","Checklist_2.1_Total Score_2.1.1.1","Checklist_2.1_Total Score_2.1.3","Checklist_2.1_Total Score_2.1.4.1","Checklist_2.1_Total Score_2.1.5.1","Checklist_2.1_Total Score_2.1.5.3","Checklist_2.1_Total Score_2.1.9","Checklist_2.1_Total Score_2.1.10.1","Checklist_2.1_Total Score_2.1.10.2","Checklist_2.1_Total Score_2.1.10.3","Checklist_2.1_Total Score_2.1.10.4","Checklist_2.1_Total Score_2.1.10.5","Checklist_2.1_Percent_2.1.1.1","Checklist_2.1_Percent_2.1.3","Checklist_2.1_Percent_2.1.4.1","Checklist_2.1_Percent_2.1.5.1","Checklist_2.1_Percent_2.1.5.3","Checklist_2.1_Percent_2.1.9","Checklist_2.1_Percent_2.1.10.1","Checklist_2.1_Percent_2.1.10.2","Checklist_2.1_Percent_2.1.10.3","Checklist_2.1_Percent_2.1.10.4","Checklist_2.1_Percent_2.1.10.5","Checklist_2.1_Chart Score_2.1.1.1","Checklist_2.1_Chart Score_2.1.3","Checklist_2.1_Chart Score_2.1.4.1","Checklist_2.1_Chart Score_2.1.5.1","Checklist_2.1_Chart Score_2.1.5.3","Checklist_2.1_Chart Score_2.1.9","Checklist_2.1_Chart Score_2.1.10.1","Checklist_2.1_Chart Score_2.1.10.2","Checklist_2.1_Chart Score_2.1.10.3","Checklist_2.1_Chart Score_2.1.10.4","Checklist_2.1_Chart Score_2.1.10.5","Checklist_2.6_MW 2.6.1.1","Checklist_2.6_MW  2.6.1.2","Checklist_2.6_MW 2.6.1.3","Checklist_2.6_MW 2.6.4","Checklist_2.6_MW  2.6.5","Checklist_2.6_MW 2.6.6","Checklist_2.6_MW 2.6.7","Checklist_2.6_MW 2.6.8.1","Checklist_2.6_MW 2.6.8.3","Checklist_2.6_MW 2.6.10.1","Checklist_2.6_MW 2.6.10.2","Checklist_2.6_MW 2.6.10.3","Checklist_2.6_MW 2.6.10.4","Checklist_2.6_MW 2.6.10.5","Checklist_2.6_MW  2.6.11","Checklist_2.6_MW 2.6.12","Checklist_2.6_MW 2.6.13","Checklist_2.6_MW 2.6.14.1","Checklist_2.6_MW 2.6.14.2","Checklist_2.6_MW 2.6.14.3","Checklist_2.6_MW 2.6.14.4","Checklist_2.6_MW 2.6.14.5","Checklist_2.6_MW 2.6.14.6","Checklist_2.6_SW 2.6.1.1","Checklist_2.6_SW  2.6.1.2","Checklist_2.6_SW 2.6.1.3","Checklist_2.6_SW 2.6.4","Checklist_2.6_SW  2.6.5","Checklist_2.6_SW 2.6.6","Checklist_2.6_SW 2.6.7","Checklist_2.6_SW 2.6.8.1","Checklist_2.6_SW 2.6.8.3","Checklist_2.6_SW 2.6.10.1","Checklist_2.6_SW 2.6.10.2","Checklist_2.6_SW 2.6.10.3","Checklist_2.6_SW 2.6.10.4","Checklist_2.6_SW 2.6.10.5","Checklist_2.6_SW  2.6.11","Checklist_2.6_SW 2.6.12","Checklist_2.6_SW 2.6.13","Checklist_2.6_SW 2.6.14.1","Checklist_2.6_SW 2.6.14.2","Checklist_2.6_SW 2.6.14.3","Checklist_2.6_SW 2.6.14.4","Checklist_2.6_SW 2.6.14.5","Checklist_2.6_SW 2.6.14.6","Checklist_2.6_PW 2.6.1.1","Checklist_2.6_PW  2.6.1.2","Checklist_2.6_PW 2.6.1.3","Checklist_2.6_PW 2.6.4","Checklist_2.6_PW  2.6.5","Checklist_2.6_PW 2.6.6","Checklist_2.6_PW 2.6.7","Checklist_2.6_PW 2.6.8.1","Checklist_2.6_PW 2.6.8.3","Checklist_2.6_PW 2.6.10.1","Checklist_2.6_PW 2.6.10.2","Checklist_2.6_PW 2.6.10.3","Checklist_2.6_PW 2.6.10.4","Checklist_2.6_PW 2.6.10.5","Checklist_2.6_PW  2.6.11","Checklist_2.6_PW 2.6.12","Checklist_2.6_PW 2.6.13","Checklist_2.6_PW 2.6.14.1","Checklist_2.6_PW 2.6.14.2","Checklist_2.6_PW 2.6.14.3","Checklist_2.6_PW 2.6.14.4","Checklist_2.6_PW 2.6.14.5","Checklist_2.6_PW 2.6.14.6","Checklist_2.6_Total Score 2.6.1.1","Checklist_2.6_Total Score  2.6.1.2","Checklist_2.6_Total Score 2.6.1.3","Checklist_2.6_Total Score 2.6.4","Checklist_2.6_Total Score  2.6.5","Checklist_2.6_Total Score 2.6.6","Checklist_2.6_Total Score 2.6.7","Checklist_2.6_Total Score 2.6.8.1","Checklist_2.6_Total Score 2.6.8.3","Checklist_2.6_Total Score 2.6.10.1","Checklist_2.6_Total Score 2.6.10.2","Checklist_2.6_Total Score 2.6.10.3","Checklist_2.6_Total Score 2.6.10.4","Checklist_2.6_Total Score 2.6.10.5","Checklist_2.6_Total Score  2.6.11","Checklist_2.6_Total Score 2.6.12","Checklist_2.6_Total Score 2.6.13","Checklist_2.6_Total Score 2.6.14.1","Checklist_2.6_Total Score 2.6.14.2","Checklist_2.6_Total Score 2.6.14.3","Checklist_2.6_Total Score 2.6.14.4","Checklist_2.6_Total Score 2.6.14.5","Checklist_2.6_Total Score 2.6.14.6","Checklist_2.6_Percent 2.6.1.1","Checklist_2.6_Percent  2.6.1.2","Checklist_2.6_Percent 2.6.1.3","Checklist_2.6_Percent 2.6.4","Checklist_2.6_Percent  2.6.5","Checklist_2.6_Percent 2.6.6","Checklist_2.6_Percent 2.6.7","Checklist_2.6_Percent 2.6.8.1","Checklist_2.6_Percent 2.6.8.3","Checklist_2.6_Percent 2.6.10.1","Checklist_2.6_Percent 2.6.10.2","Checklist_2.6_Percent 2.6.10.3","Checklist_2.6_Percent 2.6.10.4","Checklist_2.6_Percent 2.6.10.5","Checklist_2.6_Percent  2.6.11","Checklist_2.6_Percent 2.6.12","Checklist_2.6_Percent 2.6.13","Checklist_2.6_Percent 2.6.14.1","Checklist_2.6_Percent 2.6.14.2","Checklist_2.6_Percent 2.6.14.3","Checklist_2.6_Percent 2.6.14.4","Checklist_2.6_Percent 2.6.14.5","Checklist_2.6_Percent 2.6.14.6","Checklist_2.6_Scoring 2.6.1.1","Checklist_2.6_Scoring  2.6.1.2","Checklist_2.6_Scoring 2.6.1.3","Checklist_2.6_Scoring 2.6.4","Checklist_2.6_Scoring  2.6.5","Checklist_2.6_Scoring 2.6.6","Checklist_2.6_Scoring 2.6.7","Checklist_2.6_Scoring 2.6.8.1","Checklist_2.6_Scoring 2.6.8.3","Checklist_2.6_Scoring 2.6.10.1","Checklist_2.6_Scoring 2.6.10.2","Checklist_2.6_Scoring 2.6.10.3","Checklist_2.6_Scoring 2.6.10.4","Checklist_2.6_Scoring 2.6.10.5","Checklist_2.6_Scoring  2.6.11","Checklist_2.6_Scoring 2.6.12","Checklist_2.6_Scoring 2.6.13","Checklist_2.6_Scoring 2.6.14.1","Checklist_2.6_Scoring 2.6.14.2","Checklist_2.6_Scoring 2.6.14.3","Checklist_2.6_Scoring 2.6.14.4","Checklist_2.6_Scoring 2.6.14.5","Checklist_2.6_Scoring 2.6.14.6","Annex_1.3 a_1","Annex_1.3 a_2","Annex_1.3 a_3","Annex_1.3 a_4","Annex_1.3 a_5","Annex_1.3 a_6","Annex_1.3 a_7","Annex_1.3 a_8","Annex_1.3 a_9","Annex_1.3 a_10","Annex_1.3 a_11","Annex_1.3 a_12","Annex_1.3 a_13","Annex_1.3 a_14","Annex_1.3 a_15","Annex_1.3 a_16","Annex_1.3 a_17","Annex_1.3 a_18","Annex_1.3 a_19","Annex_1.3 a_20","Annex_1.3 a_21","Annex_1.3 a_22","Annex_1.3 a_23","Annex_1.3 a_24","Annex_1.3 a_25","Annex_1.3 a_26","Annex_1.3 a_Total Score","Annex_1.3 a_Percentage","Annex_2.1 a_GM_1","Annex_2.1 a_GM_2","Annex_2.1 a_GM_3","Annex_2.1 a_GM_4","Annex_2.1 a_GM_5","Annex_2.1 a_GM_6","Annex_2.1 a_GM_7","Annex_2.1 a_GM_8","Annex_2.1 a_GM_Total Score","Annex_2.1 a_GM_Percentage","Annex_2.1 a_OG_1","Annex_2.1 a_OG_2","Annex_2.1 a_OG_3","Annex_2.1 a_OG_4","Annex_2.1 a_OG_5","Annex_2.1 a_OG_6","Annex_2.1 a_OG_7","Annex_2.1 a_OG_8","Annex_2.1 a_OG_Total Score","Annex_2.1 a_OG_Percentage","Annex_2.1 a_PD_1","Annex_2.1 a_PD_2","Annex_2.1 a_PD_3","Annex_2.1 a_PD_4","Annex_2.1 a_PD_5","Annex_2.1 a_PD_6","Annex_2.1 a_PD_7","Annex_2.1 a_PD_8","Annex_2.1 a_PD_Total Score","Annex_2.1 a_PD_Percentage","Annex_2.1 a_GS_1","Annex_2.1 a_GS_2","Annex_2.1 a_GS_3","Annex_2.1 a_GS_4","Annex_2.1 a_GS_5","Annex_2.1 a_GS_6","Annex_2.1 a_GS_7","Annex_2.1 a_GS_8","Annex_2.1 a_GS_Total Score","Annex_2.1 a_GS_Percentage","Annex_2.1 a_OD_1","Annex_2.1 a_OD_2","Annex_2.1 a_OD_3","Annex_2.1 a_OD_4","Annex_2.1 a_OD_5","Annex_2.1 a_OD_6","Annex_2.1 a_OD_7","Annex_2.1 a_OD_8","Annex_2.1 a_OD_Total Score","Annex_2.1 a_OD_Percentage","Annex_2.1 b_GM_1","Annex_2.1 b_GM_2","Annex_2.1 b_GM_3","Annex_2.1 b_GM_4","Annex_2.1 b_GM_5","Annex_2.1 b_GM_6","Annex_2.1 b_GM_7","Annex_2.1 b_GM_8","Annex_2.1 b_GM_9","Annex_2.1 b_GM_10","Annex_2.1 b_GM_11","Annex_2.1 b_GM_12","Annex_2.1 b_GM_13","Annex_2.1 b_GM_Total Score","Annex_2.1 b_GM_Percentage","Annex_2.1 b_OG_1","Annex_2.1 b_OG_2","Annex_2.1 b_OG_3","Annex_2.1 b_OG_4","Annex_2.1 b_OG_5","Annex_2.1 b_OG_6","Annex_2.1 b_OG_7","Annex_2.1 b_OG_8","Annex_2.1 b_OG_9","Annex_2.1 b_OG_10","Annex_2.1 b_OG_11","Annex_2.1 b_OG_14","Annex_2.1 b_OG_15","Annex_2.1 b_OG_16","Annex_2.1 b_OG_17","Annex_2.1 b_OG_18","Annex_2.1 b_OG_Total Score","Annex_2.1 b_OG_Percentage","Annex_2.1 b_PD_1","Annex_2.1 b_PD_2","Annex_2.1 b_PD_3","Annex_2.1 b_PD_4","Annex_2.1 b_PD_5","Annex_2.1 b_PD_6","Annex_2.1 b_PD_7","Annex_2.1 b_PD_8","Annex_2.1 b_PD_9","Annex_2.1 b_PD_10","Annex_2.1 b_PD_11","Annex_2.1 b_PD_19","Annex_2.1 b_PD_20","Annex_2.1 b_PD_Total Score","Annex_2.1 b_PD_Percentage","Annex_2.1 b_GS_1","Annex_2.1 b_GS_2","Annex_2.1 b_GS_3","Annex_2.1 b_GS_4","Annex_2.1 b_GS_5","Annex_2.1 b_GS_6","Annex_2.1 b_GS_7","Annex_2.1 b_GS_8","Annex_2.1 b_GS_9","Annex_2.1 b_GS_10","Annex_2.1 b_GS_11","Annex_2.1 b_GS_12","Annex_2.1 b_GS_13","Annex_2.1 b_GS_Total Score","Annex_2.1 b_GS_Percentage","Annex_2.1 b_OD_1","Annex_2.1 b_OD_2","Annex_2.1 b_OD_3","Annex_2.1 b_OD_4","Annex_2.1 b_OD_5","Annex_2.1 b_OD_6","Annex_2.1 b_OD_7","Annex_2.1 b_OD_8","Annex_2.1 b_OD_9","Annex_2.1 b_OD_10","Annex_2.1 b_OD_11","Annex_2.1 b_OD_21","Annex_2.1 b_OD_22","Annex_2.1 b_OD_Total Score","Annex_2.1 b_OD_Percentage","Annex_2.2.1 a_1","Annex_2.2.1 a_2","Annex_2.2.1 a_3","Annex_2.2.1 a_4","Annex_2.2.1 a_5","Annex_2.2.1 a_6","Annex_2.2.1 a_7","Annex_2.2.1 a_8","Annex_2.2.1 a_Total Score","Annex_2.2.1 a_Percentage","Annex_2.2.2 a_1","Annex_2.2.2 a_2","Annex_2.2.2 a_3","Annex_2.2.2 a_4","Annex_2.2.2 a_5","Annex_2.2.2 a_6","Annex_2.2.2 a_7","Annex_2.2.2 a_8","Annex_2.2.2 a_9","Annex_2.2.2 a_Total Score","Annex_2.2.2 a_Percentage","Annex_2.2.4 a_1","Annex_2.2.4 a_2","Annex_2.2.4 a_3","Annex_2.2.4 a_4","Annex_2.2.4 a_5","Annex_2.2.4 a_6","Annex_2.2.4 a_7","Annex_2.2.4 a_8","Annex_2.2.4 a_9","Annex_2.2.4 a_10","Annex_2.2.4 a_11","Annex_2.2.4 a_12","Annex_2.2.4 a_13","Annex_2.2.4 a_14","Annex_2.2.4 a_15","Annex_2.2.4 a_16","Annex_2.2.4 a_17","Annex_2.2.4 a_18","Annex_2.2.4 a_19","Annex_2.2.4 a_20","Annex_2.2.4 a_21","Annex_2.2.4 a_22","Annex_2.2.4 a_23","Annex_2.2.4 a_24","Annex_2.2.4 a_25","Annex_2.2.4 a_26","Annex_2.2.4 a_27","Annex_2.2.4 a_28","Annex_2.2.4 a_29","Annex_2.2.4 a_30","Annex_2.2.4 a_31","Annex_2.2.4 a_32","Annex_2.2.4 a_33","Annex_2.2.4 a_34","Annex_2.2.4 a_35","Annex_2.2.4 a_36","Annex_2.2.4 a_37","Annex_2.2.4 a_38","Annex_2.2.4 a_39","Annex_2.2.4 a_40","Annex_2.2.4 a_41","Annex_2.2.4 a_42","Annex_2.2.4 a_Total Score","Annex_2.2.4 a_Percentage","Annex_2.3 a_1","Annex_2.3 a_2","Annex_2.3 a_3","Annex_2.3 a_4","Annex_2.3 a_5","Annex_2.3 a_6","Annex_2.3 a_7","Annex_2.3 a_8","Annex_2.3 a_9","Annex_2.3 a_10","Annex_2.3 a_11","Annex_2.3 a_12","Annex_2.3 a_13","Annex_2.3 a_14","Annex_2.3 a_15","Annex_2.3 a_16","Annex_2.3 a_17","Annex_2.3 a_18","Annex_2.3 a_19","Annex_2.3 a_Total Score","Annex_2.3 a_Percentage","Annex_2.3 b_1","Annex_2.3 b_2","Annex_2.3 b_3","Annex_2.3 b_4","Annex_2.3 b_5","Annex_2.3 b_6","Annex_2.3 b_7","Annex_2.3 b_8","Annex_2.3 b_9","Annex_2.3 b_10","Annex_2.3 b_11","Annex_2.3 b_12","Annex_2.3 b_13","Annex_2.3 b_14","Annex_2.3 b_15","Annex_2.3 b_16","Annex_2.3 b_17","Annex_2.3 b_18","Annex_2.3 b_19","Annex_2.3 b_20","Annex_2.3 b_21","Annex_2.3 b_22","Annex_2.3 b_23","Annex_2.3 b_24","Annex_2.3 b_25","Annex_2.3 b_26","Annex_2.3 b_27","Annex_2.3 b_28","Annex_2.3 b_29","Annex_2.3 b_30","Annex_2.3 b_31","Annex_2.3 b_32","Annex_2.3 b_33","Annex_2.3 b_34","Annex_2.3 b_35","Annex_2.3 b_Total Score","Annex_2.3 b_Percentage","Annex_2.3 c_1","Annex_2.3 c_2","Annex_2.3 c_3","Annex_2.3 c_4","Annex_2.3 c_5","Annex_2.3 c_6","Annex_2.3 c_7","Annex_2.3 c_8","Annex_2.3 c_9","Annex_2.3 c_10","Annex_2.3 c_11","Annex_2.3 c_12","Annex_2.3 c_13","Annex_2.3 c_14","Annex_2.3 c_15","Annex_2.3 c_16","Annex_2.3 c_17","Annex_2.3 c_18","Annex_2.3 c_19","Annex_2.3 c_20","Annex_2.3 c_21","Annex_2.3 c_22","Annex_2.3 c_23","Annex_2.3 c_24","Annex_2.3 c_25","Annex_2.3 c_26","Annex_2.3 c_27","Annex_2.3 c_28","Annex_2.3 c_29","Annex_2.3 c_30","Annex_2.3 c_31","Annex_2.3 c_32","Annex_2.3 c_33","Annex_2.3 c_34","Annex_2.3 c_35","Annex_2.3 c_36","Annex_2.3 c_37","Annex_2.3 c_38","Annex_2.3 c_39","Annex_2.3 c_Total Score","Annex_2.3 c_Percentage","Annex_2.3 d_1","Annex_2.3 d_2","Annex_2.3 d_3","Annex_2.3 d_4","Annex_2.3 d_5","Annex_2.3 d_6","Annex_2.3 d_7","Annex_2.3 d_8","Annex_2.3 d_9","Annex_2.3 d_10","Annex_2.3 d_11","Annex_2.3 d_12","Annex_2.3 d_13","Annex_2.3 d_14","Annex_2.3 d_15","Annex_2.3 d_16","Annex_2.3 d_17","Annex_2.3 d_18","Annex_2.3 d_19","Annex_2.3 d_20","Annex_2.3 d_21","Annex_2.3 d_22","Annex_2.3 d_23","Annex_2.3 d_24","Annex_2.3 d_25","Annex_2.3 d_26","Annex_2.3 d_27","Annex_2.3 d_28","Annex_2.3 d_29","Annex_2.3 d_30","Annex_2.3 d_31","Annex_2.3 d_32","Annex_2.3 d_33","Annex_2.3 d_34","Annex_2.3 d_35","Annex_2.3 d_36","Annex_2.3 d_37","Annex_2.3 d_38","Annex_2.3 d_39","Annex_2.3 d_40","Annex_2.3 d_41","Annex_2.3 d_42","Annex_2.3 d_43","Annex_2.3 d_44","Annex_2.3 d_45","Annex_2.3 d_46","Annex_2.3 d_47","Annex_2.3 d_48","Annex_2.3 d_49","Annex_2.3 d_50","Annex_2.3 d_51","Annex_2.3 d_52","Annex_2.3 d_53","Annex_2.3 d_54","Annex_2.3 d_55","Annex_2.3 d_56","Annex_2.3 d_57","Annex_2.3 d_58","Annex_2.3 d_59","Annex_2.3 d_60","Annex_2.3 d_61","Annex_2.3 d_62","Annex_2.3 d_63","Annex_2.3 d_64","Annex_2.3 d_65","Annex_2.3 d_66","Annex_2.3 d_67","Annex_2.3 d_68","Annex_2.3 d_69","Annex_2.3 d_70","Annex_2.3 d_71","Annex_2.3 d_Total Score","Annex_2.3 d_Percentage","Annex_2.4 a_1","Annex_2.4 a_2","Annex_2.4 a_3","Annex_2.4 a_4","Annex_2.4 a_5","Annex_2.4 a_6","Annex_2.4 a_7","Annex_2.4 a_8","Annex_2.4 a_9","Annex_2.4 a_Total Score","Annex_2.4 a_Percentage","Annex_2.4. b_1","Annex_2.4. b_2","Annex_2.4. b_3","Annex_2.4. b_4","Annex_2.4. b_5","Annex_2.4. b_6","Annex_2.4. b_7","Annex_2.4. b_8","Annex_2.4. b_Total Score","Annex_2.4. b_Percentage","Annex_2.4c_1","Annex_2.4c_2","Annex_2.4c_3","Annex_2.4c_4","Annex_2.4c_5","Annex_2.4c_6","Annex_2.4c_7","Annex_2.4c_8","Annex_2.4c_9","Annex_2.4c_10","Annex_2.4c_11","Annex_2.4c_12","Annex_2.4c_13","Annex_2.4c_14","Annex_2.4c_Total Score","Annex_2.4c_Percentage","Annex_2.4 d_1","Annex_2.4 d_2","Annex_2.4 d_3","Annex_2.4 d_4","Annex_2.4 d_5","Annex_2.4 d_6","Annex_2.4 d_7","Annex_2.4 d_8","Annex_2.4 d_9","Annex_2.4 d_Total Score","Annex_2.4 d_Percentage","Annex_2.6a  MW_1","Annex_2.6a  MW_2","Annex_2.6a  MW_3","Annex_2.6a  MW_4","Annex_2.6a  MW_5","Annex_2.6a  MW_6","Annex_2.6a  MW_7","Annex_2.6a  MW_8","Annex_2.6a  MW_9","Annex_2.6a  MW_10","Annex_2.6a  MW_11","Annex_2.6a  MW_12","Annex_2.6a  MW_13","Annex_2.6a  MW_14","Annex_2.6a  MW_15","Annex_2.6a  MW_16","Annex_2.6a  MW_17","Annex_2.6a  MW_18","Annex_2.6a  MW_19","Annex_2.6a  MW_20","Annex_2.6a  MW_21","Annex_2.6a  MW_22","Annex_2.6a  MW_23","Annex_2.6a  MW_24","Annex_2.6a  MW_25","Annex_2.6a  MW_26","Annex_2.6a  MW_27","Annex_2.6a  MW_28","Annex_2.6a  MW_29","Annex_2.6a  MW_30","Annex_2.6a MW_Total Score","Annex_2.6a MW_Percentage","Annex_2.6a SW_1","Annex_2.6a SW_2","Annex_2.6a SW_3","Annex_2.6a SW_4","Annex_2.6a SW_5","Annex_2.6a SW_6","Annex_2.6a SW_7","Annex_2.6a SW_8","Annex_2.6a SW_9","Annex_2.6a SW_10","Annex_2.6a SW_11","Annex_2.6a SW_12","Annex_2.6a SW_13","Annex_2.6a SW_14","Annex_2.6a SW_15","Annex_2.6a SW_16","Annex_2.6a SW_17","Annex_2.6a SW_18","Annex_2.6a SW_19","Annex_2.6a SW_20","Annex_2.6a SW_21","Annex_2.6a SW_22","Annex_2.6a SW_23","Annex_2.6a SW_24","Annex_2.6a SW_25","Annex_2.6a SW_26","Annex_2.6a SW_27","Annex_2.6a SW_28","Annex_2.6a SW_29","Annex_2.6a SW_30","Annex_2.6a SW_Total Score","Annex_2.6a SW_Percentage","Annex_2.6a PW_1","Annex_2.6a PW_2","Annex_2.6a PW_3","Annex_2.6a PW_4","Annex_2.6a PW_5","Annex_2.6a PW_6","Annex_2.6a PW_7","Annex_2.6a PW_8","Annex_2.6a PW_9","Annex_2.6a PW_10","Annex_2.6a PW_11","Annex_2.6a PW_12","Annex_2.6a PW_13","Annex_2.6a PW_14","Annex_2.6a PW_15","Annex_2.6a PW_16","Annex_2.6a PW_17","Annex_2.6a PW_18","Annex_2.6a PW_19","Annex_2.6a PW_20","Annex_2.6a PW_21","Annex_2.6a PW_22","Annex_2.6a PW_23","Annex_2.6a PW_24","Annex_2.6a PW_25","Annex_2.6a PW_26","Annex_2.6a PW_27","Annex_2.6a PW_28","Annex_2.6a PW_29","Annex_2.6a PW_30","Annex_2.6a PW_Total Score","Annex_2.6a PW_Percentage","Annex_2.6b  MW_1","Annex_2.6b  MW_2","Annex_2.6b  MW_3","Annex_2.6b  MW_4","Annex_2.6b  MW_5","Annex_2.6b  MW_6","Annex_2.6b  MW_7","Annex_2.6b  MW_8","Annex_2.6b  MW_9","Annex_2.6b  MW_10","Annex_2.6b  MW_11","Annex_2.6b  MW_Total Score","Annex_2.6b  MW_Percentage","Annex_2.6b SW_1","Annex_2.6b SW_2","Annex_2.6b SW_3","Annex_2.6b SW_4","Annex_2.6b SW_5","Annex_2.6b SW_6","Annex_2.6b SW_7","Annex_2.6b SW_8","Annex_2.6b SW_9","Annex_2.6b SW_10","Annex_2.6b SW_11","Annex_2.6b SW_Total Score","Annex_2.6b SW_Percentage","Annex_2.6c PW_1","Annex_2.6c PW_2","Annex_2.6c PW_3","Annex_2.6c PW_4","Annex_2.6c PW_5","Annex_2.6c PW_6","Annex_2.6c PW_7","Annex_2.6c PW_8","Annex_2.6c PW_9","Annex_2.6c PW_10","Annex_2.6c PW_11","Annex_2.6c PW_Total Score","Annex_2.6c PW_Percentage","Annex_2.6c MW_1","Annex_2.6c MW_2","Annex_2.6c MW_3","Annex_2.6c MW_4","Annex_2.6c MW_5","Annex_2.6c MW_6","Annex_2.6c MW_7","Annex_2.6c MW_8","Annex_2.6c MW_9","Annex_2.6c MW_10","Annex_2.6c MW_11","Annex_2.6c MW_12","Annex_2.6c MW_13","Annex_2.6c MW_14","Annex_2.6c MW_15","Annex_2.6c MW_16","Annex_2.6c MW_17","Annex_2.6c MW_18","Annex_2.6c MW_19","Annex_2.6c MW_20","Annex_2.6c MW_21","Annex_2.6c MW_22","Annex_2.6c MW_23","Annex_2.6c MW_24","Annex_2.6c MW_25","Annex_2.6c MW_26","Annex_2.6c MW_27","Annex_2.6c MW_28","Annex_2.6c MW_29","Annex_2.6c MW_30","Annex_2.6c MW_31","Annex_2.6c MW_ a Total Score","Annex_2.6c MW_ a Percentage","Annex_2.6c SW_1","Annex_2.6c SW_2","Annex_2.6c SW_3","Annex_2.6c SW_4","Annex_2.6c SW_5","Annex_2.6c SW_6","Annex_2.6c SW_7","Annex_2.6c SW_8","Annex_2.6c SW_9","Annex_2.6c SW_10","Annex_2.6c SW_11","Annex_2.6c SW_12","Annex_2.6c SW_13","Annex_2.6c SW_14","Annex_2.6c SW_15","Annex_2.6c SW_16","Annex_2.6c SW_17","Annex_2.6c SW_18","Annex_2.6c SW_19","Annex_2.6c SW_20","Annex_2.6c SW_21","Annex_2.6c SW_22","Annex_2.6c SW_23","Annex_2.6c SW_24","Annex_2.6c SW_25","Annex_2.6c SW_26","Annex_2.6c SW_27","Annex_2.6c SW_28","Annex_2.6c SW_29","Annex_2.6c SW_30","Annex_2.6c SW_31","Annex_2.6c SW_ Total Score","Annex_2.6c SW Percentage","Annex_2.6c PW_ 1","Annex_2.6c PW_ 2","Annex_2.6c PW_ 3","Annex_2.6c PW_ 4","Annex_2.6c PW_ 5","Annex_2.6c PW_ 6","Annex_2.6c PW_ 7","Annex_2.6c PW_ 8","Annex_2.6c PW_ 9","Annex_2.6c PW_ 10","Annex_2.6c PW_ 11","Annex_2.6c PW_ 12","Annex_2.6c PW_ 13","Annex_2.6c PW_ 14","Annex_2.6c PW_ 15","Annex_2.6c PW_ 16","Annex_2.6c PW_ 17","Annex_2.6c PW_ 18","Annex_2.6c PW_ 19","Annex_2.6c PW_ 20","Annex_2.6c PW_ 21","Annex_2.6c PW_ 22","Annex_2.6c PW_ 23","Annex_2.6c PW_ 24","Annex_2.6c PW_ 25","Annex_2.6c PW_ 26","Annex_2.6c PW_ 27","Annex_2.6c PW_ 28","Annex_2.6c PW_ 29","Annex_2.6c PW_ 30","Annex_2.6c PW_ 31","Annex_2.6c PW_ Total Score","Annex_2.6c PW_ Percentage","Annex_2.7.1 a_1","Annex_2.7.1 a_2","Annex_2.7.1 a_3","Annex_2.7.1 a_4","Annex_2.7.1 a_5","Annex_2.7.1 a_6","Annex_2.7.1 a_7","Annex_2.7.1 a_8","Annex_2.7.1 a_9","Annex_2.7.1 a_10","Annex_2.7.1 a_11","Annex_2.7.1 a_12","Annex_2.7.1 a_13","Annex_2.7.1 a_14","Annex_2.7.1 a_15","Annex_2.7.1 a_16","Annex_2.7.1 a_17","Annex_2.7.1 a_18","Annex_2.7.1 a_19","Annex_2.7.1 a_20","Annex_2.7.1 a_21","Annex_2.7.1 a_22","Annex_2.7.1 a_23","Annex_2.7.1 a_24","Annex_2.7.1 a_25","Annex_2.7.1 a_26","Annex_2.7.1 a_Total Score","Annex_2.7.1 a_Percentage","Annex_2.7.1 b_1","Annex_2.7.1 b_2","Annex_2.7.1 b_3","Annex_2.7.1 b_4","Annex_2.7.1 b_5","Annex_2.7.1 b_6","Annex_2.7.1 b_7","Annex_2.7.1 b_8","Annex_2.7.1 b_9","Annex_2.7.1 b_10","Annex_2.7.1 b_11","Annex_2.7.1 b_12","Annex_2.7.1 b_13","Annex_2.7.1 b_14","Annex_2.7.1 b_15","Annex_2.7.1 b_16","Annex_2.7.1 b_17","Annex_2.7.1 b_18","Annex_2.7.1 b_19","Annex_2.7.1 b_20","Annex_2.7.1 b_21","Annex_2.7.1 b_22","Annex_2.7.1 b_23","Annex_2.7.1 b_24","Annex_2.7.1 b_25","Annex_2.7.1 b_26","Annex_2.7.1 b_27","Annex_2.7.1 b_28","Annex_2.7.1 b_29","Annex_2.7.1 b_30","Annex_2.7.1 b_31","Annex_2.7.1 b_32","Annex_2.7.1 b_33","Annex_2.7.1 b_34","Annex_2.7.1 b_35","Annex_2.7.1 b_36","Annex_2.7.1 b_37","Annex_2.7.1 b_38","Annex_2.7.1 b_39","Annex_2.7.1 b_40","Annex_2.7.1 b_41","Annex_2.7.1 b_42","Annex_2.7.1 b_43","Annex_2.7.1 b_44","Annex_2.7.1 b_45","Annex_2.7.1 b_46","Annex_2.7.1 b_47","Annex_2.7.1 b_48","Annex_2.7.1 b_49","Annex_2.7.1 b_50","Annex_2.7.1 b_51","Annex_2.7.1 b_52","Annex_2.7.1 b_Total Score","Annex_2.7.1 b_Percentage","Annex_2.7.1 c_1","Annex_2.7.1 c_2","Annex_2.7.1 c_3","Annex_2.7.1 c_4","Annex_2.7.1 c_5","Annex_2.7.1 c_6","Annex_2.7.1 c_7","Annex_2.7.1 c_8","Annex_2.7.1 c_9","Annex_2.7.1 c_10","Annex_2.7.1 c_11","Annex_2.7.1 c_12","Annex_2.7.1 c_13","Annex_2.7.1 c_14","Annex_2.7.1 c_15","Annex_2.7.1 c_16","Annex_2.7.1 c_17","Annex_2.7.1 c_18","Annex_2.7.1 c_19","Annex_2.7.1 c_20","Annex_2.7.1 c_21","Annex_2.7.1 c_22","Annex_2.7.1 c_23","Annex_2.7.1 c_24","Annex_2.7.1 c_25","Annex_2.7.1 c_26","Annex_2.7.1 c_27","Annex_2.7.1 c_28","Annex_2.7.1 c_29","Annex_2.7.1 c_30","Annex_2.7.1 c_31","Annex_2.7.1 c_32","Annex_2.7.1 c_33","Annex_2.7.1 c_34","Annex_2.7.1 c_35","Annex_2.7.1 c_Total Score","Annex_2.7.1 c_Percentage","Annex_2.7.2 a_1","Annex_2.7.2 a_2","Annex_2.7.2 a_3","Annex_2.7.2 a_4","Annex_2.7.2 a_5","Annex_2.7.2 a_6","Annex_2.7.2 a_7","Annex_2.7.2 a_8","Annex_2.7.2 a_9","Annex_2.7.2 a_10","Annex_2.7.2 a_11","Annex_2.7.2 a_12","Annex_2.7.2 a_13","Annex_2.7.2 a_14","Annex_2.7.2 a_15","Annex_2.7.2 a_16","Annex_2.7.2 a_17","Annex_2.7.2 a_18","Annex_2.7.2 a_19","Annex_2.7.2 a_20","Annex_2.7.2 a_21","Annex_2.7.2 a_22","Annex_2.7.2 a_23","Annex_2.7.2 a_24","Annex_2.7.2 a_25","Annex_2.7.2 a_26","Annex_2.7.2 a_27","Annex_2.7.2 a_28","Annex_2.7.2 a_29","Annex_2.7.2 a_30","Annex_2.7.2 a_31","Annex_2.7.2 a_Total Score","Annex_2.7.2 a_Percentage","Annex_2.7.2 b_1","Annex_2.7.2 b_2","Annex_2.7.2 b_3","Annex_2.7.2 b_4","Annex_2.7.2 b_5","Annex_2.7.2 b_6","Annex_2.7.2 b_7","Annex_2.7.2 b_8","Annex_2.7.2 b_9","Annex_2.7.2 b_10","Annex_2.7.2 b_11","Annex_2.7.2 b_Total Score","Annex_2.7.2 b_Percentage","Annex_2.7.2 c_1","Annex_2.7.2 c_2","Annex_2.7.2 c_3","Annex_2.7.2 c_4","Annex_2.7.2 c_5","Annex_2.7.2 c_6","Annex_2.7.2 c_7","Annex_2.7.2 c_8","Annex_2.7.2 c_9","Annex_2.7.2 c_10","Annex_2.7.2 c_11","Annex_2.7.2 c_12","Annex_2.7.2 c_13","Annex_2.7.2 c_14","Annex_2.7.2 c_15","Annex_2.7.2 c_16","Annex_2.7.2 c_17","Annex_2.7.2 c_18","Annex_2.7.2 c_19","Annex_2.7.2 c_20","Annex_2.7.2 c_21","Annex_2.7.2 c_22","Annex_2.7.2 c_23","Annex_2.7.2 c_24","Annex_2.7.2 c_25","Annex_2.7.2 c_26","Annex_2.7.2 c_27","Annex_2.7.2 c_28","Annex_2.7.2 c_29","Annex_2.7.2 c_30","Annex_2.7.2 c_31","Annex_2.7.2 c_32","Annex_2.7.2 c_33","Annex_2.7.2 c_Total Score","Annex_2.7.2 c_Percentage","Annex_2.8 a_1","Annex_2.8 a_2","Annex_2.8 a_3","Annex_2.8 a_4","Annex_2.8 a_5","Annex_2.8 a_6","Annex_2.8 a_7","Annex_2.8 a_8","Annex_2.8 a_9","Annex_2.8 a_10","Annex_2.8 a_11","Annex_2.8 a_12","Annex_2.8 a_13","Annex_2.8 a_14","Annex_2.8 a_15","Annex_2.8 a_16","Annex_2.8 a_17","Annex_2.8 a_18","Annex_2.8 a_19","Annex_2.8 a_20","Annex_2.8 a_21","Annex_2.8 a_22","Annex_2.8 a_23","Annex_2.8 a_24","Annex_2.8 a_25","Annex_2.8 a_26","Annex_2.8 a_27","Annex_2.8 a_28","Annex_2.8 a_29","Annex_2.8 a_30","Annex_2.8 a_31","Annex_2.8 a_32","Annex_2.8 a_33","Annex_2.8 a_Total Score","Annex_2.8 a_Percentage","Annex_2.8 b_1","Annex_2.8 b_2","Annex_2.8 b_3","Annex_2.8 b_4","Annex_2.8 b_5","Annex_2.8 b_6","Annex_2.8 b_7","Annex_2.8 b_8","Annex_2.8 b_9","Annex_2.8 b_10","Annex_2.8 b_11","Annex_2.8 b_Total Score","Annex_2.8 b_Percentage","Annex_2.8 c_1","Annex_2.8 c_2","Annex_2.8 c_3","Annex_2.8 c_4","Annex_2.8 c_5","Annex_2.8 c_6","Annex_2.8 c_7","Annex_2.8 c_8","Annex_2.8 c_9","Annex_2.8 c_Total Score","Annex_2.8 c_Percentage","Annex_2.8 d_1","Annex_2.8 d_2","Annex_2.8 d_3","Annex_2.8 d_4","Annex_2.8 d_5","Annex_2.8 d_6","Annex_2.8 d_7","Annex_2.8 d_8","Annex_2.8 d_9","Annex_2.8 d_10","Annex_2.8 d_11","Annex_2.8 d_12","Annex_2.8 d_13","Annex_2.8 d_14","Annex_2.8 d_15","Annex_2.8 d_16","Annex_2.8 d_17","Annex_2.8 d_18","Annex_2.8 d_19","Annex_2.8 d_20","Annex_2.8 d_21","Annex_2.8 d_22","Annex_2.8 d_23","Annex_2.8 d_24","Annex_2.8 d_25","Annex_2.8 d_26","Annex_2.8 d_27","Annex_2.8 d_28","Annex_2.8 d_29","Annex_2.8 d_30","Annex_2.8 d_31","Annex_2.8 d_32","Annex_2.8 d_33","Annex_2.8 d_34","Annex_2.8 d_35","Annex_2.8 d_36","Annex_2.8 d_37","Annex_2.8 d_38","Annex_2.8 d_39","Annex_2.8 d_40","Annex_2.8 d_41","Annex_2.8 d_42","Annex_2.8 d_43","Annex_2.8 d_44","Annex_2.8 d_45","Annex_2.8 d_46","Annex_2.8 d_47","Annex_2.8 d_48","Annex_2.8 d_49","Annex_2.8 d_Total Score","Annex_2.8 d_Percentage","Annex_2.8 e_1","Annex_2.8 e_2","Annex_2.8 e_3","Annex_2.8 e_4","Annex_2.8 e_5","Annex_2.8 e_6","Annex_2.8 e_7","Annex_2.8 e_8","Annex_2.8 e_9","Annex_2.8 e_10","Annex_2.8 e_11","Annex_2.8 e_12","Annex_2.8 e_13","Annex_2.8 e_14","Annex_2.8 e_15","Annex_2.8 e_16","Annex_2.8 e_17","Annex_2.8 e_Total Score","Annex_2.8 e_Percentage","Annex_2.8 f_1","Annex_2.8 f_2","Annex_2.8 f_3","Annex_2.8 f_4","Annex_2.8 f_5","Annex_2.8 f_6","Annex_2.8 f_7","Annex_2.8 f_8","Annex_2.8 f_9","Annex_2.8 f_10","Annex_2.8 f_11","Annex_2.8 f_12","Annex_2.8 f_13","Annex_2.8 f_14","Annex_2.8 f_15","Annex_2.8 f_16","Annex_2.8 f_Total Score","Annex_2.8 f_Percentage","Annex_2.8 g_1","Annex_2.8 g_2","Annex_2.8 g_3","Annex_2.8 g_4","Annex_2.8 g_5","Annex_2.8 g_6","Annex_2.8 g_7","Annex_2.8 g_8","Annex_2.8 g_9","Annex_2.8 g_10","Annex_2.8 g_11","Annex_2.8 g_12","Annex_2.8 g_13","Annex_2.8 g_14","Annex_2.8 g_15","Annex_2.8 g_16","Annex_2.8 g_17","Annex_2.8 g_18","Annex_2.8 g_19","Annex_2.8 g_20","Annex_2.8 g_21","Annex_2.8 g_22","Annex_2.8 g_Total Score","Annex_2.8 g_Percentage","Annex_2.8 h_1","Annex_2.8 h_2","Annex_2.8 h_3","Annex_2.8 h_4","Annex_2.8 h_5","Annex_2.8 h_6","Annex_2.8 h_7","Annex_2.8 h_8","Annex_2.8 h_9","Annex_2.8 h_10","Annex_2.8 h_11","Annex_2.8 h_12","Annex_2.8 h_13","Annex_2.8 h_14","Annex_2.8 h_15","Annex_2.8 h_16","Annex_2.8 h_17","Annex_2.8 h_18","Annex_2.8 h_19","Annex_2.8 h_20","Annex_2.8 h_21","Annex_2.8 h_22","Annex_2.8 h_23","Annex_2.8 h_24","Annex_2.8 h_25","Annex_2.8 h_26","Annex_2.8 h_27","Annex_2.8 h_28","Annex_2.8 h_29","Annex_2.8 h_30","Annex_2.8 h_31","Annex_2.8 h_32","Annex_2.8 h_33","Annex_2.8 h_34","Annex_2.8 h_35","Annex_2.8 h_36","Annex_2.8 h_37","Annex_2.8 h_38","Annex_2.8 h_39","Annex_2.8 h_40","Annex_2.8 h_41","Annex_2.8 h_42","Annex_2.8 h_43","Annex_2.8 h_44","Annex_2.8 h_45","Annex_2.8 h_46","Annex_2.8 h_47","Annex_2.8 h_48","Annex_2.8 h_49","Annex_2.8 h_50","Annex_2.8 h_51","Annex_2.8 h_52","Annex_2.8 h_53","Annex_2.8 h_Total Score","Annex_2.8 h_Percentage","Annex_2.9.1.1a_1","Annex_2.9.1.1a_2","Annex_2.9.1.1a_3","Annex_2.9.1.1a_4","Annex_2.9.1.1a_5","Annex_2.9.1.1a_6","Annex_2.9.1.1a_7","Annex_2.9.1.1a_8","Annex_2.9.1.1a_9","Annex_2.9.1.1a_10","Annex_2.9.1.1a_11","Annex_2.9.1.1a_12","Annex_2.9.1.1a_13","Annex_2.9.1.1a_14","Annex_2.9.1.1a_15","Annex_2.9.1.1a_16","Annex_2.9.1.1a_17","Annex_2.9.1.1a_18","Annex_2.9.1.1a_19","Annex_2.9.1.1a_20","Annex_2.9.1.1a_21","Annex_2.9.1.1a_22","Annex_2.9.1.1a_23","Annex_2.9.1.1a_24","Annex_2.9.1.1a_25","Annex_2.9.1.1a_26","Annex_2.9.1.1a_27","Annex_2.9.1.1a_28","Annex_2.9.1.1a_29","Annex_2.9.1.1a_30","Annex_2.9.1.1a_31","Annex_2.9.1.1a_32","Annex_2.9.1.1a_33","Annex_2.9.1.1a_34","Annex_2.9.1.1a_35","Annex_2.9.1.1a_36","Annex_2.9.1.1a_37","Annex_2.9.1.1a_38","Annex_2.9.1.1a_39","Annex_2.9.1.1a_40","Annex_2.9.1.1a_41","Annex_2.9.1.1a_42","Annex_2.9.1.1a_43","Annex_2.9.1.1a_44","Annex_2.9.1.1a_45","Annex_2.9.1.1a_46","Annex_2.9.1.1a_47","Annex_2.9.1.1a_48","Annex_2.9.1.1a_49","Annex_2.9.1.1a_50","Annex_2.9.1.1a_51","Annex_2.9.1.1a_52","Annex_2.9.1.1a_53","Annex_2.9.1.1a_54","Annex_2.9.1.1a_55","Annex_2.9.1.1a_56","Annex_2.9.1.1a_57","Annex_2.9.1.1a_58","Annex_2.9.1.1a_59","Annex_2.9.1.1a_60","Annex_2.9.1.1a_61","Annex_2.9.1.1a_62","Annex_2.9.1.1a_63","Annex_2.9.1.1a_64","Annex_2.9.1.1a_65","Annex_2.9.1.1a_66","Annex_2.9.1.1a_67","Annex_2.9.1.1a_Total Score","Annex_2.9.1.1a_Percentage","Annex_2.9.1.1b_1","Annex_2.9.1.1b_2","Annex_2.9.1.1b_3","Annex_2.9.1.1b_4","Annex_2.9.1.1b_5","Annex_2.9.1.1b_6","Annex_2.9.1.1b_7","Annex_2.9.1.1b_8","Annex_2.9.1.1b_9","Annex_2.9.1.1b_10","Annex_2.9.1.1b_11","Annex_2.9.1.1b_12","Annex_2.9.1.1b_13","Annex_2.9.1.1b_14","Annex_2.9.1.1b_15","Annex_2.9.1.1b_16","Annex_2.9.1.1b_17","Annex_2.9.1.1b_18","Annex_2.9.1.1b_19","Annex_2.9.1.1b_20","Annex_2.9.1.1b_Total Score","Annex_2.9.1.1b_Percentage","Annex_2.9.1.1c_1","Annex_2.9.1.1c_2","Annex_2.9.1.1c_3","Annex_2.9.1.1c_4","Annex_2.9.1.1c_Total Score","Annex_2.9.1.1c_Percentage","Annex_2.9.1.2 a_1","Annex_2.9.1.2 a_2","Annex_2.9.1.2 a_3","Annex_2.9.1.2 a_4","Annex_2.9.1.2 a_5","Annex_2.9.1.2 a_6","Annex_2.9.1.2 a_7","Annex_2.9.1.2 a_8","Annex_2.9.1.2 a_9","Annex_2.9.1.2 a_10","Annex_2.9.1.2 a_11","Annex_2.9.1.2 a_Total Score","Annex_2.9.1.2 a_Percentage","Annex_2.9.1.2 b_1","Annex_2.9.1.2 b_2","Annex_2.9.1.2 b_3","Annex_2.9.1.2 b_4","Annex_2.9.1.2 b_5","Annex_2.9.1.2 b_6","Annex_2.9.1.2 b_7","Annex_2.9.1.2 b_8","Annex_2.9.1.2 b_9","Annex_2.9.1.2 b_10","Annex_2.9.1.2 b_11","Annex_2.9.1.2 b_12","Annex_2.9.1.2 b_13","Annex_2.9.1.2 b_14","Annex_2.9.1.2 b_Total Score","Annex_2.9.1.2 b_Percentage","Annex_2.10 a_1","Annex_2.10 a_2","Annex_2.10 a_3","Annex_2.10 a_4","Annex_2.10 a_5","Annex_2.10 a_6","Annex_2.10 a_7","Annex_2.10 a_8","Annex_2.10 a_Total Score","Annex_2.10 a_Percentage","Annex_2.10 b_1","Annex_2.10 b_2","Annex_2.10 b_3","Annex_2.10 b_4","Annex_2.10 b_5","Annex_2.10 b_6","Annex_2.10 b_7","Annex_2.10 b_8","Annex_2.10 b_9","Annex_2.10 b_10","Annex_2.10 b_11","Annex_2.10 b_12","Annex_2.10 b_13","Annex_2.10 b_14","Annex_2.10 b_15","Annex_2.10 b_16","Annex_2.10 b_17","Annex_2.10 b_18","Annex_2.10 b_19","Annex_2.10 b_20","Annex_2.10 b_21","Annex_2.10 b_22","Annex_2.10 b_23","Annex_2.10 b_24","Annex_2.10 b_25","Annex_2.10 b_26","Annex_2.10 b_27","Annex_2.10 b_28","Annex_2.10 b_29","Annex_2.10 b_30","Annex_2.10 b_31","Annex_2.10 b_32","Annex_2.10 b_33","Annex_2.10 b_34","Annex_2.10 b_35","Annex_2.10 b_36","Annex_2.10 b_37","Annex_2.10 b_38","Annex_2.10 b_39","Annex_2.10 b_40","Annex_2.10 b_41","Annex_2.10 b_42","Annex_2.10 b_43","Annex_2.10 b_44","Annex_2.10 b_45","Annex_2.10 b_46","Annex_2.10 b_47","Annex_2.10 b_48","Annex_2.10 b_49","Annex_2.10 b_50","Annex_2.10 b_51","Annex_2.10 b_52","Annex_2.10 b_53","Annex_2.10 b_54","Annex_2.10 b_55","Annex_2.10 b_56","Annex_2.10 b_57","Annex_2.10 b_58","Annex_2.10 b_59","Annex_2.10 b_60","Annex_2.10 b_61","Annex_2.10 b_62","Annex_2.10 b_63","Annex_2.10 b_64","Annex_2.10 b_65","Annex_2.10 b_66","Annex_2.10 b_67","Annex_2.10 b_68","Annex_2.10 b_69","Annex_2.10 b_70","Annex_2.10 b_71","Annex_2.10 b_72","Annex_2.10 b_Total Score","Annex_2.10 b_Percentage","Annex_2.11 a_1","Annex_2.11 a_2","Annex_2.11 a_3","Annex_2.11 a_4","Annex_2.11 a_5","Annex_2.11 a_6","Annex_2.11 a_7","Annex_2.11 a_8","Annex_2.11 a_9","Annex_2.11 a_10","Annex_2.11 a_11","Annex_2.11 a_12","Annex_2.11 a_13","Annex_2.11 a_14","Annex_2.11 a_15","Annex_2.11 a_16","Annex_2.11 a_17","Annex_2.11 a_18","Annex_2.11 a_19","Annex_2.11 a_20","Annex_2.11 a_Total Score","Annex_2.11 a_Percentage","Annex_2.12 a_1","Annex_2.12 a_2","Annex_2.12 a_3","Annex_2.12 a_4","Annex_2.12 a_5","Annex_2.12 a_6","Annex_2.12 a_7","Annex_2.12 a_8","Annex_2.12 a_9","Annex_2.12 a_10","Annex_2.12 a_11","Annex_2.12 a_12","Annex_2.12 a_13","Annex_2.12 a_14","Annex_2.12 a_15","Annex_2.12 a_16","Annex_2.12 a_Total Score","Annex_2.12 a_Percentage","Annex_2.13 a_1","Annex_2.13 a_2","Annex_2.13 a_3","Annex_2.13 a_4","Annex_2.13 a_5","Annex_2.13 a_6","Annex_2.13 a_7","Annex_2.13 a_8","Annex_2.13 a_9","Annex_2.13 a_10","Annex_2.13 a_11","Annex_2.13 a_12","Annex_2.13 a_13","Annex_2.13 a_14","Annex_2.13 a_Total Score","Annex_2.13 a_Percentage","Annex_2.13 b_1","Annex_2.13 b_2","Annex_2.13 b_3","Annex_2.13 b_4","Annex_2.13 b_5","Annex_2.13 b_6","Annex_2.13 b_7","Annex_2.13 b_8","Annex_2.13 b_9","Annex_2.13 b_10","Annex_2.13 b_11","Annex_2.13 b_12","Annex_2.13 b_13","Annex_2.13 b_14","Annex_2.13 b_15","Annex_2.13 b_16","Annex_2.13 b_17","Annex_2.13 b_18","Annex_2.13 b_19","Annex_2.13 b_20","Annex_2.13 b_Total Score","Annex_2.13 b_Percentage","Annex_2.13 c_1","Annex_2.13 c_2","Annex_2.13 c_3","Annex_2.13 c_4","Annex_2.13 c_5","Annex_2.13 c_6","Annex_2.13 c_7","Annex_2.13 c_8","Annex_2.13 c_9","Annex_2.13 c_10","Annex_2.13 c_11","Annex_2.13 c_12","Annex_2.13 c_13","Annex_2.13 c_14","Annex_2.13 c_15","Annex_2.13 c_16","Annex_2.13 c_17","Annex_2.13 c_18","Annex_2.13 c_19","Annex_2.13 c_20","Annex_2.13 c_21","Annex_2.13 c_22","Annex_2.13 c_23","Annex_2.13 c_Total Score","Annex_2.13 c_Percentage","Annex_2.14 a_1","Annex_2.14 a_2","Annex_2.14 a_3","Annex_2.14 a_4","Annex_2.14 a_5","Annex_2.14 a_6","Annex_2.14 a_7","Annex_2.14 a_8","Annex_2.14 a_9","Annex_2.14 a_10","Annex_2.14 a_11","Annex_2.14 a_12","Annex_2.14 a_13","Annex_2.14 a_14","Annex_2.14 a_15","Annex_2.14 a_16","Annex_2.14 a_17","Annex_2.14 a_18","Annex_2.14 a_19","Annex_2.14 a_20","Annex_2.14 a_21","Annex_2.14 c_Total Score","Annex_2.14 c_Percentage","Annex_3.1 a_1","Annex_3.1 a_2","Annex_3.1 a_3","Annex_3.1 a_4","Annex_3.1 a_5","Annex_3.1 a_6","Annex_3.1 a_7","Annex_3.1 a_8","Annex_3.1 a_9","Annex_3.1 a_10","Annex_3.1 a_11","Annex_3.1 a_12","Annex_3.1 a_13","Annex_3.1 a_14","Annex_3.1 a_15","Annex_3.1 a_16","Annex_3.1 a_17","Annex_3.1 a_Total Score","Annex_3.1 a_Percentage","Annex_3.2 a_1","Annex_3.2 a_2","Annex_3.2 a_3","Annex_3.2 a_4","Annex_3.2 a_5","Annex_3.2 a_6","Annex_3.2 a_7","Annex_3.2 a_8","Annex_3.2 a_9","Annex_3.2 a_10","Annex_3.2 a_11","Annex_3.2 a_12","Annex_3.2 a_13","Annex_3.2 a_14","Annex_3.2 a_15","Annex_3.2 a_Total Score","Annex_3.2 a_Percentage","Annex_3.3 a_1","Annex_3.3 a_2","Annex_3.3 a_3","Annex_3.3 a_4","Annex_3.3 a_5","Annex_3.3 a_6","Annex_3.3 a_7","Annex_3.3 a_8","Annex_3.3 a_9","Annex_3.3 a_10","Annex_3.3 a_11","Annex_3.3 a_12","Annex_3.3 a_13","Annex_3.3 a_14","Annex_3.3 a_15","Annex_3.3 a_16","Annex_3.3 a_17","Annex_3.3 a_18","Annex_3.3 a_19","Annex_3.3 a_20","Annex_3.3 a_21","Annex_3.3 a_22","Annex_3.3 a_23","Annex_3.3 a_24","Annex_3.3 a_25","Annex_3.3 a_26","Annex_3.3 a_Total Score","Annex_3.3 a_Percentage","Annex_3.7 a_1","Annex_3.7 a_2","Annex_3.7 a_3","Annex_3.7 a_4","Annex_3.7 a_5","Annex_3.7 a_6","Annex_3.7 a_Total Score","Annex_3.7 a_Percentage","Annex_3.11 a_1","Annex_3.11 a_2","Annex_3.11 a_3","Annex_3.11 a_4","Annex_3.11 a_5","Annex_3.11 a_6","Annex_3.11 a_7","Annex_3.11 a_Total Score","Annex_3.11 a_Percentage"]
[{"$f":"'Summary sheet'!C3","v":"Province_Name"},{"$f":"'Summary sheet'!A5","v":"Hospital Name"},{"$f":"'Summary sheet'!C7","v":0},{"$f":"'Summary sheet'!C9","v":0},{"$f":"'Summary sheet'!D9","v":""},0,0,0,0,0,0,0,0,0,0,0,0,0,0,0,0,0,0,0,0,0,0,0,0,0,0,0,0,0,0,0,0,0,0,0,0,0,0,0,0,0,0,0,0,0,0,0,0,0,0,0,0,0,0,0,0,0,0,0,0,0,0,0,0,0,0,0,0,0,0,0,0,0,0,0,0,0,0,0,0,0,0,0,0,0,0,0,0,0,0,0,0,0,0,0,0,0,0,0,0,0,0,0,0,0,0,0,0,0,0,0,0,0,0,0,0,0,0,0,0,0,0,0,0,0,0,0,0,0,0,0,0,0,0,0,0,0,0,0,0,0,0,0,0,0,0,0,0,0,0,0,0,0,0,0,0,0,0,0,0,0,0,0,0,0,0,0,0,0,0,0,0,0,0,0,0,0,0,0,0,0,0,0,0,0,0,0,0,0,0,0,0,0,0,0,0,0,0,0,0,0,0,0,0,0,0,0,0,0,0,0,0,0,0,0,0,0,0,0,0,0,0,0,0,0,0,0,0,0,0,0,0,0,0,0,0,0,0,0,0,0,0,0,0,0,0,0,0,0,0,0,0,0,0,0,0,0,0,0,0,0,0,0,0,0,0,0,0,0,0,0,0,0,0,0,0,0,0,0,0,0,0,0,0,0,0,0,0,0,0,0,0,0,0,0,0,0,0,0,0,0,0,0,0,0,0,0,0,0,0,0,0,0,0,0,0,0,0,0,0,0,0,0,0,0,0,0,0,0,0,0,0,0,0,0,0,0,0,0,0,0,0,0,0,0,0,0,0,0,0,0,0,0,0,0,0,0,0,0,0,0,0,0,0,0,0,0,0,0,0,0,0,0,0,0,0,0,0,0,0,0,0,0,0,0,0,0,0,0,0,0,0,0,0,0,0,0,0,0,0,0,0,0,0,0,0,0,0,0,0,0,0,0,0,0,0,0,0,0,0,0,0,0,0,0,0,0,0,0,0,0,0,0,0,0,0,0,0,0,0,0,0,0,0,0,0,0,0,0,0,0,0,0,0,0,0,0,0,0,0,0,0,0,0,0,0,0,0,0,0,0,0,0,0,0,0,0,0,0,0,0,0,0,0,0,0,0,0,0,0,0,0,0,0,0,0,0,0,0,0,0,0,0,0,0,0,0,0,0,0,0,0,0,0,0,0,0,0,0,0,0,0,0,0,0,0,0,0,0,0,0,0,0,0,0,0,0,0,0,0,0,0,0,0,0,0,0,0,0,0,0,0,0,0,0,0,0,0,0,0,0,0,0,0,0,0,0,0,0,0,0,0,0,0,0,0,0,0,0,0,0,0,0,0,0,0,0,0,0,0,0,0,0,0,0,0,0,0,0,0,0,0,0,0,0,0,0,0,0,0,0,0,0,0,0,0,0,0,0,0,0,0,0,0,0,0,0,0,0,0,0,0,0,0,0,0,0,0,0,0,0,0,0,0,0,0,0,0,0,0,0,0,0,0,0,0,0,0,0,0,0,0,0,0,0,0,0,0,0,0,0,0,0,0,0,0,0,0,0,0,0,0,0,0,0,0,0,0,0,0,0,0,0,0,0,0,0,0,0,0,0,0,0,0,0,0,0,0,0,0,0,0,0,0,0,0,0,0,0,0,0,0,0,0,0,0,0,0,0,0,0,0,0,0,0,0,0,0,0,0,0,0,0,0,0,0,0,0,0,0,0,0,0,0,0,0,0,0,0,0,0,0,0,0,0,0,0,0,0,0,0,0,0,0,0,0,0,0,0,0,0,0,0,0,0,0,0,0,0,0,0,0,0,0,0,0,0,0,0,0,0,0,0,0,0,0,0,0,0,0,0,0,0,0,0,0,0,0,0,0,0,0,0,0,0,0,0,0,0,0,0,0,0,0,0,0,0,0,0,0,0,0,0,0,0,0,0,0,0,0,0,0,0,0,0,0,0,0,0,0,0,0,0,0,0,0,0,0,0,0,0,0,0,0,0,0,0,0,0,0,0,0,0,0,0,0,0,0,0,0,0,0,0,0,0,0,0,0,0,0,0,0,0,0,0,0,0,0,0,0,0,0,0,0,0,0,0,0,0,0,0,0,0,0,0,0,0,0,0,0,0,0,0,0,0,0,0,0,0,0,0,0,0,0,0,0,0,0,0,0,0,0,0,0,0,0,0,0,0,0,0,0,0,0,0,0,0,0,0,0,0,0,0,0,0,0,0,0,0,0,0,0,0,0,0,0,0,0,0,0,0,0,0,0,0,0,0,0,0,0,0,0,0,0,0,0,0,0,0,0,0,0,0,0,0,0,0,0,0,0,0,0,0,0,0,0,0,0,0,0,0,0,0,0,0,0,0,0,0,0,0,0,0,0,0,0,0,0,0,0,0,0,0,0,0,0,0,0,0,0,0,0,0,0,0,0,0,0,0,0,0,0,0,0,0,0,0,0,0,0,0,0,0,0,0,0,0,0,0,0,0,0,0,0,0,0,0,0,0,0,0,0,0,0,0,0,0,0,0,0,0,0,0,0,0,0,0,0,0,0,0,0,0,0,0,0,0,0,0,0,0,0,0,0,0,0,0,0,0,0,0,0,0,0,0,0,0,0,0,0,0,0,0,0,0,0,0,0,0,0,0,0,0,0,0,0,0,0,0,0,0,0,0,0,0,0,0,0,0,0,0,0,0,0,0,0,0,0,0,0,0,0,0,0,0,0,0,0,0,0,0,0,0,0,0,0,0,0,0,0,0,0,0,0,0,0,0,0,0,0,0,0,0,0,0,0,0,0,0,0,0,0,0,0,0,0,0,0,0,0,0,0,0,0,0,0,0,0,0,0,0,0,0,0,0,0,0,0,0,0,0,0,0,0,0,0,0,0,0,0,0,0,0,0,0,0,0,0,0,0,0,0,0,0,0,0,0,0,0,0,0,0,0,0,0,0,0,0,0,0,0,0,0,0,0,0,0,0,0,0,0,0,0,0,0,0,0,0,0,0,0,0,0,0,0,0,0,0,0,0,0,0,0,0,0,0,0,0,0,0,0,0,0,0,0,0,0,0,0,0,0,0,0,0,0,0,0,0,0,0,0,0,0,0,0,0,0,0,0,0,0,0,0,0,0,0,0,0,0,0,0,0,0,0,0,0,0,0,0,0,0,0,0,0,0,0,0,0,0,0,0,0,0,0,0,0,0,0,0,0,0,0,0,0,0,0,0,0,0,0,0,0,0,0,0,0,0,0,0,0,0,0,0,0,0,0,0,0,0,0,0,0,0,0,0,0,0,0,0,0,0,0,0,0,0,0,0,0,0,0,0,0,0,0,0,0,0,0,0,0,0,0,0,0,0,0,0,0,0,0,0,0,0,0,0,0,0,0,0,0,0,0,0,0,0,0,0,0,0,0,0,0,0,0,0,0,0,0,0,0,0,0,0,0,0,0,0,0,0,0,0,0,0,0,0,0,0,0,0,0,0,0,0,0,0,0,0,0,0,0,0,0,0,0,0,0,0,0,0,0,0,0,0,0,0,0,0,0,0,0,0,0,0,0,0,0,0,0,0,0,0,0,0,0,0,0,0,0,0,0,0,0,0,0,0,0,0,0,0,0,0,0,0,0,0,0,0,0,0,0,0,0,0,0,0,0,0,0,0,0,0,0,0,0,0,0,0,0,0,0,0,0,0,0,0,0,0,0,0,0,0,0,0,0,0,0,0,0,0,0,0,0,0,0,0,0,0,0,0,0,0,0,0,0,0,0,0,0,0,0,0,0,0,0,0,0,0,0,0,0,0,0,0,0,0,0,0,0,0,0,0,0,0,0,0,0,0,0,0,0,0,0,0,0,0,0,0,0,0,0,0,0,0,0,0,0,0,0,0,0,0,0,0,0,0,0,0,0,0,0,0,0,0,0,0,0,0,0,0,0,0,0,0,0,0,0,0,0,0,0,0,0,0,0,0,0,0,0,0,0,0,0,0,0,0,0,0,0,0,0,0,0,0,0,0,0,0,0,0,0,0,0,0,0,0,0,0,0,0,0,0,0,0,0,0,0,0,0,0,0,0,0,0,0,0,0,0,0,0,0,0,0,0,0,0,0,0,0,0,0,0,0,0,0,0,0,0,0,0,0,0,0,0,0,0,0,0,0,0,0,0,0,0,0,0,0,0,0,0,0,0,0,0,0,0,0,0,0,0,0,0,0,0,0,0,0,0,0,0,0,0,0,0,0,0,0,0,0,0,0,0,0,0,0,0,0,0,0,0,0,0,0,0,0,0,0,0,0,0,0,0,0,0,0,0,0,0,0,0,0,0,0,0,0,0,0,0,0,0,0,0,0,0,0,0,0,0,0,0,0,0,0,0,0,0,0,0,0,0,0,0,0,0,0,0,0,0,0,0,0,0,0,0,0,0,0,0,0,0,0,0,0,0,0,0,0,0,0,0,0,0,0,0,0,0,0,0,0,0,0,0,0,0,0,0,0,0,0,0,0,0,0,0,0,0,0,0,0,0,0,0,0,0,0,0,0,0,0,0,0,0,0,0,0,0,0,0,0,0,0,0,0,0,0,0,0,0,0,0,0,0,0,0,0,0,0,0,0,0,0,0,0,0,0,0,0,0,0,0,0,0,0,0,0,0,0,0,0,0,0,0,0,0,0,0,0,0,0,0,0,0,0,0,0,0,0,0,0,0,0,0,0,0,0,0,0,0,0,0,0,0,0,0,0,0,0,0,0,0,0,0,0,0,0,0,0,0,0,0,0,0,0,0,0,0,0,0,0,0,0,0,0,0,0,0,0,0,0,0,0,0,0,0,0,0,0,0,0,0,0,0,0,0,0,0,0,0,0,0,0,0,0,0,0,0,0,0,0,0,0,0,0,0,0,0,0,0,0,0,0,0,0,0,0,0,0,0,0,0,0,0,0,0,0,0,0,0,0,0,0,0,0,0,0,0,0,0,0,0,0,0,0,0,0,0,0,0,0,0,0,0,0,0,0,0,0,0,0,0,0,0,0,0,0,0,0,0,0,0,0,0,0,0,0,0,0,0,0,0,0,0,0,0,0,0,0,0,0,0,0,0,0,0,0,0,0,0,0,0,0,0,0,0,0,0,0,0,0,0,0,0,0,0,0,0,0,0,0,0,0,0,0,0,0,0,0,0,0,0,0,0,0,0,0,0,0,0,0,0,0,0,0,0,0,0,0,0,0,0,0,0,0,0,0,0,0,0,0,0,0,0,0,0,0,0,0,0,0,0,0,0,0,0,0,0,0,0,0,0,0,0,0,0,0,0,0,0,0,0,0,0,0,0,0,0,0,0,0,0,0,0,0,0,0,0,0,0,0,0,0,0,0,0,0,0,0,0,0,0,0,0,0,0,0,0,0,0,0,0,0,0,0,0,0,0,0,0,0,0,0,0,0,0,0,0,0,0,0,0,0,0,0,0,0,0,0,0,0,0,0,0,0,0,0,0,0,0,0,0,0,0,0,0,0,0,0,0,0,0,0,0,0,0,0,0,0,0,0,0,0,0,0,0,0,0,0,0,0,0,0,0,0,0,0,0,0,0,0,0,0,0,0,0,0,0,0,0,0,0,0,0,0,0,0,0,0,0,0,0,0,0,0,0,0,0,0,0,0,0,0,0,0,0,0,0,0,0,0,0,0,0,0,0,0,0,0,0,0,0,0,0,0,0,0,0,0,0,0,0,0,0,0,0,0,0,0,0,0,0,0,0,0,0,0,0,0,0,0,0,0,0,0,0,0,0,0,0,0,0,0,0,0,0,0,0,0,0,0,0,0,0,0,0,0,0,0,0,0,0,0,0,0,0,0,0,0,0,0,0,0,0,0,0,0,0,0,0,0,0,0,0,0,0,0,0,0,0,0]

{"sheet":"Calculation Sheet","index":10,"n_rows":2598,"n_cols":17,"rows_kept":2598,"hidden":true,"merged":[[854,5,854,13]]}
[1.1,{"$f":"\"Summary    \"&A1","v":"Summary    1.1"},{"$f":"'Summary sheet'!H14","v":0},{"$nulls":7},"दिन","महिना","साल"]
[1.2,{"$f":"\"Summary    \"&A2","v":"Summary    1.2"},{"$f":"'Summary sheet'!H15","v":0},{"$nulls":7},1,"बैशाख",2075,null,"Work-shop",null,"Province_Name"]
[1.3,"Summary    1.3",{"$f":"'Summary sheet'!H16","v":0},{"$nulls":7},{"$f":"+K2+1","v":2},"जेष्ठ",{"$f":"+M2+1","v":2076},null,"Follow up",null,"Province_1"]
[1.4,"Summary    1.4",{"$f":"'Summary sheet'!H17","v":0},{"$nulls":7},{"$f":"+K3+1","v":3},"आषाढ",{"$f":"+M3+1","v":2077},{"$nulls":3},"Province_2"]
[1.5,"Summary    1.5",{"$f":"'Summary sheet'!H18","v":0},{"$nulls":7},4,"श्रावण",2078,{"$nulls":3},"Bagmati Province"]
[1.6,"Summary    1.6",{"$f":"'Summary sheet'!H19","v":0},{"$nulls":7},5,"भाद्र",2079,{"$nulls":3},"Gandaki_Province"]
[null,"Section I",{"$f":"'Summary sheet'!H20","v":0},{"$nulls":7},6,"आश्विन",2080,{"$nulls":3},"Province_5"]
["2.1","Summary    2.1",{"$f":"'Summary sheet'!H22","v":0},{"$nulls":7},7,"कार्तिक",2081,{"$nulls":3},"Karnali_Province"]
["2.2","Summary    2.2",{"$f":"'Summary sheet'!H23","v":0},{"$nulls":7},8,"मङ्सिर",2082,{"$nulls":3},"Sudur_Paschim_Province"]
["2.3","Summary    2.3",{"$f":"'Summary sheet'!H24","v":0},{"$nulls":7},9,"पौष",2083]
["2.4","Summary    2.4",{"$f":"'Summary sheet'!H25","v":0},{"$nulls":7},10,"माघ",2084]
["2.5","Summary    2.5",{"$f":"'Summary sheet'!H26","v":0},{"$nulls":7},11,"फाल्गुन",2085]
["2.6","Summary    2.6",{"$f":"'Summary sheet'!H27","v":0},{"$nulls":7},12,"चैत्र",2086]
["2.7","Summary    2.7",{"$f":"'Summary sheet'!H28","v":0},{"$nulls":7},13,null,2087]
[2.7,"Summary    2.7",{"$f":"'Summary sheet'!H29","v":0},{"$nulls":7},14,null,2088]
["2.8","Summary    2.8",{"$f":"'Summary sheet'!H30","v":0},{"$nulls":7},15,null,2089]
["2.9","Summary    2.9",{"$f":"'Summary sheet'!H31","v":0},{"$nulls":7},16,null,2090]
["2.10","Summary    2.10",{"$f":"'Summary sheet'!H32","v":0},{"$nulls":7},17]
["2.11","Summary    2.11",{"$f":"'Summary sheet'!H33","v":0},{"$nulls":7},18]
["2.12","Summary    2.12",{"$f":"'Summary sheet'!H34","v":0},{"$nulls":7},{"$f":"+K19+1","v":19}]
[null,"Section II",{"$f":"'Summary sheet'!H37","v":0},{"$nulls":7},20]
[3.1,"Summary    3.1",{"$f":"'Summary sheet'!H39","v":0},{"$nulls":7},21]
["3.2","Summary    3.2",{"$f":"'Summary sheet'!H40","v":0},{"$nulls":7},22]
["3.3","Summary    3.3",{"$f":"'Summary sheet'!H41","v":0},{"$nulls":7},23]
["3.4","Summary    3.4",{"$f":"'Summary sheet'!H42","v":0},{"$nulls":7},24]
["3.5","Summary    3.5",{"$f":"'Summary sheet'!H43","v":0},{"$nulls":7},25]
["3.6","Summary    3.6",{"$f":"'Summary sheet'!H44","v":0},{"$nulls":7},{"$f":"+K26+1","v":26}]
["3.7","Summary    3.7",{"$f":"'Summary sheet'!H45","v":0},{"$nulls":7},27]
["3.8","Summary    3.8",{"$f":"'Summary sheet'!H46","v":0},{"$nulls":7},28]
["3.9","Summary    3.9",{"$f":"'Summary sheet'!H47","v":0},{"$nulls":7},29]
["3.10","Summary    3.10",{"$f":"'Summary sheet'!H48","v":0},{"$nulls":7},30]
[3.11,"Summary    3.11",{"$f":"'Summary sheet'!H49","v":0},{"$nulls":7},31]
[null,"Section III",{"$f":"'Summary sheet'!H50","v":0},{"$nulls":7},32]
[null,"Percent",{"$f":"'Summary sheet'!F52","v":{"v":0,"d":"0%"}}]
["1.1.1",{"$f":"\"Std \" &A35","v":"Std 1.1.1"},{"$f":"Standards!D4","v":0}]
["1.1.2",{"$f":"\"Std \" &A36","v":"Std 1.1.2"},{"$f":"Standards!D5","v":0}]
["1.1.3","Std 1.1.3",{"$f":"Standards!D6","v":0}]
["1.1.4.1","Std 1.1.4.1",{"$f":"Standards!D7","v":0}]
["1.1.4.2.1","Std 1.1.4.2.1",{"$f":"Standards!D9","v":0}]
["1.1.4.2.2","Std 1.1.4.2.2",{"$f":"Standards!D10","v":0}]
["1.1.4.2.3","Std 1.1.4.2.3",{"$f":"Standards!D11","v":0}]
["1.1.4.2.4","Std 1.1.4.2.4",{"$f":"Standards!D12","v":0}]
["1.1.4.2.5","Std 1.1.4.2.5",{"$f":"Standards!D13","v":0}]
["1.1.4.2.6","Std 1.1.4.2.6",{"$f":"Standards!D14","v":0}]
["1.1.4.2.7","Std 1.1.4.2.7",{"$f":"Standards!D15","v":0}]
["1.1.5.1",{"$f":"\"Std \" &A46","v":"Std 1.1.5.1"},{"$f":"Standards!D16","v":0}]
["1.1.5.2",{"$f":"\"Std \" &A47","v":"Std 1.1.5.2"},{"$f":"Standards!D17","v":0}]
["1.1.6","Std 1.1.6",{"$f":"Standards!D18","v":0}]
["1.1.7","Std 1.1.7",{"$f":"Standards!D19","v":0}]
["1.1.8.1","Std 1.1.8.1",{"$f":"Standards!D20","v":0}]
["1.1.8.2","Std 1.1.8.2",{"$f":"Standards!D21","v":0}]
["1.1.8.3","Std 1.1.8.3",{"$f":"Standards!D22","v":0}]
["1.1.8.4","Std 1.1.8.4",{"$f":"Standards!D23","v":0}]
["1.1.8.5","Std 1.1.8.5",{"$f":"Standards!D24","v":0}]
["1.1.8.6","Std 1.1.8.6",{"$f":"Standards!D25","v":0}]
["1.1.8.7","Std 1.1.8.7",{"$f":"Standards!D26","v":0}]
["1.1.9.1","Std 1.1.9.1",{"$f":"Standards!D27","v":0}]
["1.1.9.2","Std 1.1.9.2",{"$f":"Standards!D28","v":0}]
["1.1.10","Std 1.1.10",{"$f":"Standards!D29","v":0}]
["1.1.11","Std 1.1.11",{"$f":"Standards!D30","v":0}]
["1.1.12","Std 1.1.12",{"$f":"Standards!D31","v":0}]
["1.1 Total","Std 1.1 Total",{"$f":"Standards!D32","v":0}]
["1.1 Percentage","Std 1.1 Percentage",{"$f":"Standards!D33","v":{"v":0,"d":"0%"}}]
["1.2.1.1","Std 1.2.1.1",{"$f":"Standards!D39","v":0}]
["1.2.1.2","Std 1.2.1.2",{"$f":"Standards!D40","v":0}]
[" 1.2.2","Std  1.2.2",{"$f":"Standards!D41","v":0}]
["1.2.3","Std 1.2.3",{"$f":"Standards!D42","v":0}]
["1.2.4","Std 1.2.4",{"$f":"Standards!D43","v":0}]
["1.2.5","Std 1.2.5",{"$f":"Standards!D44","v":0}]
["1.2.6.1","Std 1.2.6.1",{"$f":"Standards!D45","v":0}]
["1.2.6.2","Std 1.2.6.2",{"$f":"Standards!D46","v":0}]
["1.2.7.1","Std 1.2.7.1",{"$f":"Standards!D47","v":0}]
["1.2.7.2","Std 1.2.7.2",{"$f":"Standards!D48","v":0}]
["1.2.7.3","Std 1.2.7.3",{"$f":"Standards!D49","v":0}]
["1.2.7.3.1","Std 1.2.7.3.1",{"$f":"Standards!D50","v":0}]
["1.2.7.3.2","Std 1.2.7.3.2",{"$f":"Standards!D51","v":0}]
["1.2.7.3.3","Std 1.2.7.3.3",{"$f":"Standards!D52","v":0}]
["1.2.7.4","Std 1.2.7.4",{"$f":"Standards!D53","v":0}]
["1.2.7.5","Std 1.2.7.5",{"$f":"Standards!D54","v":0}]
["1.2 Total","Std 1.2 Total",{"$f":"Standards!D55","v":0}]
["1.2 Percentage","Std 1.2 Percentage",{"$f":"Standards!D56","v":{"v":0,"d":"0%"}}]
["1.3.1","Std 1.3.1",{"$f":"Standards!D62","v":0}]
["1.3.2","Std 1.3.2",{"$f":"Standards!D63","v":0}]
["1.3.3.1","Std 1.3.3.1",{"$f":"Standards!D64","v":0}]
["1.3.3.2","Std 1.3.3.2",{"$f":"Standards!D65","v":0}]
["1.3.4","Std 1.3.4",{"$f":"Standards!D66","v":0}]
["1.3.5.1","Std 1.3.5.1",{"$f":"Standards!D67","v":0}]
["1.3.6.1","Std 1.3.6.1",{"$f":"Standards!D68","v":0}]
["1.3.6.2","Std 1.3.6.2",{"$f":"Standards!D69","v":0}]
["1.3.6.3","Std 1.3.6.3",{"$f":"Standards!D70","v":0}]
["1.3.6.4","Std 1.3.6.4",{"$f":"Standards!D71","v":0}]
["1.3.7.1","Std 1.3.7.1",{"$f":"Standards!D72","v":0}]
["1.3.7.2","Std 1.3.7.2",{"$f":"Standards!D73","v":0}]
["1.3.7.3","Std 1.3.7.3",{"$f":"Standards!D74","v":0}]
["1.3.8.1","Std 1.3.8.1",{"$f":"Standards!D75","v":0}]
["1.3.8.2","Std 1.3.8.2",{"$f":"Standards!D76","v":0}]
["1.3.8.3","Std 1.3.8.3",{"$f":"Standards!D77","v":0}]
["1.3.8.6","Std 1.3.8.6",{"$f":"Standards!D78","v":0}]
["1.3 Total","Std 1.3 Total",{"$f":"Standards!D79","v":0}]
["1.3 Percentage","Std 1.3 Percentage",{"$f":"Standards!D80","v":0}]
["1.4.1.1",{"$f":"\"Std \" &A101","v":"Std 1.4.1.1"},{"$f":"Standards!D86","v":0}]
["1.4.1.2","Std 1.4.1.2",{"$f":"Standards!D87","v":0}]
["1.4.2.1","Std 1.4.2.1",{"$f":"Standards!D88","v":0}]
["1.4.2.2","Std 1.4.2.2",{"$f":"Standards!D89","v":0}]
["1.4.3","Std 1.4.3",{"$f":"Standards!D90","v":0}]
["1.4.4","Std 1.4.4",{"$f":"Standards!D91","v":0}]
["1.4.5.1","Std 1.4.5.1",{"$f":"Standards!D92","v":0}]
["1.4.5.2","Std 1.4.5.2",{"$f":"Standards!D93","v":0}]
["1.4.5.3","Std 1.4.5.3",{"$f":"Standards!D94","v":0}]
["1.4.6.1","Std 1.4.6.1",{"$f":"Standards!D95","v":0}]
["1.4.6.2","Std 1.4.6.2",{"$f":"Standards!D96","v":0}]
["1.4.7.1","Std 1.4.7.1",{"$f":"Standards!D97","v":0}]
["1.4.7.2","Std 1.4.7.2",{"$f":"Standards!D98","v":0}]
["1.4.7.3","Std 1.4.7.3",{"$f":"Standards!D99","v":0}]
["1.4.8.1","Std 1.4.8.1",{"$f":"Standards!D100","v":0}]
["1.4.8.2","Std 1.4.8.2",{"$f":"Standards!D101","v":0}]
["1.4.9","Std 1.4.9",{"$f":"Standards!D102","v":0}]
["1.4 Total","Std 1.4 Total",{"$f":"Standards!D103","v":0}]
["1.4 Percentage","Std 1.4 Percentage",{"$f":"Standards!D104","v":{"v":0,"d":"0%"}}]
["1.5.1.1","Std 1.5.1.1",{"$f":"Standards!D110","v":0}]
["1.5.1.2","Std 1.5.1.2",{"$f":"Standards!D111","v":0}]
["1.5.1.3","Std 1.5.1.3",{"$f":"Standards!D112","v":0}]
["1.5.2.1","Std 1.5.2.1",{"$f":"Standards!D113","v":0}]
["1.5.2.2","Std 1.5.2.2",{"$f":"Standards!D114","v":0}]
["1.5.2.3","Std 1.5.2.3",{"$f":"Standards!D115","v":0}]
["1.5.3.1","Std 1.5.3.1",{"$f":"Standards!D116","v":0}]
["1.5.3.2","Std 1.5.3.2",{"$f":"Standards!D117","v":0}]
["1.5.3.3","Std 1.5.3.3",{"$f":"Standards!D118","v":0}]
["1.5.3.4","Std 1.5.3.4",{"$f":"Standards!D119","v":0}]
["1.5.3.5","Std 1.5.3.5",{"$f":"Standards!D120","v":0}]
["1.5.4.1","Std 1.5.4.1",{"$f":"Standards!D121","v":0}]
["1.5.4.2","Std 1.5.4.2",{"$f":"Standards!D122","v":0}]
["1.5.4.3","Std 1.5.4.3",{"$f":"Standards!D123","v":0}]
["1.5 Total","Std 1.5 Total",{"$f":"Standards!D124","v":0}]
["1.5 Percentage","Std 1.5 Percentage",{"$f":"Standards!D125","v":0}]
["1.6.1.1","Std 1.6.1.1",{"$f":"Standards!D131","v":0}]
["1.6.1.2","Std 1.6.1.2",{"$f":"Standards!D132","v":0}]
["1.6.2","Std 1.6.2",{"$f":"Standards!D133","v":0}]
["1.6.3","Std 1.6.3",{"$f":"Standards!D134","v":0}]
["1.6.4","Std 1.6.4",{"$f":"Standards!D135","v":0}]
["1.6.5","Std 1.6.5",{"$f":"Standards!D136","v":0}]
["1.6.6","Std 1.6.6",{"$f":"Standards!D137","v":0}]
["1.6.7.1","Std 1.6.7.1",{"$f":"Standards!D138","v":0}]
["1.6.7.2","Std 1.6.7.2",{"$f":"Standards!D139","v":0}]
["1.6.8.1","Std 1.6.8.1",{"$f":"Standards!D140","v":0}]
["1.6.8.2.1","Std 1.6.8.2.1",{"$f":"Standards!D142","v":0}]
["1.6.8.2.2","Std 1.6.8.2.2",{"$f":"Standards!D143","v":0}]
["1.6.8.3","Std 1.6.8.3",{"$f":"Standards!D144","v":0}]
["1.6.8.4",{"$f":"\"Std \" &A149","v":"Std 1.6.8.4"},{"$f":"Standards!D145","v":0}]
["1.6.8.5","Std 1.6.8.5",{"$f":"Standards!D146","v":0}]
["1.6 Total","Std 1.6 Total",{"$f":"Standards!D147","v":0}]
["1.6 Percentage","Std 1.6 Percentage",{"$f":"Standards!D148","v":0}]
["2.1.1.1","Std 2.1.1.1",{"$f":"Standards!D154","v":0}]
["2.1.1.2","Std 2.1.1.2",{"$f":"Standards!D155","v":0}]
["2.1.1.3","Std 2.1.1.3",{"$f":"Standards!D156","v":0}]
["2.1.2.1","Std 2.1.2.1",{"$f":"Standards!D157","v":0}]
["2.1.2.2","Std 2.1.2.2",{"$f":"Standards!D158","v":0}]
["2.1.3","Std 2.1.3",{"$f":"Standards!D159","v":0}]
["2.1.4.1","Std 2.1.4.1",{"$f":"Standards!D160","v":0}]
["2.1.4.2","Std 2.1.4.2",{"$f":"Standards!D161","v":0}]
["2.1.5.1","Std 2.1.5.1",{"$f":"Standards!D162","v":0}]
["2.1.5.2","Std 2.1.5.2",{"$f":"Standards!D163","v":0}]
["2.1.5.3.1","Std 2.1.5.3.1",{"$f":"Standards!D165","v":0}]
["2.1.5.3.2","Std 2.1.5.3.2",{"$f":"Standards!D166","v":0}]
["2.1.5.3.3","Std 2.1.5.3.3",{"$f":"Standards!D167","v":0}]
["2.1.5.3.4","Std 2.1.5.3.4",{"$f":"Standards!D168","v":0}]
["2.1.5.3.5","Std 2.1.5.3.5",{"$f":"Standards!D169","v":0}]
["2.1.6.1","Std 2.1.6.1",{"$f":"Standards!D171","v":0}]
["2.1.6.2","Std 2.1.6.2",{"$f":"Standards!D172","v":0}]
["2.1.6.3","Std 2.1.6.3",{"$f":"Standards!D173","v":0}]
["2.1.6.4","Std 2.1.6.4",{"$f":"Standards!D174","v":0}]
["2.1.6.5","Std 2.1.6.5",{"$f":"Standards!D175","v":0}]
["2.1.7","Std 2.1.7",{"$f":"Standards!D176","v":0}]
["2.1.8.1","Std 2.1.8.1",{"$f":"Standards!D177","v":0}]
["2.1.8.2","Std 2.1.8.2",{"$f":"Standards!D178","v":0}]
["2.1.8.3","Std 2.1.8.3",{"$f":"Standards!D179","v":0}]
["2.1.8.4","Std 2.1.8.4",{"$f":"Standards!D180","v":0}]
["2.1.9","Std 2.1.9",{"$f":"Standards!D181","v":0}]
["2.1.10.1","Std 2.1.10.1",{"$f":"Standards!D182","v":0}]
["2.1.10.2","Std 2.1.10.2",{"$f":"Standards!D183","v":0}]
["2.1.10.3","Std 2.1.10.3",{"$f":"Standards!D184","v":0}]
["2.1.10.4","Std 2.1.10.4",{"$f":"Standards!D185","v":0}]
["2.1.10.5","Std 2.1.10.5",{"$f":"Standards!D186","v":0}]
["2.1 Total","Std 2.1 Total",{"$f":"Standards!D187","v":0}]
["2.1 Percentage","Std 2.1 Percentage",{"$f":"Standards!D188","v":{"v":0,"d":"0%"}}]
["2.2.1.1","Std 2.2.1.1",{"$f":"Standards!D195","v":0}]
["2.2.1.2","Std 2.2.1.2",{"$f":"Standards!D196","v":0}]
["2.2.1.3","Std 2.2.1.3",{"$f":"Standards!D197","v":0}]
["2.2.1.4.1","Std 2.2.1.4.1",{"$f":"Standards!D198","v":0}]
["2.2.1.4.2","Std 2.2.1.4.2",{"$f":"Standards!D199","v":0}]
["2.2.1.5","Std 2.2.1.5",{"$f":"Standards!D200","v":0}]
["2.2.1.6.1","Std 2.2.1.6.1",{"$f":"Standards!D201","v":0}]
["2.2.1.6.2","Std 2.2.1.6.2",{"$f":"Standards!D202","v":0}]
["2.2.1.7.1","Std 2.2.1.7.1",{"$f":"Standards!D203","v":0}]
["2.2.1.7.2","Std 2.2.1.7.2",{"$f":"Standards!D204","v":0}]
["2.2.1.8.1","Std 2.2.1.8.1",{"$f":"Standards!D205","v":0}]
["2.2.1.8.2","Std 2.2.1.8.2",{"$f":"Standards!D206","v":0}]
["2.2.1.8.3","Std 2.2.1.8.3",{"$f":"Standards!D207","v":0}]
["2.2.1.8.4","Std 2.2.1.8.4",{"$f":"Standards!D208","v":0}]
["2.2.1.8.5",{"$f":"\"Std \" &A200","v":"Std 2.2.1.8.5"},{"$f":"Standards!D209","v":0}]
["2.2 Total","Std 2.2 Total",{"$f":"Standards!D210","v":0}]
["2.2 Percentage","Std 2.2 Percentage",{"$f":"Standards!D211","v":{"v":0,"d":"0%"}}]
["2.2.2.1","Std 2.2.2.1",{"$f":"Standards!D218","v":0}]
["2.2.2.2","Std 2.2.2.2",{"$f":"Standards!D219","v":0}]
["2.2.2.3","Std 2.2.2.3",{"$f":"Standards!D220","v":0}]
["2.2.2.4","Std 2.2.2.4",{"$f":"Standards!D221","v":0}]
["2.2.2.5.1","Std 2.2.2.5.1",{"$f":"Standards!D222","v":0}]
["2.2.2.5.2","Std 2.2.2.5.2",{"$f":"Standards!D223","v":0}]
["2.2.2.6","Std 2.2.2.6",{"$f":"Standards!D224","v":0}]
["2.2.2.7","Std 2.2.2.7",{"$f":"Standards!D225","v":0}]
["2.2.2.8.1","Std 2.2.2.8.1",{"$f":"Standards!D226","v":0}]
["2.2.2.8.2","Std 2.2.2.8.2",{"$f":"Standards!D227","v":0}]
["2.2.2.9.1","Std 2.2.2.9.1",{"$f":"Standards!D228","v":0}]
["2.2.2.9.2","Std 2.2.2.9.2",{"$f":"Standards!D229","v":0}]
["2.2.2.10.1","Std 2.2.2.10.1",{"$f":"Standards!D230","v":0}]
["2.2.2.10.2","Std 2.2.2.10.2",{"$f":"Standards!D231","v":0}]
["2.2.2.10.3","Std 2.2.2.10.3",{"$f":"Standards!D232","v":0}]
["2.2.2.10.4","Std 2.2.2.10.4",{"$f":"Standards!D233","v":0}]
["2.2.2.10.5","Std 2.2.2.10.5",{"$f":"Standards!D234","v":0}]
["2.2.2 Total","Std 2.2.2 Total",{"$f":"Standards!D235","v":0}]
["2.2.2 Percentage","Std 2.2.2 Percentage",{"$f":"Standards!D236","v":{"v":0,"d":"0%"}}]
["2.2.3.1","Std 2.2.3.1",{"$f":"Standards!D242","v":0}]
["2.2.3.2","Std 2.2.3.2",{"$f":"Standards!D243","v":0}]
["2.2.3.3","Std 2.2.3.3",{"$f":"Standards!D244","v":0}]
["2.2.3.4.1","Std 2.2.3.4.1",{"$f":"Standards!D245","v":0}]
["2.2.3.4.2","Std 2.2.3.4.2",{"$f":"Standards!D246","v":0}]
["2.2.3.5","Std 2.2.3.5",{"$f":"Standards!D247","v":0}]
["2.2.3.6","Std 2.2.3.6",{"$f":"Standards!D248","v":0}]
["2.2.3.7.1","Std 2.2.3.7.1",{"$f":"Standards!D249","v":0}]
["2.2.3.7.2","Std 2.2.3.7.2",{"$f":"Standards!D250","v":0}]
["2.2.3.8.1","Std 2.2.3.8.1",{"$f":"Standards!D251","v":0}]
["2.2.3.8.2","Std 2.2.3.8.2",{"$f":"Standards!D252","v":0}]
["2.2.3.9.1","Std 2.2.3.9.1",{"$f":"Standards!D253","v":0}]
["2.2.3.9.2","Std 2.2.3.9.2",{"$f":"Standards!D254","v":0}]
["2.2.3.10.1","Std 2.2.3.10.1",{"$f":"Standards!D255","v":0}]
["2.2.3.10.2","Std 2.2.3.10.2",{"$f":"Standards!D256","v":0}]
["2.2.3.10.3","Std 2.2.3.10.3",{"$f":"Standards!D257","v":0}]
["2.2.3.10.4","Std 2.2.3.10.4",{"$f":"Standards!D258","v":0}]
["2.2.3.10.5","Std 2.2.3.10.5",{"$f":"Standards!D259","v":0}]
["2.2.3 Total","Std 2.2.3 Total",{"$f":"Standards!D260","v":0}]
["2.2.3 Percentage","Std 2.2.3 Percentage",{"$f":"Standards!D261","v":{"v":0,"d":"0%"}}]
["2.2.4.1","Std 2.2.4.1",{"$f":"Standards!D268","v":0}]
["2.2.4.2","Std 2.2.4.2",{"$f":"Standards!D269","v":0}]
["2.2.4.3.1","Std 2.2.4.3.1",{"$f":"Standards!D270","v":0}]
["2.2.4.3.2","Std 2.2.4.3.2",{"$f":"Standards!D271","v":0}]
["2.2.4.4","Std 2.2.4.4",{"$f":"Standards!D272","v":0}]
["2.2.4.5.1",{"$f":"\"Std \" &A247","v":"Std 2.2.4.5.1"},{"$f":"Standards!D273","v":0}]
["2.2.4.5.2","Std 2.2.4.5.2",{"$f":"Standards!D274","v":0}]
["2.2.4.6","Std 2.2.4.6",{"$f":"Standards!D275","v":0}]
["2.2.4.7.1","Std 2.2.4.7.1",{"$f":"Standards!D276","v":0}]
["2.2.4.7.2","Std 2.2.4.7.2",{"$f":"Standards!D277","v":0}]
["2.2.4.8.1","Std 2.2.4.8.1",{"$f":"Standards!D278","v":0}]
["2.2.4.8.2","Std 2.2.4.8.2",{"$f":"Standards!D279","v":0}]
["2.2.4.9.1","Std 2.2.4.9.1",{"$f":"Standards!D280","v":0}]
["2.2.4.9.2","Std 2.2.4.9.2",{"$f":"Standards!D281","v":0}]
["2.2.4.10.1","Std 2.2.4.10.1",{"$f":"Standards!D282","v":0}]
["2.2.4.10.2","Std 2.2.4.10.2",{"$f":"Standards!D283","v":0}]
["2.2.4.10.3","Std 2.2.4.10.3",{"$f":"Standards!D284","v":0}]
["2.2.4.10.4","Std 2.2.4.10.4",{"$f":"Standards!D285","v":0}]
["2.2.4.10.5","Std 2.2.4.10.5",{"$f":"Standards!D286","v":0}]
["2.2.4 Total","Std 2.2.4 Total",{"$f":"Standards!D287","v":0}]
["2.2.4 Percentage","Std 2.2.4 Percentage",{"$f":"Standards!D288","v":{"v":0,"d":"0%"}}]
["2.3.1","Std 2.3.1",{"$f":"Standards!D294","v":0}]
["2.3.2.1","Std 2.3.2.1",{"$f":"Standards!D295","v":0}]
["2.3.2.2","Std 2.3.2.2",{"$f":"Standards!D296","v":0}]
["2.3.3.1","Std 2.3.3.1",{"$f":"Standards!D297","v":0}]
["2.3.3.2","Std 2.3.3.2",{"$f":"Standards!D298","v":0}]
["2.3.3.3","Std 2.3.3.3",{"$f":"Standards!D299","v":0}]
["2.3.3.4","Std 2.3.3.4",{"$f":"Standards!D300","v":0}]
["2.3.3.5","Std 2.3.3.5",{"$f":"Standards!D301","v":0}]
["2.3.3.6","Std 2.3.3.6",{"$f":"Standards!D302","v":0}]
["2.3.3.7","Std 2.3.3.7",{"$f":"Standards!D303","v":0}]
["2.3.4","Std 2.3.4",{"$f":"Standards!D304","v":0}]
["2.3.5.1","Std 2.3.5.1",{"$f":"Standards!D305","v":0}]
["2.3.5.2","Std 2.3.5.2",{"$f":"Standards!D306","v":0}]
["2.3.6.1","Std 2.3.6.1",{"$f":"Standards!D307","v":0}]
["2.3.6.2","Std 2.3.6.2",{"$f":"Standards!D308","v":0}]
["2.3.7.1","Std 2.3.7.1",{"$f":"Standards!D309","v":0}]
["2.3.7.2","Std 2.3.7.2",{"$f":"Standards!D310","v":0}]
["2.3.7.3","Std 2.3.7.3",{"$f":"Standards!D311","v":0}]
["2.3.7.4","Std 2.3.7.4",{"$f":"Standards!D312","v":0}]
["2.3.8","Std 2.3.8",{"$f":"Standards!D313","v":0}]
["2.3.9","Std 2.3.9",{"$f":"Standards!D314","v":0}]
["2.3.10.1","Std 2.3.10.1",{"$f":"Standards!D315","v":0}]
["2.3.10.2","Std 2.3.10.2",{"$f":"Standards!D316","v":0}]
["2.3.10.3","Std 2.3.10.3",{"$f":"Standards!D317","v":0}]
["2.3.10.4","Std 2.3.10.4",{"$f":"Standards!D318","v":0}]
["2.3.11","Std 2.3.11",{"$f":"Standards!D319","v":0}]
["2.3.12","Std 2.3.12",{"$f":"Standards!D320","v":0}]
["2.3.13","Std 2.3.13",{"$f":"Standards!D321","v":0}]
["2.3.14.1","Std 2.3.14.1",{"$f":"Standards!D322","v":0}]
["2.3.14.2","Std 2.3.14.2",{"$f":"Standards!D323","v":0}]
["2.3.14.3","Std 2.3.14.3",{"$f":"Standards!D324","v":0}]
["2.3.15","Std 2.3.15",{"$f":"Standards!D325","v":0}]
["2.3.16.1","Std 2.3.16.1",{"$f":"Standards!D326","v":0}]
["2.3.16.2","Std 2.3.16.2",{"$f":"Standards!D327","v":0}]
["2.3.16.3","Std 2.3.16.3",{"$f":"Standards!D328","v":0}]
["2.3.16.4","Std 2.3.16.4",{"$f":"Standards!D329","v":0}]
["2.3 Total","Std 2.3 Total",{"$f":"Standards!D330","v":0}]
["2.3 Percentage","Std 2.3 Percentage",{"$f":"Standards!D331","v":{"v":0,"d":"0%"}}]
["2.4.1",{"$f":"\"Std \" &A301","v":"Std 2.4.1"},{"$f":"Standards!D337","v":0}]
["2.4.2","Std 2.4.2",{"$f":"Standards!D338","v":0}]
["2.4.3","Std 2.4.3",{"$f":"Standards!D339","v":0}]
["2.4.4","Std 2.4.4",{"$f":"Standards!D340","v":0}]
["2.4.5.1","Std 2.4.5.1",{"$f":"Standards!D341","v":0}]
["2.4.5.2","Std 2.4.5.2",{"$f":"Standards!D342","v":0}]
["2.4.6.1","Std 2.4.6.1",{"$f":"Standards!D343","v":0}]
["2.4.6.2","Std 2.4.6.2",{"$f":"Standards!D344","v":0}]
["2.4.6.3","Std 2.4.6.3",{"$f":"Standards!D345","v":0}]
["2.4.6.4","Std 2.4.6.4",{"$f":"Standards!D346","v":0}]
["2.4.6.5","Std 2.4.6.5",{"$f":"Standards!D347","v":0}]
["2.4.7","Std 2.4.7",{"$f":"Standards!D348","v":0}]
["2.4 Total","Std 2.4 Total",{"$f":"Standards!D349","v":0}]
["2.4 Percentage","Std 2.4 Percentage",{"$f":"Standards!D350","v":{"v":0,"d":"0%"}}]
["2.5.1","Std 2.5.1",{"$f":"Standards!D356","v":0}]
["2.5.2.1","Std 2.5.2.1",{"$f":"Standards!D358","v":0}]
["2.5.2.2","Std 2.5.2.2",{"$f":"Standards!D359","v":0}]
["2.5.3.1","Std 2.5.3.1",{"$f":"Standards!D360","v":0}]
["2.5.3.2","Std 2.5.3.2",{"$f":"Standards!D361","v":0}]
["2.5.3.3","Std 2.5.3.3",{"$f":"Standards!D362","v":0}]
["2.5.4.1","Std 2.5.4.1",{"$f":"Standards!D363","v":0}]
["2.5.4.2","Std 2.5.4.2",{"$f":"Standards!D364","v":0}]
["2.5.4.3","Std 2.5.4.3",{"$f":"Standards!D365","v":0}]
["2.5.4.4","Std 2.5.4.4",{"$f":"Standards!D366","v":0}]
["2.5.4.5","Std 2.5.4.5",{"$f":"Standards!D367","v":0}]
["2.5.4.6","Std 2.5.4.6",{"$f":"Standards!D368","v":0}]
["2.5.5","Std 2.5.5",{"$f":"Standards!D369","v":0}]
["2.5.6.1","Std 2.5.6.1",{"$f":"Standards!D370","v":0}]
["2.5.6.2","Std 2.5.6.2",{"$f":"Standards!D371","v":0}]
["2.5.6.3","Std 2.5.6.3",{"$f":"Standards!D372","v":0}]
["2.5.7","Std 2.5.7",{"$f":"Standards!D373","v":0}]
["2.5.8","Std 2.5.8",{"$f":"Standards!D374","v":0}]
["2.5.9","Std 2.5.9",{"$f":"Standards!D375","v":0}]
["2.5.10","Std 2.5.10",{"$f":"Standards!D376","v":0}]
["2.5.11","Std 2.5.11",{"$f":"Standards!D377","v":0}]
["2.5.12.1","Std 2.5.12.1",{"$f":"Standards!D378","v":0}]
["2.5.12.2","Std 2.5.12.2",{"$f":"Standards!D379","v":0}]
["2.5.12.3","Std 2.5.12.3",{"$f":"Standards!D380","v":0}]
["2.5.13.1","Std 2.5.13.1",{"$f":"Standards!D381","v":0}]
["2.5.13.2","Std 2.5.13.2",{"$f":"Standards!D382","v":0}]
["2.5.13.3","Std 2.5.13.3",{"$f":"Standards!D383","v":0}]
["2.5.14","Std 2.5.14",{"$f":"Standards!D384","v":0}]
["2.5.15.1","Std 2.5.15.1",{"$f":"Standards!D385","v":0}]
["2.5.15.2","Std 2.5.15.2",{"$f":"Standards!D386","v":0}]
["2.5.16","Std 2.5.16",{"$f":"Standards!D387","v":0}]
["2.5.17","Std 2.5.17",{"$f":"Standards!D388","v":0}]
["2.5.18.1","Std 2.5.18.1",{"$f":"Standards!D389","v":0}]
["2.5.18.2","Std 2.5.18.2",{"$f":"Standards!D390","v":0}]
["2.5.19","Std 2.5.19",{"$f":"Standards!D391","v":0}]
["2.5 Total","Std 2.5 Total",{"$f":"Standards!D392","v":0}]
["2.5 Percentage","Std 2.5 Percentage",{"$f":"Standards!D393","v":{"v":0,"d":"0%"}}]
["2.6.1.1","Std 2.6.1.1",{"$f":"Standards!D399","v":0}]
[" 2.6.1.2","Std  2.6.1.2",{"$f":"Standards!D400","v":0}]
["2.6.1.3",{"$f":"\"Std \" &A354","v":"Std 2.6.1.3"},{"$f":"Standards!D401","v":0}]
["2.6.2.1","Std 2.6.2.1",{"$f":"Standards!D403","v":0}]
["2.6.2.2","Std 2.6.2.2",{"$f":"Standards!D404","v":0}]
["2.6.2.3.1","Std 2.6.2.3.1",{"$f":"Standards!D405","v":0}]
["2.6.2.3.2","Std 2.6.2.3.2",{"$f":"Standards!D406","v":0}]
["2.6.3.1","Std 2.6.3.1",{"$f":"Standards!D408","v":0}]
["2.6.3.2","Std 2.6.3.2",{"$f":"Standards!D409","v":0}]
["2.6.3.3","Std 2.6.3.3",{"$f":"Standards!D410","v":0}]
["2.6.4","Std 2.6.4",{"$f":"Standards!D411","v":0}]
["2.6.5","Std 2.6.5",{"$f":"Standards!D412","v":0}]
["2.6.6","Std 2.6.6",{"$f":"Standards!D413","v":0}]
["2.6.7","Std 2.6.7",{"$f":"Standards!D414","v":0}]
["2.6.8.1","Std 2.6.8.1",{"$f":"Standards!D415","v":0}]
["2.6.8.2.1","Std 2.6.8.2.1",{"$f":"Standards!D417","v":0}]
["2.6.8.2.2","Std 2.6.8.2.2",{"$f":"Standards!D418","v":0}]
["2.6.8.2.3","Std 2.6.8.2.3",{"$f":"Standards!D419","v":0}]
["2.6.8.3","Std 2.6.8.3",{"$f":"Standards!D420","v":0}]
["2.6.9","Std 2.6.9",{"$f":"Standards!D421","v":0}]
["2.6.10.1","Std 2.6.10.1",{"$f":"Standards!D422","v":0}]
["2.6.10.2","Std 2.6.10.2",{"$f":"Standards!D423","v":0}]
["2.6.10.3","Std 2.6.10.3",{"$f":"Standards!D424","v":0}]
["2.6.10.4","Std 2.6.10.4",{"$f":"Standards!D425","v":0}]
["2.6.10.5","Std 2.6.10.5",{"$f":"Standards!D426","v":0}]
["2.6.11","Std 2.6.11",{"$f":"Standards!D427","v":0}]
["2.6.12","Std 2.6.12",{"$f":"Standards!D428","v":0}]
["2.6.13","Std 2.6.13",{"$f":"Standards!D429","v":0}]
["2.6.14.1","Std 2.6.14.1",{"$f":"Standards!D430","v":0}]
["2.6.14.2","Std 2.6.14.2",{"$f":"Standards!D431","v":0}]
["2.6.14.3","Std 2.6.14.3",{"$f":"Standards!D432","v":0}]
["2.6.14.4","Std 2.6.14.4",{"$f":"Standards!D433","v":0}]
["2.6.14.5","Std 2.6.14.5",{"$f":"Standards!D434","v":0}]
["2.6.14.6","Std 2.6.14.6",{"$f":"Standards!D435","v":0}]
["2.6 Total","Std 2.6 Total",{"$f":"Standards!D436","v":0}]
["2.6 Percentage","Std 2.6 Percentage",{"$f":"Standards!D437","v":{"v":0,"d":"0%"}}]
["2.7.1.1.1","Std 2.7.1.1.1",{"$f":"Standards!D444","v":0}]
["2.7.1.1.2","Std 2.7.1.1.2",{"$f":"Standards!D445","v":0}]
["2.7.1.1.3","Std 2.7.1.1.3",{"$f":"Standards!D446","v":0}]
["2.7.1.1.4","Std 2.7.1.1.4",{"$f":"Standards!D447","v":0}]
["2.7.1.2.1.1","Std 2.7.1.2.1.1",{"$f":"Standards!D449","v":0}]
["2.7.1.2.1.2","Std 2.7.1.2.1.2",{"$f":"Standards!D450","v":0}]
["2.7.1.2.1.3","Std 2.7.1.2.1.3",{"$f":"Standards!D451","v":0}]
["2.7.1.2.2","Std 2.7.1.2.2",{"$f":"Standards!D452","v":0}]
["2.7.1.3","Std 2.7.1.3",{"$f":"Standards!D453","v":0}]
["2.7.1.4","Std 2.7.1.4",{"$f":"Standards!D454","v":0}]
["2.7.1.5","Std 2.7.1.5",{"$f":"Standards!D455","v":0}]
["2.7.1.6","Std 2.7.1.6",{"$f":"Standards!D456","v":0}]
["2.7.1.7.1","Std 2.7.1.7.1",{"$f":"Standards!D457","v":0}]
["2.7.1.7.2","Std 2.7.1.7.2",{"$f":"Standards!D458","v":0}]
["2.7.1.7.3","Std 2.7.1.7.3",{"$f":"Standards!D459","v":0}]
["2.7.1.8","Std 2.7.1.8",{"$f":"Standards!D460","v":0}]
[" 2.7.1.9.1","Std  2.7.1.9.1",{"$f":"Standards!D461","v":0}]
["2.7.1.9.2","Std 2.7.1.9.2",{"$f":"Standards!D462","v":0}]
["2.7.1.9.3","Std 2.7.1.9.3",{"$f":"Standards!D463","v":0}]
["2.7.1.9.4","Std 2.7.1.9.4",{"$f":"Standards!D464","v":0}]
["2.7.1.10.1",{"$f":"\"Std \" &A408","v":"Std 2.7.1.10.1"},{"$f":"Standards!D465","v":0}]
["2.7.1.10.2","Std 2.7.1.10.2",{"$f":"Standards!D466","v":0}]
["2.7.1.10.3","Std 2.7.1.10.3",{"$f":"Standards!D467","v":0}]
["2.7.1.11.1","Std 2.7.1.11.1",{"$f":"Standards!D468","v":0}]
["2.7.1.11.2","Std 2.7.1.11.2",{"$f":"Standards!D469","v":0}]
["2.7.1.11.3","Std 2.7.1.11.3",{"$f":"Standards!D470","v":0}]
["2.7.1.11.4","Std 2.7.1.11.4",{"$f":"Standards!D471","v":0}]
["2.7.1.11.5","Std 2.7.1.11.5",{"$f":"Standards!D472","v":0}]
["2.7.1.11.6","Std 2.7.1.11.6",{"$f":"Standards!D473","v":0}]
["2.7.1.11.7","Std 2.7.1.11.7",{"$f":"Standards!D474","v":0}]
["2.7.1.11.8","Std 2.7.1.11.8",{"$f":"Standards!D475","v":0}]
["2.7.1.11.9","Std 2.7.1.11.9",{"$f":"Standards!D476","v":0}]
["2.7.1.11.10","Std 2.7.1.11.10",{"$f":"Standards!D477","v":0}]
["2.7 Total","Std 2.7 Total",{"$f":"Standards!D478","v":0}]
["2.7 Percentage","Std 2.7 Percentage",{"$f":"Standards!D479","v":{"v":0,"d":"0%"}}]
["2.7.2.1.1","Std 2.7.2.1.1",{"$f":"Standards!D486","v":0}]
["2.7.2.1.2","Std 2.7.2.1.2",{"$f":"Standards!D487","v":0}]
["2.7.2.1.3","Std 2.7.2.1.3",{"$f":"Standards!D488","v":0}]
["2.7.2.1.4","Std 2.7.2.1.4",{"$f":"Standards!D489","v":0}]
["2.7.2.2","Std 2.7.2.2",{"$f":"Standards!D490","v":0}]
["2.7.2.3","Std 2.7.2.3",{"$f":"Standards!D491","v":0}]
["2.7.2.4.1","Std 2.7.2.4.1",{"$f":"Standards!D492","v":0}]
["2.7.2.4.2","Std 2.7.2.4.2",{"$f":"Standards!D493","v":0}]
["2.7.2.5","Std 2.7.2.5",{"$f":"Standards!D494","v":0}]
["2.7.2.6","Std 2.7.2.6",{"$f":"Standards!D495","v":0}]
["2.7.2.7.1","Std 2.7.2.7.1",{"$f":"Standards!D496","v":0}]
["2.7.2.7.2","Std 2.7.2.7.2",{"$f":"Standards!D497","v":0}]
["2.7.2.7.3","Std 2.7.2.7.3",{"$f":"Standards!D498","v":0}]
["2.7.2.8.1","Std 2.7.2.8.1",{"$f":"Standards!D499","v":0}]
["2.7.2.8.2","Std 2.7.2.8.2",{"$f":"Standards!D500","v":0}]
["2.7.2.8.3","Std 2.7.2.8.3",{"$f":"Standards!D501","v":0}]
["2.7.2.8.4","Std 2.7.2.8.4",{"$f":"Standards!D502","v":0}]
["2.7.2.8.5","Std 2.7.2.8.5",{"$f":"Standards!D503","v":0}]
[" 2.7.2.9","Std  2.7.2.9",{"$f":"Standards!D504","v":0}]
["2.7.2.10","Std 2.7.2.10",{"$f":"Standards!D505","v":0}]
["2.7.2.11","Std 2.7.2.11",{"$f":"Standards!D506","v":0}]
["2.7.2.12.1","Std 2.7.2.12.1",{"$f":"Standards!D507","v":0}]
["2.7.2.12.2","Std 2.7.2.12.2",{"$f":"Standards!D508","v":0}]
["2.7.2.12.3","Std 2.7.2.12.3",{"$f":"Standards!D509","v":0}]
["2.7.2.12.4","Std 2.7.2.12.4",{"$f":"Standards!D510","v":0}]
["2.7.2.12.5","Std 2.7.2.12.5",{"$f":"Standards!D511","v":0}]
["2.7.2.12.6","Std 2.7.2.12.6",{"$f":"Standards!D512","v":0}]
["2.7 Total","Std 2.7 Total",{"$f":"Standards!D513","v":0}]
["2.7 Percentage","Std 2.7 Percentage",{"$f":"Standards!D514","v":{"v":0,"d":"0%"}}]
["2.8.1.1.1","Std 2.8.1.1.1",{"$f":"Standards!D520","v":0}]
["2.8.1.1.2","Std 2.8.1.1.2",{"$f":"Standards!D521","v":0}]
["2.8.1.2","Std 2.8.1.2",{"$f":"Standards!D522","v":0}]
["2.8.1.3","Std 2.8.1.3",{"$f":"Standards!D523","v":0}]
["2.8.2.1","Std 2.8.2.1",{"$f":"Standards!D524","v":0}]
["2.8.2.2","Std 2.8.2.2",{"$f":"Standards!D525","v":0}]
["2.8.2.3","Std 2.8.2.3",{"$f":"Standards!D526","v":0}]
["2.8.2.4","Std 2.8.2.4",{"$f":"Standards!D527","v":0}]
["2.8.3.1","Std 2.8.3.1",{"$f":"Standards!D528","v":0}]
["2.8.3.2",{"$f":"\"Std \" &A461","v":"Std 2.8.3.2"},{"$f":"Standards!D529","v":0}]
["2.8.3.3","Std 2.8.3.3",{"$f":"Standards!D530","v":0}]
["2.8.4.1","Std 2.8.4.1",{"$f":"Standards!D531","v":0}]
["2.8.4.2","Std 2.8.4.2",{"$f":"Standards!D532","v":0}]
["2.8.4.3","Std 2.8.4.3",{"$f":"Standards!D533","v":0}]
["2.8.5","Std 2.8.5",{"$f":"Standards!D534","v":0}]
["2.8.6","Std 2.8.6",{"$f":"Standards!D535","v":0}]
["2.8.7.1","Std 2.8.7.1",{"$f":"Standards!D536","v":0}]
["2.8.7.2","Std 2.8.7.2",{"$f":"Standards!D537","v":0}]
["2.8.7.3","Std 2.8.7.3",{"$f":"Standards!D538","v":0}]
["2.8.7.4","Std 2.8.7.4",{"$f":"Standards!D539","v":0}]
["2.8.8.1.1","Std 2.8.8.1.1",{"$f":"Standards!D541","v":0}]
["2.8.8.1.2","Std 2.8.8.1.2",{"$f":"Standards!D542","v":0}]
["2.8.8.1.3","Std 2.8.8.1.3",{"$f":"Standards!D543","v":0}]
["2.8.8.1.4","Std 2.8.8.1.4",{"$f":"Standards!D544","v":0}]
["2.8.8.2","Std 2.8.8.2",{"$f":"Standards!D545","v":0}]
["2.8.8.3","Std 2.8.8.3",{"$f":"Standards!D546","v":0}]
["2.8.8.4.1","Std 2.8.8.4.1",{"$f":"Standards!D547","v":0}]
["2.8.9.1","Std 2.8.9.1",{"$f":"Standards!D548","v":0}]
["2.8.9.2","Std 2.8.9.2",{"$f":"Standards!D549","v":0}]
["2.8.9.3","Std 2.8.9.3",{"$f":"Standards!D550","v":0}]
["2.8.9.4","Std 2.8.9.4",{"$f":"Standards!D551","v":0}]
["2.8.9.5","Std 2.8.9.5",{"$f":"Standards!D552","v":0}]
["2.8.9.6","Std 2.8.9.6",{"$f":"Standards!D553","v":0}]
["2.8.10.1","Std 2.8.10.1",{"$f":"Standards!D554","v":0}]
["2.8.10.2","Std 2.8.10.2",{"$f":"Standards!D555","v":0}]
["2.8.11.1","Std 2.8.11.1",{"$f":"Standards!D557","v":0}]
["2.8.11.2","Std 2.8.11.2",{"$f":"Standards!D558","v":0}]
["2.8.11.3","Std 2.8.11.3",{"$f":"Standards!D559","v":0}]
["2.8.11.4","Std 2.8.11.4",{"$f":"Standards!D560","v":0}]
["2.8.11.5","Std 2.8.11.5",{"$f":"Standards!D561","v":0}]
["2.8.11.6","Std 2.8.11.6",{"$f":"Standards!D562","v":0}]
["2.8.11.7","Std 2.8.11.7",{"$f":"Standards!D563","v":0}]
["2.8.11.8","Std 2.8.11.8",{"$f":"Standards!D564","v":0}]
["2.8 Total","Std 2.8 Total",{"$f":"Standards!D565","v":0}]
["2.8 Percentage","Std 2.8 Percentage",{"$f":"Standards!D566","v":{"v":0,"d":"0%"}}]
["2.9.1.1.1.1","Std 2.9.1.1.1.1",{"$f":"Standards!D573","v":0}]
["2.9.1.1.1.2","Std 2.9.1.1.1.2",{"$f":"Standards!D574","v":0}]
["2.9.1.1.1.3","Std 2.9.1.1.1.3",{"$f":"Standards!D575","v":0}]
["2.9.1.1.2","Std 2.9.1.1.2",{"$f":"Standards!D576","v":0}]
["2.9.1.1.3.1","Std 2.9.1.1.3.1",{"$f":"Standards!D577","v":0}]
["2.9.1.1.4.1","Std 2.9.1.1.4.1",{"$f":"Standards!D578","v":0}]
["2.9.1.1.4.2","Std 2.9.1.1.4.2",{"$f":"Standards!D579","v":0}]
["2.9.1.1.4.3","Std 2.9.1.1.4.3",{"$f":"Standards!D580","v":0}]
["2.9.1.1.5","Std 2.9.1.1.5",{"$f":"Standards!D581","v":0}]
["2.9.1.1.6.1","Std 2.9.1.1.6.1",{"$f":"Standards!D582","v":0}]
["2.9.1.1.6.2","Std 2.9.1.1.6.2",{"$f":"Standards!D583","v":0}]
["2.9.1.1.6.3","Std 2.9.1.1.6.3",{"$f":"Standards!D584","v":0}]
["2.9.1.1.7.1","Std 2.9.1.1.7.1",{"$f":"Standards!D585","v":0}]
["2.9.1.1.7.2","Std 2.9.1.1.7.2",{"$f":"Standards!D586","v":0}]
["2.9.1.1.7.3","Std 2.9.1.1.7.3",{"$f":"Standards!D587","v":0}]
["2.9.1.1.8.1","Std 2.9.1.1.8.1",{"$f":"Standards!D588","v":0}]
["2.9.1.1.8.2","Std 2.9.1.1.8.2",{"$f":"Standards!D589","v":0}]
["2.9.1.1.9.1","Std 2.9.1.1.9.1",{"$f":"Standards!D590","v":0}]
["2.9.1.1.9.2","Std 2.9.1.1.9.2",{"$f":"Standards!D591","v":0}]
["2.9.1.1.10.1","Std 2.9.1.1.10.1",{"$f":"Standards!D592","v":0}]
["2.9.1.1.10.2",{"$f":"\"Std \" &A517","v":"Std 2.9.1.1.10.2"},{"$f":"Standards!D593","v":0}]
["2.9.1.1.10.3","Std 2.9.1.1.10.3",{"$f":"Standards!D594","v":0}]
["2.9.1.1.10.4","Std 2.9.1.1.10.4",{"$f":"Standards!D595","v":0}]
["2.9.1.1.10.5","Std 2.9.1.1.10.5",{"$f":"Standards!D596","v":0}]
["2.9.1.1.10.6","Std 2.9.1.1.10.6",{"$f":"Standards!D597","v":0}]
["2.9.1.1.10.7","Std 2.9.1.1.10.7",{"$f":"Standards!D598","v":0}]
["2.9 Total","Std 2.9 Total",{"$f":"Standards!D599","v":0}]
["2.9Percentage","Std 2.9Percentage",{"$f":"Standards!D600","v":{"v":0,"d":"0%"}}]
[" 2.9.1.2.1","Std  2.9.1.2.1",{"$f":"Standards!D606","v":0}]
["2.9.1.2.2","Std 2.9.1.2.2",{"$f":"Standards!D607","v":0}]
["2.9.1.2.3.1","Std 2.9.1.2.3.1",{"$f":"Standards!D608","v":0}]
["2.9.1.2.3.2","Std 2.9.1.2.3.2",{"$f":"Standards!D609","v":0}]
["2.9.1.2.3.3","Std 2.9.1.2.3.3",{"$f":"Standards!D610","v":0}]
["2.9.1.2.3.4","Std 2.9.1.2.3.4",{"$f":"Standards!D611","v":0}]
["2.9.1.2.4","Std 2.9.1.2.4",{"$f":"Standards!D612","v":0}]
["2.9.1.2.5","Std 2.9.1.2.5",{"$f":"Standards!D613","v":0}]
["2.9.1.2.6.1","Std 2.9.1.2.6.1",{"$f":"Standards!D614","v":0}]
["2.9.1.2.6.2","Std 2.9.1.2.6.2",{"$f":"Standards!D615","v":0}]
["2.9.1.2.7.1","Std 2.9.1.2.7.1",{"$f":"Standards!D616","v":0}]
["2.9.1.2.7.2","Std 2.9.1.2.7.2",{"$f":"Standards!D617","v":0}]
["2.9.1.2.7.3","Std 2.9.1.2.7.3",{"$f":"Standards!D618","v":0}]
["2.9.1.2.7.4","Std 2.9.1.2.7.4",{"$f":"Standards!D619","v":0}]
["2.9.1.2.8.1","Std 2.9.1.2.8.1",{"$f":"Standards!D620","v":0}]
["2.9.1.2.8.2","Std 2.9.1.2.8.2",{"$f":"Standards!D621","v":0}]
["2.9.1.2.9.1","Std 2.9.1.2.9.1",{"$f":"Standards!D622","v":0}]
["2.9.1.2.9.2","Std 2.9.1.2.9.2",{"$f":"Standards!D623","v":0}]
["2.9.1.2.9.3","Std 2.9.1.2.9.3",{"$f":"Standards!D624","v":0}]
["2.9.1.2.9.4","Std 2.9.1.2.9.4",{"$f":"Standards!D625","v":0}]
["2.9.1.2.9.5","Std 2.9.1.2.9.5",{"$f":"Standards!D626","v":0}]
["2.9.1.2.9.6","Std 2.9.1.2.9.6",{"$f":"Standards!D627","v":0}]
["2.9.1.2.9.7","Std 2.9.1.2.9.7",{"$f":"Standards!D628","v":0}]
["2.9.1 Total","Std 2.9.1 Total",{"$f":"Standards!D629","v":0}]
["2.9.1 Pecentage","Std 2.9.1 Pecentage",{"$f":"Standards!D630","v":{"v":0,"d":"0%"}}]
["2.9.2.1.1","Std 2.9.2.1.1",{"$f":"Standards!D636","v":0}]
["2.9.2.1.2","Std 2.9.2.1.2",{"$f":"Standards!D637","v":0}]
["2.9.2.2","Std 2.9.2.2",{"$f":"Standards!D638","v":0}]
["2.9.2.3","Std 2.9.2.3",{"$f":"Standards!D639","v":0}]
["2.9.2.4","Std 2.9.2.4",{"$f":"Standards!D640","v":0}]
["2.9.2.5.1","Std 2.9.2.5.1",{"$f":"Standards!D641","v":0}]
["2.9.2.5.2","Std 2.9.2.5.2",{"$f":"Standards!D642","v":0}]
["2.9.2.6.1","Std 2.9.2.6.1",{"$f":"Standards!D643","v":0}]
["2.9.2.6.2","Std 2.9.2.6.2",{"$f":"Standards!D644","v":0}]
["2.9.2.6.3","Std 2.9.2.6.3",{"$f":"Standards!D645","v":0}]
["2.9.2.7","Std 2.9.2.7",{"$f":"Standards!D646","v":0}]
["2.9.2.8","Std 2.9.2.8",{"$f":"Standards!D647","v":0}]
["2.9.2.9.1","Std 2.9.2.9.1",{"$f":"Standards!D648","v":0}]
["2.9.2.9.2","Std 2.9.2.9.2",{"$f":"Standards!D649","v":0}]
["2.9.2.10","Std 2.9.2.10",{"$f":"Standards!D650","v":0}]
["2.9.2.11.1","Std 2.9.2.11.1",{"$f":"Standards!D651","v":0}]
["2.9.2.11.2","Std 2.9.2.11.2",{"$f":"Standards!D652","v":0}]
["2.9.2.11.3","Std 2.9.2.11.3",{"$f":"Standards!D653","v":0}]
["2.9.2.11.4","Std 2.9.2.11.4",{"$f":"Standards!D654","v":0}]
["2.9.2 Total","Std 2.9.2 Total",{"$f":"Standards!D655","v":0}]
["2.9.2 Percentage","Std 2.9.2 Percentage",{"$f":"Standards!D656","v":{"v":0,"d":"0%"}}]
["2.9.3.1",{"$f":"\"Std \" &A571","v":"Std 2.9.3.1"},{"$f":"Standards!D662","v":0}]
["2.9.3.2","Std 2.9.3.2",{"$f":"Standards!D663","v":0}]
["2.9.3.3","Std 2.9.3.3",{"$f":"Standards!D664","v":0}]
["2.9.3.4","Std 2.9.3.4",{"$f":"Standards!D665","v":0}]
["2.9.3.5","Std 2.9.3.5",{"$f":"Standards!D666","v":0}]
["2.9.3.6.1","Std 2.9.3.6.1",{"$f":"Standards!D667","v":0}]
["2.9.3.6.2","Std 2.9.3.6.2",{"$f":"Standards!D668","v":0}]
["2.9.3.7","Std 2.9.3.7",{"$f":"Standards!D669","v":0}]
["2.9.3.8.1","Std 2.9.3.8.1",{"$f":"Standards!D670","v":0}]
["2.9.3.8.2","Std 2.9.3.8.2",{"$f":"Standards!D671","v":0}]
["2.9.3.9.1","Std 2.9.3.9.1",{"$f":"Standards!D672","v":0}]
["2.9.3.9.2","Std 2.9.3.9.2",{"$f":"Standards!D673","v":0}]
["2.9.3 Total","Std 2.9.3 Total",{"$f":"Standards!D674","v":0}]
["2.9.3 Percentage","Std 2.9.3 Percentage",{"$f":"Standards!D675","v":{"v":0,"d":"0%"}}]
["2.9.4.1","Std 2.9.4.1",{"$f":"Standards!D681","v":0}]
["2.9.4.2","Std 2.9.4.2",{"$f":"Standards!D682","v":0}]
["2.9.4.3","Std 2.9.4.3",{"$f":"Standards!D683","v":0}]
["2.9.4.4","Std 2.9.4.4",{"$f":"Standards!D684","v":0}]
["2.9.4.5","Std 2.9.4.5",{"$f":"Standards!D685","v":0}]
["2.9.4.6.1","Std 2.9.4.6.1",{"$f":"Standards!D686","v":0}]
["2.9.4.6.2","Std 2.9.4.6.2",{"$f":"Standards!D687","v":0}]
["2.9.4.7.1","Std 2.9.4.7.1",{"$f":"Standards!D688","v":0}]
["2.9.4.7.2","Std 2.9.4.7.2",{"$f":"Standards!D689","v":0}]
["2.9.4 Total","Std 2.9.4 Total",{"$f":"Standards!D690","v":0}]
["2.9.4 Percentage","Std 2.9.4 Percentage",{"$f":"Standards!D691","v":{"v":0,"d":"0%"}}]
["2.10.1.1","Std 2.10.1.1",{"$f":"Standards!D697","v":0}]
["2.10.1.2","Std 2.10.1.2",{"$f":"Standards!D698","v":0}]
["2.10.1.3","Std 2.10.1.3",{"$f":"Standards!D699","v":0}]
["2.10..2","Std 2.10..2",{"$f":"Standards!D700","v":0}]
["2.10.3","Std 2.10.3",{"$f":"Standards!D701","v":0}]
["2.10.4.1","Std 2.10.4.1",{"$f":"Standards!D702","v":0}]
[" 2.10.4.2","Std  2.10.4.2",{"$f":"Standards!D703","v":0}]
["2.10.5.1","Std 2.10.5.1",{"$f":"Standards!D704","v":0}]
["2.10.5.2","Std 2.10.5.2",{"$f":"Standards!D705","v":0}]
["2.10.5.3","Std 2.10.5.3",{"$f":"Standards!D706","v":0}]
["2.10.6.1","Std 2.10.6.1",{"$f":"Standards!D707","v":0}]
["2.10.7","Std 2.10.7",{"$f":"Standards!D708","v":0}]
["2.10.8","Std 2.10.8",{"$f":"Standards!D709","v":0}]
["2.10.9.1","Std 2.10.9.1",{"$f":"Standards!D710","v":0}]
["2.10.9.2","Std 2.10.9.2",{"$f":"Standards!D711","v":0}]
["2.10.9.3","Std 2.10.9.3",{"$f":"Standards!D712","v":0}]
["2.10.9.4","Std 2.10.9.4",{"$f":"Standards!D713","v":0}]
["2.10.9.5","Std 2.10.9.5",{"$f":"Standards!D714","v":0}]
["2.10 Total","Std 2.10 Total",{"$f":"Standards!D715","v":0}]
["2.10 Percentage","Std 2.10 Percentage",{"$f":"Standards!D716","v":{"v":0,"d":"0%"}}]
["2.11.1.1.1",{"$f":"\"Std \" &A616","v":"Std 2.11.1.1.1"},{"$f":"Standards!D722","v":0}]
["2.11.1.1.2","Std 2.11.1.1.2",{"$f":"Standards!D723","v":0}]
["2.11.1.1.3","Std 2.11.1.1.3",{"$f":"Standards!D724","v":0}]
["2.11.1.1.4","Std 2.11.1.1.4",{"$f":"Standards!D725","v":0}]
["2.11.2","Std 2.11.2",{"$f":"Standards!D726","v":0}]
["2.11.3","Std 2.11.3",{"$f":"Standards!D727","v":0}]
["2.11.4","Std 2.11.4",{"$f":"Standards!D728","v":0}]
["2.11.5","Std 2.11.5",{"$f":"Standards!D729","v":0}]
["2.11.6","Std 2.11.6",{"$f":"Standards!D730","v":0}]
["2.11.7.1 ","Std 2.11.7.1 ",{"$f":"Standards!D731","v":0}]
["2.11.7.2","Std 2.11.7.2",{"$f":"Standards!D732","v":0}]
["2.11.7.3","Std 2.11.7.3",{"$f":"Standards!D733","v":0}]
["2.11.7.4","Std 2.11.7.4",{"$f":"Standards!D734","v":0}]
[" 2.11.7.5","Std  2.11.7.5",{"$f":"Standards!D735","v":0}]
["2.11 Total","Std 2.11 Total",{"$f":"Standards!D736","v":0}]
["2.11 Percentage","Std 2.11 Percentage",{"$f":"Standards!D737","v":{"v":0,"d":"0%"}}]
["2.12.1","Std 2.12.1",{"$f":"Standards!D743","v":0}]
["2.12.2","Std 2.12.2",{"$f":"Standards!D744","v":0}]
["2.12.3","Std 2.12.3",{"$f":"Standards!D745","v":0}]
["2.12.4.1","Std 2.12.4.1",{"$f":"Standards!D746","v":0}]
["2.12.4.2","Std 2.12.4.2",{"$f":"Standards!D747","v":0}]
["2.12.5","Std 2.12.5",{"$f":"Standards!D748","v":0}]
["2.12.6","Std 2.12.6",{"$f":"Standards!D749","v":0}]
["2.12.7.1","Std 2.12.7.1",{"$f":"Standards!D750","v":0}]
["2.12.7.2","Std 2.12.7.2",{"$f":"Standards!D751","v":0}]
["2.12.7.3","Std 2.12.7.3",{"$f":"Standards!D752","v":0}]
["2.12.7.4","Std 2.12.7.4",{"$f":"Standards!D753","v":0}]
["2.12 Total","Std 2.12 Total",{"$f":"Standards!D754","v":0}]
["2.12 Percentage","Std 2.12 Percentage",{"$f":"Standards!D755","v":{"v":0,"d":"0%"}}]
["2.13.1","Std 2.13.1",{"$f":"Standards!D761","v":0}]
["2.13.2","Std 2.13.2",{"$f":"Standards!D762","v":0}]
["2.13.3.1","Std 2.13.3.1",{"$f":"Standards!D763","v":0}]
["2.13.3.2","Std 2.13.3.2",{"$f":"Standards!D764","v":0}]
["2.13.4","Std 2.13.4",{"$f":"Standards!D765","v":0}]
["2.13.5.1","Std 2.13.5.1",{"$f":"Standards!D766","v":0}]
[" 2.13.5.2","Std  2.13.5.2",{"$f":"Standards!D767","v":0}]
[" 2.13.6.1","Std  2.13.6.1",{"$f":"Standards!D768","v":0}]
[" 2.13.6.2","Std  2.13.6.2",{"$f":"Standards!D769","v":0}]
[" 2.13.6.3","Std  2.13.6.3",{"$f":"Standards!D770","v":0}]
["2.13.7.1","Std 2.13.7.1",{"$f":"Standards!D771","v":0}]
["2.13.7.2","Std 2.13.7.2",{"$f":"Standards!D772","v":0}]
["2.13.8.1","Std 2.13.8.1",{"$f":"Standards!D773","v":0}]
["2.13.8.2","Std 2.13.8.2",{"$f":"Standards!D774","v":0}]
["2.13.9.1","Std 2.13.9.1",{"$f":"Standards!D775","v":0}]
["2.13.9.2","Std 2.13.9.2",{"$f":"Standards!D776","v":0}]
["2.13.10.1","Std 2.13.10.1",{"$f":"Standards!D777","v":0}]
["2.13.10.2","Std 2.13.10.2",{"$f":"Standards!D778","v":0}]
["2.13.11.1","Std 2.13.11.1",{"$f":"Standards!D779","v":0}]
[" 2.13.11.2","Std  2.13.11.2",{"$f":"Standards!D780","v":0}]
[" 2.13.11.3","Std  2.13.11.3",{"$f":"Standards!D781","v":0}]
["2.13.11.4","Std 2.13.11.4",{"$f":"Standards!D782","v":0}]
["2.13.12.1","Std 2.13.12.1",{"$f":"Standards!D783","v":0}]
["2.13.12.2","Std 2.13.12.2",{"$f":"Standards!D784","v":0}]
["2.13.12.3",{"$f":"\"Std \" &A669","v":"Std 2.13.12.3"},{"$f":"Standards!D785","v":0}]
["2.13.12.4","Std 2.13.12.4",{"$f":"Standards!D786","v":0}]
["2.13.12.5","Std 2.13.12.5",{"$f":"Standards!D787","v":0}]
["2.13 Total","Std 2.13 Total",{"$f":"Standards!D788","v":0}]
["2.13 Percentage","Std 2.13 Percentage",{"$f":"Standards!D789","v":{"v":0,"d":"0%"}}]
["2.14.1","Std 2.14.1",{"$f":"Standards!D795","v":0}]
["2.14.2.1 ","Std 2.14.2.1 ",{"$f":"Standards!D796","v":0}]
["2.14.2.2","Std 2.14.2.2",{"$f":"Standards!D797","v":0}]
["2.14.3","Std 2.14.3",{"$f":"Standards!D798","v":0}]
["2.14.4","Std 2.14.4",{"$f":"Standards!D799","v":0}]
["2.14.5","Std 2.14.5",{"$f":"Standards!D800","v":0}]
["2.14.6","Std 2.14.6",{"$f":"Standards!D801","v":0}]
["2.14.7","Std 2.14.7",{"$f":"Standards!D802","v":0}]
["2.14.8.1","Std 2.14.8.1",{"$f":"Standards!D803","v":0}]
["2.14.8.2","Std 2.14.8.2",{"$f":"Standards!D804","v":0}]
["2.14.9","Std 2.14.9",{"$f":"Standards!D805","v":0}]
["2.14.10.1","Std 2.14.10.1",{"$f":"Standards!D806","v":0}]
["2.14.10.2","Std 2.14.10.2",{"$f":"Standards!D807","v":0}]
["2.14.11.1","Std 2.14.11.1",{"$f":"Standards!D808","v":0}]
["2.14.12.1","Std 2.14.12.1",{"$f":"Standards!D809","v":0}]
["2.14.12.2","Std 2.14.12.2",{"$f":"Standards!D810","v":0}]
["2.14.12.3","Std 2.14.12.3",{"$f":"Standards!D811","v":0}]
["2.14.12.4","Std 2.14.12.4",{"$f":"Standards!D812","v":0}]
["2.14.12.5","Std 2.14.12.5",{"$f":"Standards!D813","v":0}]
["2.14 Total","Std 2.14 Total",{"$f":"Standards!D814","v":0}]
["2.14 Percentage","Std 2.14 Percentage",{"$f":"Standards!D815","v":{"v":0,"d":"0%"}}]
["3.1.1.1","Std 3.1.1.1",{"$f":"Standards!D821","v":0}]
["3.1.1.2","Std 3.1.1.2",{"$f":"Standards!D822","v":0}]
["3.1.2","Std 3.1.2",{"$f":"Standards!D823","v":0}]
["3.1.3","Std 3.1.3",{"$f":"Standards!D824","v":0}]
["3.1.4","Std 3.1.4",{"$f":"Standards!D825","v":0}]
["3.1.5.1","Std 3.1.5.1",{"$f":"Standards!D826","v":0}]
["3.1.5.2","Std 3.1.5.2",{"$f":"Standards!D827","v":0}]
["3.1.5.3","Std 3.1.5.3",{"$f":"Standards!D828","v":0}]
["3.1.6","Std 3.1.6",{"$f":"Standards!D829","v":0}]
["3.1.7","Std 3.1.7",{"$f":"Standards!D830","v":0}]
["3.1.8.1","Std 3.1.8.1",{"$f":"Standards!D831","v":0}]
["3.1.8.2","Std 3.1.8.2",{"$f":"Standards!D832","v":0}]
["3.1.9","Std 3.1.9",{"$f":"Standards!D833","v":0}]
["3.1.10.1","Std 3.1.10.1",{"$f":"Standards!D834","v":0}]
["3.1.10.2","Std 3.1.10.2",{"$f":"Standards!D835","v":0}]
["3.1.10.3","Std 3.1.10.3",{"$f":"Standards!D836","v":0}]
["3.1.10.4","Std 3.1.10.4",{"$f":"Standards!D837","v":0}]
["3.1 Total","Std 3.1 Total",{"$f":"Standards!D838","v":0}]
["3.1 Percentage","Std 3.1 Percentage",{"$f":"Standards!D839","v":{"v":0,"d":"0%"}}]
["3.2.1.1","Std 3.2.1.1",{"$f":"Standards!D845","v":0}]
["3.2.1.2","Std 3.2.1.2",{"$f":"Standards!D846","v":0}]
["3.2.2","Std 3.2.2",{"$f":"Standards!D847","v":0}]
["3.2.3","Std 3.2.3",{"$f":"Standards!D848","v":0}]
["3.2.4.1",{"$f":"\"Std \" &A718","v":"Std 3.2.4.1"},{"$f":"Standards!D849","v":0}]
["3.2.4.2","Std 3.2.4.2",{"$f":"Standards!D850","v":0}]
["3.2.5","Std 3.2.5",{"$f":"Standards!D851","v":0}]
["3.2.6.1","Std 3.2.6.1",{"$f":"Standards!D852","v":0}]
["3.2.6.2","Std 3.2.6.2",{"$f":"Standards!D853","v":0}]
["3.2.7","Std 3.2.7",{"$f":"Standards!D854","v":0}]
["3.2.8","Std 3.2.8",{"$f":"Standards!D855","v":0}]
["3.2.9","Std 3.2.9",{"$f":"Standards!D856","v":0}]
["3.2.10","Std 3.2.10",{"$f":"Standards!D857","v":0}]
["3.2.11.1","Std 3.2.11.1",{"$f":"Standards!D858","v":0}]
["3.2.11.2","Std 3.2.11.2",{"$f":"Standards!D859","v":0}]
["3.2.11.3","Std 3.2.11.3",{"$f":"Standards!D860","v":0}]
["3.2.11.4","Std 3.2.11.4",{"$f":"Standards!D861","v":0}]
["3.2 Total","Std 3.2 Total",{"$f":"Standards!D862","v":0}]
["3.2 Percentage","Std 3.2 Percentage",{"$f":"Standards!D863","v":{"v":0,"d":"0%"}}]
["3.3.1","Std 3.3.1",{"$f":"Standards!D869","v":0}]
["3.3.2.1","Std 3.3.2.1",{"$f":"Standards!D870","v":0}]
["3.3.2.2","Std 3.3.2.2",{"$f":"Standards!D871","v":0}]
["3.3.3","Std 3.3.3",{"$f":"Standards!D872","v":0}]
["3.3.4.1.1","Std 3.3.4.1.1",{"$f":"Standards!D873","v":0}]
["3.3.4.1.2.1","Std 3.3.4.1.2.1",{"$f":"Standards!D874","v":0}]
["3.3.4.1.2.2","Std 3.3.4.1.2.2",{"$f":"Standards!D875","v":0}]
["3.3.4.3","Std 3.3.4.3",{"$f":"Standards!D876","v":0}]
["3.3.4.4","Std 3.3.4.4",{"$f":"Standards!D877","v":0}]
["3.3.4.5","Std 3.3.4.5",{"$f":"Standards!D878","v":0}]
["3.3.4.6","Std 3.3.4.6",{"$f":"Standards!D879","v":0}]
["3.3.5","Std 3.3.5",{"$f":"Standards!D880","v":0}]
["3.3.6","Std 3.3.6",{"$f":"Standards!D881","v":0}]
["3.3 Total","Std 3.3 Total",{"$f":"Standards!D882","v":0}]
["3.3 Percentage","Std 3.3 Percentage",{"$f":"Standards!D883","v":{"v":0,"d":"0%"}}]
["3.4.1.1","Std 3.4.1.1",{"$f":"Standards!D889","v":0}]
["3.4.1.2","Std 3.4.1.2",{"$f":"Standards!D890","v":0}]
["3.4.2.1","Std 3.4.2.1",{"$f":"Standards!D891","v":0}]
["3.4.2.2","Std 3.4.2.2",{"$f":"Standards!D892","v":0}]
["3.4.2.3","Std 3.4.2.3",{"$f":"Standards!D893","v":0}]
["3.4.2.4","Std 3.4.2.4",{"$f":"Standards!D894","v":0}]
["3.4.2.5","Std 3.4.2.5",{"$f":"Standards!D895","v":0}]
["3.4.2.6","Std 3.4.2.6",{"$f":"Standards!D896","v":0}]
["3.4.3.1","Std 3.4.3.1",{"$f":"Standards!D897","v":0}]
["3.4.3.2","Std 3.4.3.2",{"$f":"Standards!D898","v":0}]
["3.4.3.3","Std 3.4.3.3",{"$f":"Standards!D899","v":0}]
["3.4.3.4","Std 3.4.3.4",{"$f":"Standards!D900","v":0}]
["3.4 Total","Std 3.4 Total",{"$f":"Standards!D901","v":0}]
["3.4 Percentage","Std 3.4 Percentage",{"$f":"Standards!D902","v":{"v":0,"d":"0%"}}]
["3.5.1","Std 3.5.1",{"$f":"Standards!D908","v":0}]
["3.5.2.1","Std 3.5.2.1",{"$f":"Standards!D909","v":0}]
["3.5.2.2","Std 3.5.2.2",{"$f":"Standards!D910","v":0}]
["3.5.3","Std 3.5.3",{"$f":"Standards!D911","v":0}]
["3.5 Total","Std 3.5 Total",{"$f":"Standards!D912","v":0}]
["3.5 Percentage",{"$f":"\"Std \" &A767","v":"Std 3.5 Percentage"},{"$f":"Standards!D913","v":{"v":0,"d":"0%"}}]
["3.6.1","Std 3.6.1",{"$f":"Standards!D919","v":0}]
["3.6.1.1","Std 3.6.1.1",{"$f":"Standards!D920","v":0}]
["3.6.1.2","Std 3.6.1.2",{"$f":"Standards!D921","v":0}]
["3.6.2","Std 3.6.2",{"$f":"Standards!D922","v":0}]
["3.6.3","Std 3.6.3",{"$f":"Standards!D923","v":0}]
["3.6.4","Std 3.6.4",{"$f":"Standards!D924","v":0}]
["3.6.5","Std 3.6.5",{"$f":"Standards!D925","v":0}]
["3.6.6","Std 3.6.6",{"$f":"Standards!D926","v":0}]
["3.6.7","Std 3.6.7",{"$f":"Standards!D927","v":0}]
["3.6.8.1","Std 3.6.8.1",{"$f":"Standards!D928","v":0}]
["3.6.8.2","Std 3.6.8.2",{"$f":"Standards!D929","v":0}]
["3.6.8.3","Std 3.6.8.3",{"$f":"Standards!D930","v":0}]
["3.6.8.4","Std 3.6.8.4",{"$f":"Standards!D931","v":0}]
["3.6.8.5","Std 3.6.8.5",{"$f":"Standards!D932","v":0}]
["3.6.8.6","Std 3.6.8.6",{"$f":"Standards!D933","v":0}]
["3.6.9","Std 3.6.9",{"$f":"Standards!D934","v":0}]
["3.6.10","Std 3.6.10",{"$f":"Standards!D935","v":0}]
["3.6 Total","Std 3.6 Total",{"$f":"Standards!D936","v":0}]
["3.6 Percentage","Std 3.6 Percentage",{"$f":"Standards!D937","v":{"v":0,"d":"0%"}}]
["3.7.1.1","Std 3.7.1.1",{"$f":"Standards!D943","v":0}]
["3.7.1.2","Std 3.7.1.2",{"$f":"Standards!D944","v":0}]
["3.7.1.3","Std 3.7.1.3",{"$f":"Standards!D945","v":0}]
["3.7.2","Std 3.7.2",{"$f":"Standards!D946","v":0}]
["3.7.3","Std 3.7.3",{"$f":"Standards!D947","v":0}]
["3.7.4","Std 3.7.4",{"$f":"Standards!D948","v":0}]
["3.7.5","Std 3.7.5",{"$f":"Standards!D949","v":0}]
["3.7.6.1","Std 3.7.6.1",{"$f":"Standards!D950","v":0}]
["3.7.6.2","Std 3.7.6.2",{"$f":"Standards!D951","v":0}]
["3.7.6.3","Std 3.7.6.3",{"$f":"Standards!D952","v":0}]
["3.7.6.4","Std 3.7.6.4",{"$f":"Standards!D953","v":0}]
["3.7.6.5","Std 3.7.6.5",{"$f":"Standards!D954","v":0}]
["3.7.6.6","Std 3.7.6.6",{"$f":"Standards!D955","v":0}]
["3.7.6.7","Std 3.7.6.7",{"$f":"Standards!D956","v":0}]
["3.7.6.8","Std 3.7.6.8",{"$f":"Standards!D957","v":0}]
["3.7 Total","Std 3.7 Total",{"$f":"Standards!D958","v":0}]
["3.7 Percentage","Std 3.7 Percentage",{"$f":"Standards!D959","v":{"v":0,"d":"0%"}}]
["3.8.1.1","Std 3.8.1.1",{"$f":"Standards!D965","v":0}]
["3.8.1.2","Std 3.8.1.2",{"$f":"Standards!D966","v":0}]
["3.8.1.3","Std 3.8.1.3",{"$f":"Standards!D967","v":0}]
["3.8.2.1","Std 3.8.2.1",{"$f":"Standards!D968","v":0}]
["3.8.2.2","Std 3.8.2.2",{"$f":"Standards!D969","v":0}]
["3.8.2.3","Std 3.8.2.3",{"$f":"Standards!D970","v":0}]
["3.8.2.4","Std 3.8.2.4",{"$f":"Standards!D971","v":0}]
["3.8.2.5","Std 3.8.2.5",{"$f":"Standards!D972","v":0}]
["3.8 Total","Std 3.8 Total",{"$f":"Standards!D973","v":0}]
["3.8 Percentage","Std 3.8 Percentage",{"$f":"Standards!D974","v":{"v":0,"d":"0%"}}]
["3.9.1",{"$f":"\"Std \" &A814","v":"Std 3.9.1"},{"$f":"Standards!D980","v":0}]
["3.9.2.1","Std 3.9.2.1",{"$f":"Standards!D981","v":0}]
["3.9.2.2","Std 3.9.2.2",{"$f":"Standards!D982","v":0}]
["3.9.3.1","Std 3.9.3.1",{"$f":"Standards!D983","v":0}]
["3.9.3.2","Std 3.9.3.2",{"$f":"Standards!D984","v":0}]
["3.9.4","Std 3.9.4",{"$f":"Standards!D985","v":0}]
["3.9.5","Std 3.9.5",{"$f":"Standards!D986","v":0}]
["3.9 Total","Std 3.9 Total",{"$f":"Standards!D987","v":0}]
["3.9 Percentage","Std 3.9 Percentage",{"$f":"Standards!D988","v":{"v":0,"d":"0%"}}]
["3.10.1","Std 3.10.1",{"$f":"Standards!D994","v":0}]
["3.10.2","Std 3.10.2",{"$f":"Standards!D995","v":0}]
["3.10.3.1","Std 3.10.3.1",{"$f":"Standards!D996","v":0}]
["3.10.3.2","Std 3.10.3.2",{"$f":"Standards!D997","v":0}]
["3.10.3.3","Std 3.10.3.3",{"$f":"Standards!D998","v":0}]
["3.10.3.4","Std 3.10.3.4",{"$f":"Standards!D999","v":0}]
["3.10.4","Std 3.10.4",{"$f":"Standards!D1000","v":0}]
["3.10.5","Std 3.10.5",{"$f":"Standards!D1001","v":0}]
["3.10.6","Std 3.10.6",{"$f":"Standards!D1002","v":0}]
["3.10.7","Std 3.10.7",{"$f":"Standards!D1003","v":0}]
["3.10.8.1","Std 3.10.8.1",{"$f":"Standards!D1004","v":0}]
["3.10.8.2","Std 3.10.8.2",{"$f":"Standards!D1005","v":0}]
["3.10.8.3","Std 3.10.8.3",{"$f":"Standards!D1006","v":0}]
["3.10.8.4","Std 3.10.8.4",{"$f":"Standards!D1007","v":0}]
["3.10.8.5","Std 3.10.8.5",{"$f":"Standards!D1008","v":0}]
["3.10.8.6","Std 3.10.8.6",{"$f":"Standards!D1009","v":0}]
["3.10 Total","Std 3.10 Total",{"$f":"Standards!D1010","v":0}]
["3.10 Percentage","Std 3.10 Percentage",{"$f":"Standards!D1011","v":{"v":0,"d":"0%"}}]
["3.11.1.1","Std 3.11.1.1",{"$f":"Standards!D1017","v":0}]
["3.11.1.2","Std 3.11.1.2",{"$f":"Standards!D1018","v":0}]
["3.11.2","Std 3.11.2",{"$f":"Standards!D1019","v":0}]
["3.11.3","Std 3.11.3",{"$f":"Standards!D1020","v":0}]
["3.11.4","Std 3.11.4",{"$f":"Standards!D1021","v":0}]
["3.11.5.1","Std 3.11.5.1",{"$f":"Standards!D1022","v":0}]
["3.11.5.2","Std 3.11.5.2",{"$f":"Standards!D1023","v":0}]
["3.11.5.3","Std 3.11.5.3",{"$f":"Standards!D1024","v":0}]
["3.11.6.1","Std 3.11.6.1",{"$f":"Standards!D1025","v":0}]
["3.11.6.2","Std 3.11.6.2",{"$f":"Standards!D1026","v":0}]
["3.11.6.3","Std 3.11.6.3",{"$f":"Standards!D1027","v":0}]
["3.11.6.4","Std 3.11.6.4",{"$f":"Standards!D1028","v":0}]
["3.11 Total","Std 3.11 Total",{"$f":"Standards!D1029","v":0}]
["3.11 Percentage","Std 3.11 Percentage",{"$f":"Standards!D1030","v":{"v":0,"d":"0%"}}]
[null,"Checklist_2.1_GM_Score_2.1.1.1",{"$f":"'Checklist 2.1'!D4","v":0}]
[null,"Checklist_2.1_GM_Score_2.1.3",{"$f":"'Checklist 2.1'!D5","v":0}]
[null,"Checklist_2.1_GM_Score_2.1.4.1",{"$f":"'Checklist 2.1'!D6","v":0}]
[null,"Checklist_2.1_GM_Score_2.1.5.1",{"$f":"'Checklist 2.1'!D7","v":0}]
[null,"Checklist_2.1_GM_Score_2.1.5.3",{"$f":"'Checklist 2.1'!D8","v":0}]
[null,"Checklist_2.1_GM_Score_2.1.9",{"$f":"'Checklist 2.1'!D9","v":0}]
[null,"Checklist_2.1_GM_Score_2.1.10.1",{"$f":"'Checklist 2.1'!D10","v":0}]
[null,"Checklist_2.1_GM_Score_2.1.10.2",{"$f":"'Checklist 2.1'!D11","v":0}]
[null,"Checklist_2.1_GM_Score_2.1.10.3",{"$f":"'Checklist 2.1'!D12","v":0}]
[null,"Checklist_2.1_GM_Score_2.1.10.4",{"$f":"'Checklist 2.1'!D13","v":0}]
[null,"Checklist_2.1_GM_Score_2.1.10.5",{"$f":"'Checklist 2.1'!D14","v":0}]
[null,"Checklist_2.1_OG_Score_2.1.1.1",{"$f":"'Checklist 2.1'!E4","v":0}]
[null,"Checklist_2.1_OG_Score_2.1.3",{"$f":"'Checklist 2.1'!E5","v":0}]
[null,"Checklist_2.1_OG_Score_2.1.4.1",{"$f":"'Checklist 2.1'!E6","v":0}]
[null,"Checklist_2.1_OG_Score_2.1.5.1",{"$f":"'Checklist 2.1'!E7","v":0}]
[null,"Checklist_2.1_OG_Score_2.1.5.3",{"$f":"'Checklist 2.1'!E8","v":0}]
[null,"Checklist_2.1_OG_Score_2.1.9",{"$f":"'Checklist 2.1'!E9","v":0}]
[null,"Checklist_2.1_OG_Score_2.1.10.1",{"$f":"'Checklist 2.1'!E10","v":0}]
[null,"Checklist_2.1_OG_Score_2.1.10.2",{"$f":"'Checklist 2.1'!E11","v":0}]
[null,"Checklist_2.1_OG_Score_2.1.10.3",{"$f":"'Checklist 2.1'!E12","v":0}]
[null,"Checklist_2.1_OG_Score_2.1.10.4",{"$f":"'Checklist 2.1'!E13","v":0}]
[null,"Checklist_2.1_OG_Score_2.1.10.5",{"$f":"'Checklist 2.1'!E14","v":0}]
[null,"Checklist_2.1_PG_Score_2.1.1.1",{"$f":"'Checklist 2.1'!F4","v":0}]
[null,"Checklist_2.1_PG_Score_2.1.3",{"$f":"'Checklist 2.1'!F5","v":0}]
[null,"Checklist_2.1_PG_Score_2.1.4.1",{"$f":"'Checklist 2.1'!F6","v":0}]
[null,"Checklist_2.1_PG_Score_2.1.5.1",{"$f":"'Checklist 2.1'!F7","v":0}]
[null,"Checklist_2.1_PG_Score_2.1.5.3",{"$f":"'Checklist 2.1'!F8","v":0}]
[null,"Checklist_2.1_PG_Score_2.1.9",{"$f":"'Checklist 2.1'!F9","v":0}]
[null,"Checklist_2.1_PG_Score_2.1.10.1",{"$f":"'Checklist 2.1'!F10","v":0}]
[null,"Checklist_2.1_PG_Score_2.1.10.2",{"$f":"'Checklist 2.1'!F11","v":0}]
[null,"Checklist_2.1_PG_Score_2.1.10.3",{"$f":"'Checklist 2.1'!F12","v":0}]
[null,"Checklist_2.1_PG_Score_2.1.10.4",{"$f":"'Checklist 2.1'!F13","v":0}]
[null,"Checklist_2.1_PG_Score_2.1.10.5",{"$f":"'Checklist 2.1'!F14","v":0}]
[null,"Checklist_2.1_GS_Score_2.1.1.1",{"$f":"'Checklist 2.1'!G4","v":0}]
[null,"Checklist_2.1_GS_Score_2.1.3",{"$f":"'Checklist 2.1'!G5","v":0}]
[null,"Checklist_2.1_GS_Score_2.1.4.1",{"$f":"'Checklist 2.1'!G6","v":0}]
[null,"Checklist_2.1_GS_Score_2.1.5.1",{"$f":"'Checklist 2.1'!G7","v":0}]
[null,"Checklist_2.1_GS_Score_2.1.5.3",{"$f":"'Checklist 2.1'!G8","v":0}]
[null,"Checklist_2.1_GS_Score_2.1.9",{"$f":"'Checklist 2.1'!G9","v":0}]
[null,"Checklist_2.1_GS_Score_2.1.10.1",{"$f":"'Checklist 2.1'!G10","v":0}]
[null,"Checklist_2.1_GS_Score_2.1.10.2",{"$f":"'Checklist 2.1'!G11","v":0}]
[null,"Checklist_2.1_GS_Score_2.1.10.3",{"$f":"'Checklist 2.1'!G12","v":0}]
[null,"Checklist_2.1_GS_Score_2.1.10.4",{"$f":"'Checklist 2.1'!G13","v":0}]
[null,"Checklist_2.1_GS_Score_2.1.10.5",{"$f":"'Checklist 2.1'!G14","v":0}]
[null,"Checklist_2.1_OW_Score_2.1.1.1",{"$f":"'Checklist 2.1'!H4","v":0}]
[null,"Checklist_2.1_OW_Score_2.1.3",{"$f":"'Checklist 2.1'!H5","v":0}]
[null,"Checklist_2.1_OW_Score_2.1.4.1",{"$f":"'Checklist 2.1'!H6","v":0}]
[null,"Checklist_2.1_OW_Score_2.1.5.1",{"$f":"'Checklist 2.1'!H7","v":0}]
[null,"Checklist_2.1_OW_Score_2.1.5.3",{"$f":"'Checklist 2.1'!H8","v":0}]
[null,"Checklist_2.1_OW_Score_2.1.9",{"$f":"'Checklist 2.1'!H9","v":0}]
[null,"Checklist_2.1_OW_Score_2.1.10.1",{"$f":"'Checklist 2.1'!H10","v":0}]
[null,"Checklist_2.1_OW_Score_2.1.10.2",{"$f":"'Checklist 2.1'!H11","v":0}]
[null,"Checklist_2.1_OW_Score_2.1.10.3",{"$f":"'Checklist 2.1'!H12","v":0}]
[null,"Checklist_2.1_OW_Score_2.1.10.4",{"$f":"'Checklist 2.1'!H13","v":0}]
[null,"Checklist_2.1_OW_Score_2.1.10.5",{"$f":"'Checklist 2.1'!H14","v":0}]
[null,"Checklist_2.1_Total Score_2.1.1.1",{"$f":"'Checklist 2.1'!I4","v":0}]
[null,"Checklist_2.1_Total Score_2.1.3",{"$f":"'Checklist 2.1'!I5","v":0}]
[null,"Checklist_2.1_Total Score_2.1.4.1",{"$f":"'Checklist 2.1'!I6","v":0}]
[null,"Checklist_2.1_Total Score_2.1.5.1",{"$f":"'Checklist 2.1'!I7","v":0}]
[null,"Checklist_2.1_Total Score_2.1.5.3",{"$f":"'Checklist 2.1'!I8","v":0}]
[null,"Checklist_2.1_Total Score_2.1.9",{"$f":"'Checklist 2.1'!I9","v":0}]
[null,"Checklist_2.1_Total Score_2.1.10.1",{"$f":"'Checklist 2.1'!I10","v":0}]
[null,"Checklist_2.1_Total Score_2.1.10.2",{"$f":"'Checklist 2.1'!I11","v":0}]
[null,"Checklist_2.1_Total Score_2.1.10.3",{"$f":"'Checklist 2.1'!I12","v":0}]
[null,"Checklist_2.1_Total Score_2.1.10.4",{"$f":"'Checklist 2.1'!I13","v":0}]
[null,"Checklist_2.1_Total Score_2.1.10.5",{"$f":"'Checklist 2.1'!I14","v":0}]
[null,"Checklist_2.1_Percent_2.1.1.1",{"$f":"'Checklist 2.1'!J4","v":{"v":0,"d":"0%"}}]
[null,"Checklist_2.1_Percent_2.1.3",{"$f":"'Checklist 2.1'!J5","v":{"v":0,"d":"0%"}}]
[null,"Checklist_2.1_Percent_2.1.4.1",{"$f":"'Checklist 2.1'!J6","v":{"v":0,"d":"0%"}}]
[null,"Checklist_2.1_Percent_2.1.5.1",{"$f":"'Checklist 2.1'!J7","v":{"v":0,"d":"0%"}}]
[null,"Checklist_2.1_Percent_2.1.5.3",{"$f":"'Checklist 2.1'!J8","v":{"v":0,"d":"0%"}}]
[null,"Checklist_2.1_Percent_2.1.9",{"$f":"'Checklist 2.1'!J9","v":{"v":0,"d":"0%"}}]
[null,"Checklist_2.1_Percent_2.1.10.1",{"$f":"'Checklist 2.1'!J10","v":{"v":0,"d":"0%"}}]
[null,"Checklist_2.1_Percent_2.1.10.2",{"$f":"'Checklist 2.1'!J11","v":{"v":0,"d":"0%"}}]
[null,"Checklist_2.1_Percent_2.1.10.3",{"$f":"'Checklist 2.1'!J12","v":{"v":0,"d":"0%"}}]
[null,"Checklist_2.1_Percent_2.1.10.4",{"$f":"'Checklist 2.1'!J13","v":{"v":0,"d":"0%"}}]
[null,"Checklist_2.1_Percent_2.1.10.5",{"$f":"'Checklist 2.1'!J14","v":{"v":0,"d":"0%"}}]
[null,"Checklist_2.1_Chart Score_2.1.1.1",{"$f":"'Annex 1.3a'!E4","v":0}]
[null,"Checklist_2.1_Chart Score_2.1.3",{"$f":"'Checklist 2.1'!K5","v":0}]
[null,"Checklist_2.1_Chart Score_2.1.4.1",{"$f":"'Checklist 2.1'!K6","v":0}]
[null,"Checklist_2.1_Chart Score_2.1.5.1",{"$f":"'Checklist 2.1'!K7","v":0}]
[null,"Checklist_2.1_Chart Score_2.1.5.3",{"$f":"'Checklist 2.1'!K8","v":0}]
[null,"Checklist_2.1_Chart Score_2.1.9",{"$f":"'Checklist 2.1'!K9","v":0}]
[null,"Checklist_2.1_Chart Score_2.1.10.1",{"$f":"'Checklist 2.1'!K10","v":0}]
[null,"Checklist_2.1_Chart Score_2.1.10.2",{"$f":"'Checklist 2.1'!K11","v":0}]
[null,"Checklist_2.1_Chart Score_2.1.10.3",{"$f":"'Checklist 2.1'!K12","v":0}]
[null,"Checklist_2.1_Chart Score_2.1.10.4",{"$f":"'Checklist 2.1'!K13","v":0}]
[null,"Checklist_2.1_Chart Score_2.1.10.5",{"$f":"'Checklist 2.1'!K14","v":0}]
[null,"Checklist_2.6_MW 2.6.1.1",{"$f":"'Checklist 2.6'!D4","v":0}]
[null,"Checklist_2.6_MW  2.6.1.2",{"$f":"'Checklist 2.6'!D5","v":0}]
[null,"Checklist_2.6_MW 2.6.1.3",{"$f":"'Checklist 2.6'!D6","v":0}]
[null,"Checklist_2.6_MW 2.6.4",{"$f":"'Checklist 2.6'!D7","v":0}]
[null,"Checklist_2.6_MW  2.6.5",{"$f":"'Checklist 2.6'!D8","v":0}]
[null,"Checklist_2.6_MW 2.6.6",{"$f":"'Checklist 2.6'!D9","v":0}]
[null,"Checklist_2.6_MW 2.6.7",{"$f":"'Checklist 2.6'!D10","v":0}]
[null,"Checklist_2.6_MW 2.6.8.1",{"$f":"'Checklist 2.6'!D11","v":0}]
[null,"Checklist_2.6_MW 2.6.8.3",{"$f":"'Checklist 2.6'!D12","v":0}]
[null,"Checklist_2.6_MW 2.6.10.1",{"$f":"'Checklist 2.6'!D13","v":0}]
[null,"Checklist_2.6_MW 2.6.10.2",{"$f":"'Checklist 2.6'!D14","v":0}]
[null,"Checklist_2.6_MW 2.6.10.3",{"$f":"'Checklist 2.6'!D15","v":0}]
[null,"Checklist_2.6_MW 2.6.10.4",{"$f":"'Checklist 2.6'!D16","v":0}]
[null,"Checklist_2.6_MW 2.6.10.5",{"$f":"'Checklist 2.6'!D17","v":0}]
[null,"Checklist_2.6_MW  2.6.11",{"$f":"'Checklist 2.6'!D18","v":0}]
[null,"Checklist_2.6_MW 2.6.12",{"$f":"'Checklist 2.6'!D19","v":0}]
[null,"Checklist_2.6_MW 2.6.13",{"$f":"'Checklist 2.6'!D20","v":0}]
[null,"Checklist_2.6_MW 2.6.14.1",{"$f":"'Checklist 2.6'!D21","v":0}]
[null,"Checklist_2.6_MW 2.6.14.2",{"$f":"'Checklist 2.6'!D22","v":0}]
[null,"Checklist_2.6_MW 2.6.14.3",{"$f":"'Checklist 2.6'!D23","v":0}]
[null,"Checklist_2.6_MW 2.6.14.4",{"$f":"'Checklist 2.6'!D24","v":0}]
[null,"Checklist_2.6_MW 2.6.14.5",{"$f":"'Checklist 2.6'!D25","v":0}]
[null,"Checklist_2.6_MW 2.6.14.6",{"$f":"'Checklist 2.6'!D26","v":0}]
[null,"Checklist_2.6_SW 2.6.1.1",{"$f":"'Checklist 2.6'!E4","v":0}]
[null,"Checklist_2.6_SW  2.6.1.2",{"$f":"'Checklist 2.6'!E5","v":0}]
[null,"Checklist_2.6_SW 2.6.1.3",{"$f":"'Checklist 2.6'!E6","v":0}]
[null,"Checklist_2.6_SW 2.6.4",{"$f":"'Checklist 2.6'!E7","v":0}]
[null,"Checklist_2.6_SW  2.6.5",{"$f":"'Checklist 2.6'!E8","v":0}]
[null,"Checklist_2.6_SW 2.6.6",{"$f":"'Checklist 2.6'!E9","v":0}]
[null,"Checklist_2.6_SW 2.6.7",{"$f":"'Checklist 2.6'!E10","v":0}]
[null,"Checklist_2.6_SW 2.6.8.1",{"$f":"'Checklist 2.6'!E11","v":0}]
[null,"Checklist_2.6_SW 2.6.8.3",{"$f":"'Checklist 2.6'!E12","v":0}]
[null,"Checklist_2.6_SW 2.6.10.1",{"$f":"'Checklist 2.6'!E13","v":0}]
[null,"Checklist_2.6_SW 2.6.10.2",{"$f":"'Checklist 2.6'!E14","v":0}]
[null,"Checklist_2.6_SW 2.6.10.3",{"$f":"'Checklist 2.6'!E15","v":0}]
[null,"Checklist_2.6_SW 2.6.10.4",{"$f":"'Checklist 2.6'!E16","v":0}]
[null,"Checklist_2.6_SW 2.6.10.5",{"$f":"'Checklist 2.6'!E17","v":0}]
[null,"Checklist_2.6_SW  2.6.11",{"$f":"'Checklist 2.6'!E18","v":0}]
[null,"Checklist_2.6_SW 2.6.12",{"$f":"'Checklist 2.6'!E19","v":0}]
[null,"Checklist_2.6_SW 2.6.13",{"$f":"'Checklist 2.6'!E20","v":0}]
[null,"Checklist_2.6_SW 2.6.14.1",{"$f":"'Checklist 2.6'!E21","v":0}]
[null,"Checklist_2.6_SW 2.6.14.2",{"$f":"'Checklist 2.6'!E22","v":0}]
[null,"Checklist_2.6_SW 2.6.14.3",{"$f":"'Checklist 2.6'!E23","v":0}]
[null,"Checklist_2.6_SW 2.6.14.4",{"$f":"'Checklist 2.6'!E24","v":0}]
[null,"Checklist_2.6_SW 2.6.14.5",{"$f":"'Checklist 2.6'!E25","v":0}]
[null,"Checklist_2.6_SW 2.6.14.6",{"$f":"'Checklist 2.6'!E26","v":0}]
[null,"Checklist_2.6_PW 2.6.1.1",{"$f":"'Checklist 2.6'!F4","v":0}]
[null,"Checklist_2.6_PW  2.6.1.2",{"$f":"'Checklist 2.6'!F5","v":0}]
[null,"Checklist_2.6_PW 2.6.1.3",{"$f":"'Checklist 2.6'!F6","v":0}]
[null,"Checklist_2.6_PW 2.6.4",{"$f":"'Checklist 2.6'!F7","v":0}]
[null,"Checklist_2.6_PW  2.6.5",{"$f":"'Checklist 2.6'!F8","v":0}]
[null,"Checklist_2.6_PW 2.6.6",{"$f":"'Checklist 2.6'!F9","v":0}]
[null,"Checklist_2.6_PW 2.6.7",{"$f":"'Checklist 2.6'!F10","v":0}]
[null,"Checklist_2.6_PW 2.6.8.1",{"$f":"'Checklist 2.6'!F11","v":0}]
[null,"Checklist_2.6_PW 2.6.8.3",{"$f":"'Checklist 2.6'!F12","v":0}]
[null,"Checklist_2.6_PW 2.6.10.1",{"$f":"'Checklist 2.6'!F13","v":0}]
[null,"Checklist_2.6_PW 2.6.10.2",{"$f":"'Checklist 2.6'!F14","v":0}]
[null,"Checklist_2.6_PW 2.6.10.3",{"$f":"'Checklist 2.6'!F15","v":0}]
[null,"Checklist_2.6_PW 2.6.10.4",{"$f":"'Checklist 2.6'!F16","v":0}]
[null,"Checklist_2.6_PW 2.6.10.5",{"$f":"'Checklist 2.6'!F17","v":0}]
[null,"Checklist_2.6_PW  2.6.11",{"$f":"'Checklist 2.6'!F18","v":0}]
[null,"Checklist_2.6_PW 2.6.12",{"$f":"'Checklist 2.6'!F19","v":0}]
[null,"Checklist_2.6_PW 2.6.13",{"$f":"'Checklist 2.6'!F20","v":0}]
[null,"Checklist_2.6_PW 2.6.14.1",{"$f":"'Checklist 2.6'!F21","v":0}]
[null,"Checklist_2.6_PW 2.6.14.2",{"$f":"'Checklist 2.6'!F22","v":0}]
[null,"Checklist_2.6_PW 2.6.14.3",{"$f":"'Checklist 2.6'!F23","v":0}]
[null,"Checklist_2.6_PW 2.6.14.4",{"$f":"'Checklist 2.6'!F24","v":0}]
[null,"Checklist_2.6_PW 2.6.14.5",{"$f":"'Checklist 2.6'!F25","v":0}]
[null,"Checklist_2.6_PW 2.6.14.6",{"$f":"'Checklist 2.6'!F26","v":0}]
[null,"Checklist_2.6_Total Score 2.6.1.1",{"$f":"'Checklist 2.6'!G4","v":0}]
[null,"Checklist_2.6_Total Score  2.6.1.2",{"$f":"'Checklist 2.6'!G5","v":0}]
[null,"Checklist_2.6_Total Score 2.6.1.3",{"$f":"'Checklist 2.6'!G6","v":0}]
[null,"Checklist_2.6_Total Score 2.6.4",{"$f":"'Checklist 2.6'!G7","v":0}]
[null,"Checklist_2.6_Total Score  2.6.5",{"$f":"'Checklist 2.6'!G8","v":0}]
[null,"Checklist_2.6_Total Score 2.6.6",{"$f":"'Checklist 2.6'!G9","v":0}]
[null,"Checklist_2.6_Total Score 2.6.7",{"$f":"'Checklist 2.6'!G10","v":0}]
[null,"Checklist_2.6_Total Score 2.6.8.1",{"$f":"'Checklist 2.6'!G11","v":0}]
[null,"Checklist_2.6_Total Score 2.6.8.3",{"$f":"'Checklist 2.6'!G12","v":0}]
[null,"Checklist_2.6_Total Score 2.6.10.1",{"$f":"'Checklist 2.6'!G13","v":0}]
[null,"Checklist_2.6_Total Score 2.6.10.2",{"$f":"'Checklist 2.6'!G14","v":0}]
[null,"Checklist_2.6_Total Score 2.6.10.3",{"$f":"'Checklist 2.6'!G15","v":0}]
[null,"Checklist_2.6_Total Score 2.6.10.4",{"$f":"'Checklist 2.6'!G16","v":0}]
[null,"Checklist_2.6_Total Score 2.6.10.5",{"$f":"'Checklist 2.6'!G17","v":0}]
[null,"Checklist_2.6_Total Score  2.6.11",{"$f":"'Checklist 2.6'!G18","v":0}]
[null,"Checklist_2.6_Total Score 2.6.12",{"$f":"'Checklist 2.6'!G19","v":0}]
[null,"Checklist_2.6_Total Score 2.6.13",{"$f":"'Checklist 2.6'!G20","v":0}]
[null,"Checklist_2.6_Total Score 2.6.14.1",{"$f":"'Checklist 2.6'!G21","v":0}]
[null,"Checklist_2.6_Total Score 2.6.14.2",{"$f":"'Checklist 2.6'!G22","v":0}]
[null,"Checklist_2.6_Total Score 2.6.14.3",{"$f":"'Checklist 2.6'!G23","v":0}]
[null,"Checklist_2.6_Total Score 2.6.14.4",{"$f":"'Checklist 2.6'!G24","v":0}]
[null,"Checklist_2.6_Total Score 2.6.14.5",{"$f":"'Checklist 2.6'!G25","v":0}]
[null,"Checklist_2.6_Total Score 2.6.14.6",{"$f":"'Checklist 2.6'!G26","v":0}]
[null,"Checklist_2.6_Percent 2.6.1.1",{"$f":"'Checklist 2.6'!H4","v":0}]
[null,"Checklist_2.6_Percent  2.6.1.2",{"$f":"'Checklist 2.6'!H5","v":0}]
[null,"Checklist_2.6_Percent 2.6.1.3",{"$f":"'Checklist 2.6'!H6","v":0}]
[null,"Checklist_2.6_Percent 2.6.4",{"$f":"'Checklist 2.6'!H7","v":0}]
[null,"Checklist_2.6_Percent  2.6.5",{"$f":"'Checklist 2.6'!H8","v":0}]
[null,"Checklist_2.6_Percent 2.6.6",{"$f":"'Checklist 2.6'!H9","v":0}]
[null,"Checklist_2.6_Percent 2.6.7",{"$f":"'Checklist 2.6'!H10","v":0}]
[null,"Checklist_2.6_Percent 2.6.8.1",{"$f":"'Checklist 2.6'!H11","v":0}]
[null,"Checklist_2.6_Percent 2.6.8.3",{"$f":"'Checklist 2.6'!H12","v":0}]
[null,"Checklist_2.6_Percent 2.6.10.1",{"$f":"'Checklist 2.6'!H13","v":0}]
[null,"Checklist_2.6_Percent 2.6.10.2",{"$f":"'Checklist 2.6'!H14","v":0}]
[null,"Checklist_2.6_Percent 2.6.10.3",{"$f":"'Checklist 2.6'!H15","v":0}]
[null,"Checklist_2.6_Percent 2.6.10.4",{"$f":"'Checklist 2.6'!H16","v":0}]
[null,"Checklist_2.6_Percent 2.6.10.5",{"$f":"'Checklist 2.6'!H17","v":0}]
[null,"Checklist_2.6_Percent  2.6.11",{"$f":"'Checklist 2.6'!H18","v":0}]
[null,"Checklist_2.6_Percent 2.6.12",{"$f":"'Checklist 2.6'!H19","v":0}]
[null,"Checklist_2.6_Percent 2.6.13",{"$f":"'Checklist 2.6'!H20","v":0}]
[null,"Checklist_2.6_Percent 2.6.14.1",{"$f":"'Checklist 2.6'!H21","v":0}]
[null,"Checklist_2.6_Percent 2.6.14.2",{"$f":"'Checklist 2.6'!H22","v":0}]
[null,"Checklist_2.6_Percent 2.6.14.3",{"$f":"'Checklist 2.6'!H23","v":0}]
[null,"Checklist_2.6_Percent 2.6.14.4",{"$f":"'Checklist 2.6'!H24","v":0}]
[null,"Checklist_2.6_Percent 2.6.14.5",{"$f":"'Checklist 2.6'!H25","v":0}]
[null,"Checklist_2.6_Percent 2.6.14.6",{"$f":"'Checklist 2.6'!H26","v":0}]
[null,"Checklist_2.6_Scoring 2.6.1.1",{"$f":"'Checklist 2.6'!I4","v":0}]
[null,"Checklist_2.6_Scoring  2.6.1.2",{"$f":"'Checklist 2.6'!I5","v":0}]
[null,"Checklist_2.6_Scoring 2.6.1.3",{"$f":"'Checklist 2.6'!I6","v":0}]
[null,"Checklist_2.6_Scoring 2.6.4",{"$f":"'Checklist 2.6'!I7","v":0}]
[null,"Checklist_2.6_Scoring  2.6.5",{"$f":"'Checklist 2.6'!I8","v":0}]
[null,"Checklist_2.6_Scoring 2.6.6",{"$f":"'Checklist 2.6'!I9","v":0}]
[null,"Checklist_2.6_Scoring 2.6.7",{"$f":"'Checklist 2.6'!I10","v":0}]
[null,"Checklist_2.6_Scoring 2.6.8.1",{"$f":"'Checklist 2.6'!I11","v":0}]
[null,"Checklist_2.6_Scoring 2.6.8.3",{"$f":"'Checklist 2.6'!I12","v":0}]
[null,"Checklist_2.6_Scoring 2.6.10.1",{"$f":"'Checklist 2.6'!I13","v":0}]
[null,"Checklist_2.6_Scoring 2.6.10.2",{"$f":"'Checklist 2.6'!I14","v":0}]
[null,"Checklist_2.6_Scoring 2.6.10.3",{"$f":"'Checklist 2.6'!I15","v":0}]
[null,"Checklist_2.6_Scoring 2.6.10.4",{"$f":"'Checklist 2.6'!I16","v":0}]
[null,"Checklist_2.6_Scoring 2.6.10.5",{"$f":"'Checklist 2.6'!I17","v":0}]
[null,"Checklist_2.6_Scoring  2.6.11",{"$f":"'Checklist 2.6'!I18","v":0}]
[null,"Checklist_2.6_Scoring 2.6.12",{"$f":"'Checklist 2.6'!I19","v":0}]
[null,"Checklist_2.6_Scoring 2.6.13",{"$f":"'Checklist 2.6'!I20","v":0}]
[null,"Checklist_2.6_Scoring 2.6.14.1",{"$f":"'Checklist 2.6'!I21","v":0}]
[null,"Checklist_2.6_Scoring 2.6.14.2",{"$f":"'Checklist 2.6'!I22","v":0}]
[null,"Checklist_2.6_Scoring 2.6.14.3",{"$f":"'Checklist 2.6'!I23","v":0}]
[null,"Checklist_2.6_Scoring 2.6.14.4",{"$f":"'Checklist 2.6'!I24","v":0}]
[null,"Checklist_2.6_Scoring 2.6.14.5",{"$f":"'Checklist 2.6'!I25","v":0}]
[null,"Checklist_2.6_Scoring 2.6.14.6",{"$f":"'Checklist 2.6'!I26","v":0}]
[null,"Annex_1.3 a_1",{"$f":"'Annex 1.3a'!E4","v":0}]
[null,"Annex_1.3 a_2",{"$f":"'Annex 1.3a'!E5","v":0}]
[null,"Annex_1.3 a_3",{"$f":"'Annex 1.3a'!E6","v":0}]
[null,"Annex_1.3 a_4",{"$f":"'Annex 1.3a'!E7","v":0}]
[null,"Annex_1.3 a_5",{"$f":"'Annex 1.3a'!E8","v":0}]
[null,"Annex_1.3 a_6",{"$f":"'Annex 1.3a'!E9","v":0}]
[null,"Annex_1.3 a_7",{"$f":"'Annex 1.3a'!E11","v":0}]
[null,"Annex_1.3 a_8",{"$f":"'Annex 1.3a'!E12","v":0}]
[null,"Annex_1.3 a_9",{"$f":"'Annex 1.3a'!E13","v":0}]
[null,"Annex_1.3 a_10",{"$f":"'Annex 1.3a'!E14","v":0}]
[null,"Annex_1.3 a_11",{"$f":"'Annex 1.3a'!E15","v":0}]
[null,"Annex_1.3 a_12",{"$f":"'Annex 1.3a'!E16","v":0}]
[null,"Annex_1.3 a_13",{"$f":"'Annex 1.3a'!E17","v":0}]
[null,"Annex_1.3 a_14",{"$f":"'Annex 1.3a'!E19","v":0}]
[null,"Annex_1.3 a_15",{"$f":"'Annex 1.3a'!E22","v":0}]
[null,"Annex_1.3 a_16",{"$f":"'Annex 1.3a'!E23","v":0}]
[null,"Annex_1.3 a_17",{"$f":"'Annex 1.3a'!E24","v":0}]
[null,"Annex_1.3 a_18",{"$f":"'Annex 1.3a'!E25","v":0}]
[null,"Annex_1.3 a_19",{"$f":"'Annex 1.3a'!E26","v":0}]
[null,"Annex_1.3 a_20",{"$f":"'Annex 1.3a'!E27","v":0}]
[null,"Annex_1.3 a_21",{"$f":"'Annex 1.3a'!E28","v":0}]
[null,"Annex_1.3 a_22",{"$f":"'Annex 1.3a'!E31","v":0}]
[null,"Annex_1.3 a_23",{"$f":"'Annex 1.3a'!E32","v":0}]
[null,"Annex_1.3 a_24",{"$f":"'Annex 1.3a'!E33","v":0}]
[null,"Annex_1.3 a_25",{"$f":"'Annex 1.3a'!E34","v":0}]
[null,"Annex_1.3 a_26",{"$f":"'Annex 1.3a'!E35","v":0}]
[null,"Annex_1.3 a_Total Score",{"$f":"'Annex 1.3a'!E36","v":0}]
[null,"Annex_1.3 a_Percentage",{"$f":"'Annex 1.3a'!E37","v":0}]
[null,"Annex_2.1 a_GM_1",{"$f":"'Annex 2.1a- 2.14a'!E5","v":0}]
[null,"Annex_2.1 a_GM_2",{"$f":"'Annex 2.1a- 2.14a'!E6","v":0}]
[null,"Annex_2.1 a_GM_3",{"$f":"'Annex 2.1a- 2.14a'!E7","v":0}]
[null,"Annex_2.1 a_GM_4",{"$f":"'Annex 2.1a- 2.14a'!E8","v":0}]
[null,"Annex_2.1 a_GM_5",{"$f":"'Annex 2.1a- 2.14a'!E9","v":0}]
[null,"Annex_2.1 a_GM_6",{"$f":"'Annex 2.1a- 2.14a'!E10","v":0}]
[null,"Annex_2.1 a_GM_7",{"$f":"'Annex 2.1a- 2.14a'!E11","v":0}]
[null,"Annex_2.1 a_GM_8",{"$f":"'Annex 2.1a- 2.14a'!E12","v":0}]
[null,"Annex_2.1 a_GM_Total Score",{"$f":"'Annex 2.1a- 2.14a'!E13","v":0}]
[null,"Annex_2.1 a_GM_Percentage",{"$f":"'Annex 2.1a- 2.14a'!E14","v":{"v":0,"d":"0%"}}]
[null,"Annex_2.1 a_OG_1",{"$f":"'Annex 2.1a- 2.14a'!F5","v":0}]
[null,"Annex_2.1 a_OG_2",{"$f":"'Annex 2.1a- 2.14a'!F6","v":0}]
[null,"Annex_2.1 a_OG_3",{"$f":"'Annex 2.1a- 2.14a'!F7","v":0}]
[null,"Annex_2.1 a_OG_4",{"$f":"'Annex 2.1a- 2.14a'!F8","v":0}]
[null,"Annex_2.1 a_OG_5",{"$f":"'Annex 2.1a- 2.14a'!F9","v":0}]
[null,"Annex_2.1 a_OG_6",{"$f":"'Annex 2.1a- 2.14a'!F10","v":0}]
[null,"Annex_2.1 a_OG_7",{"$f":"'Annex 2.1a- 2.14a'!F11","v":0}]
[null,"Annex_2.1 a_OG_8",{"$f":"'Annex 2.1a- 2.14a'!F12","v":0}]
[null,"Annex_2.1 a_OG_Total Score",{"$f":"'Annex 2.1a- 2.14a'!F13","v":0}]
[null,"Annex_2.1 a_OG_Percentage",{"$f":"'Annex 2.1a- 2.14a'!F14","v":{"v":0,"d":"0%"}}]
[null,"Annex_2.1 a_PD_1",{"$f":"'Annex 2.1a- 2.14a'!G5","v":0}]
[null,"Annex_2.1 a_PD_2",{"$f":"'Annex 2.1a- 2.14a'!G6","v":0}]
[null,"Annex_2.1 a_PD_3",{"$f":"'Annex 2.1a- 2.14a'!G7","v":0}]
[null,"Annex_2.1 a_PD_4",{"$f":"'Annex 2.1a- 2.14a'!G8","v":0}]
[null,"Annex_2.1 a_PD_5",{"$f":"'Annex 2.1a- 2.14a'!G9","v":0}]
[null,"Annex_2.1 a_PD_6",{"$f":"'Annex 2.1a- 2.14a'!G10","v":0}]
[null,"Annex_2.1 a_PD_7",{"$f":"'Annex 2.1a- 2.14a'!G11","v":0}]
[null,"Annex_2.1 a_PD_8",{"$f":"'Annex 2.1a- 2.14a'!G12","v":0}]
[null,"Annex_2.1 a_PD_Total Score",{"$f":"'Annex 2.1a- 2.14a'!G13","v":0}]
[null,"Annex_2.1 a_PD_Percentage",{"$f":"'Annex 2.1a- 2.14a'!G14","v":{"v":0,"d":"0%"}}]
[null,"Annex_2.1 a_GS_1",{"$f":"'Annex 2.1a- 2.14a'!H5","v":0}]
[null,"Annex_2.1 a_GS_2",{"$f":"'Annex 2.1a- 2.14a'!H6","v":0}]
[null,"Annex_2.1 a_GS_3",{"$f":"'Annex 2.1a- 2.14a'!H7","v":0}]
[null,"Annex_2.1 a_GS_4",{"$f":"'Annex 2.1a- 2.14a'!H8","v":0}]
[null,"Annex_2.1 a_GS_5",{"$f":"'Annex 2.1a- 2.14a'!H9","v":0}]
[null,"Annex_2.1 a_GS_6",{"$f":"'Annex 2.1a- 2.14a'!H10","v":0}]
[null,"Annex_2.1 a_GS_7",{"$f":"'Annex 2.1a- 2.14a'!H11","v":0}]
[null,"Annex_2.1 a_GS_8",{"$f":"'Annex 2.1a- 2.14a'!H12","v":0}]
[null,"Annex_2.1 a_GS_Total Score",{"$f":"'Annex 2.1a- 2.14a'!H13","v":0}]
[null,"Annex_2.1 a_GS_Percentage",{"$f":"'Annex 2.1a- 2.14a'!H14","v":{"v":0,"d":"0%"}}]
[null,"Annex_2.1 a_OD_1",{"$f":"'Annex 2.1a- 2.14a'!I5","v":0}]
[null,"Annex_2.1 a_OD_2",{"$f":"'Annex 2.1a- 2.14a'!I6","v":0}]
[null,"Annex_2.1 a_OD_3",{"$f":"'Annex 2.1a- 2.14a'!I7","v":0}]
[null,"Annex_2.1 a_OD_4",{"$f":"'Annex 2.1a- 2.14a'!I8","v":0}]
[null,"Annex_2.1 a_OD_5",{"$f":"'Annex 2.1a- 2.14a'!I9","v":0}]
[null,"Annex_2.1 a_OD_6",{"$f":"'Annex 2.1a- 2.14a'!I10","v":0}]
[null,"Annex_2.1 a_OD_7",{"$f":"'Annex 2.1a- 2.14a'!I11","v":0}]
[null,"Annex_2.1 a_OD_8",{"$f":"'Annex 2.1a- 2.14a'!I12","v":0}]
[null,"Annex_2.1 a_OD_Total Score",{"$f":"'Annex 2.1a- 2.14a'!I13","v":0}]
[null,"Annex_2.1 a_OD_Percentage",{"$f":"'Annex 2.1a- 2.14a'!I14","v":{"v":0,"d":"0%"}}]
[null,"Annex_2.1 b_GM_1",{"$f":"'Annex 2.1a- 2.14a'!E32","v":0}]
[null,"Annex_2.1 b_GM_2",{"$f":"'Annex 2.1a- 2.14a'!E33","v":0}]
[null,"Annex_2.1 b_GM_3",{"$f":"'Annex 2.1a- 2.14a'!E34","v":0}]
[null,"Annex_2.1 b_GM_4",{"$f":"'Annex 2.1a- 2.14a'!E35","v":0}]
[null,"Annex_2.1 b_GM_5",{"$f":"'Annex 2.1a- 2.14a'!E36","v":0}]
[null,"Annex_2.1 b_GM_6",{"$f":"'Annex 2.1a- 2.14a'!E37","v":0}]
[null,"Annex_2.1 b_GM_7",{"$f":"'Annex 2.1a- 2.14a'!E38","v":0}]
[null,"Annex_2.1 b_GM_8",{"$f":"'Annex 2.1a- 2.14a'!E39","v":0}]
[null,"Annex_2.1 b_GM_9",{"$f":"'Annex 2.1a- 2.14a'!E40","v":0}]
[null,"Annex_2.1 b_GM_10",{"$f":"'Annex 2.1a- 2.14a'!E41","v":0}]
[null,"Annex_2.1 b_GM_11",{"$f":"'Annex 2.1a- 2.14a'!E42","v":0}]
[null,"Annex_2.1 b_GM_12",{"$f":"'Annex 2.1a- 2.14a'!E43","v":0}]
[null,"Annex_2.1 b_GM_13",{"$f":"'Annex 2.1a- 2.14a'!E44","v":0}]
[null,"Annex_2.1 b_GM_Total Score",{"$f":"'Annex 2.1a- 2.14a'!E54","v":0}]
[null,"Annex_2.1 b_GM_Percentage",{"$f":"'Annex 2.1a- 2.14a'!E56","v":{"v":0,"d":"0%"}}]
[null,"Annex_2.1 b_OG_1",{"$f":"'Annex 2.1a- 2.14a'!F32","v":0}]
[null,"Annex_2.1 b_OG_2",{"$f":"'Annex 2.1a- 2.14a'!F33","v":0}]
[null,"Annex_2.1 b_OG_3",{"$f":"'Annex 2.1a- 2.14a'!F34","v":0}]
[null,"Annex_2.1 b_OG_4",{"$f":"'Annex 2.1a- 2.14a'!F35","v":0}]
[null,"Annex_2.1 b_OG_5",{"$f":"'Annex 2.1a- 2.14a'!F36","v":0}]
[null,"Annex_2.1 b_OG_6",{"$f":"'Annex 2.1a- 2.14a'!F37","v":0}]
[null,"Annex_2.1 b_OG_7",{"$f":"'Annex 2.1a- 2.14a'!F38","v":0}]
[null,"Annex_2.1 b_OG_8",{"$f":"'Annex 2.1a- 2.14a'!F39","v":0}]
[null,"Annex_2.1 b_OG_9",{"$f":"'Annex 2.1a- 2.14a'!F40","v":0}]
[null,"Annex_2.1 b_OG_10",{"$f":"'Annex 2.1a- 2.14a'!F41","v":0}]
[null,"Annex_2.1 b_OG_11",{"$f":"'Annex 2.1a- 2.14a'!F42","v":0}]
[null,"Annex_2.1 b_OG_14",{"$f":"'Annex 2.1a- 2.14a'!F45","v":0}]
[null,"Annex_2.1 b_OG_15",{"$f":"'Annex 2.1a- 2.14a'!F46","v":0}]
[null,"Annex_2.1 b_OG_16",{"$f":"'Annex 2.1a- 2.14a'!F47","v":0}]
[null,"Annex_2.1 b_OG_17",{"$f":"'Annex 2.1a- 2.14a'!F48","v":0}]
[null,"Annex_2.1 b_OG_18",{"$f":"'Annex 2.1a- 2.14a'!F49","v":0}]
[null,"Annex_2.1 b_OG_Total Score",{"$f":"'Annex 2.1a- 2.14a'!F54","v":0}]
[null,"Annex_2.1 b_OG_Percentage",{"$f":"'Annex 2.1a- 2.14a'!F56","v":{"v":0,"d":"0%"}}]
[null,"Annex_2.1 b_PD_1",{"$f":"'Annex 2.1a- 2.14a'!G32","v":0}]
[null,"Annex_2.1 b_PD_2",{"$f":"'Annex 2.1a- 2.14a'!G33","v":0}]
[null,"Annex_2.1 b_PD_3",{"$f":"'Annex 2.1a- 2.14a'!G34","v":0}]
[null,"Annex_2.1 b_PD_4",{"$f":"'Annex 2.1a- 2.14a'!G35","v":0}]
[null,"Annex_2.1 b_PD_5",{"$f":"'Annex 2.1a- 2.14a'!G36","v":0}]
[null,"Annex_2.1 b_PD_6",{"$f":"'Annex 2.1a- 2.14a'!G37","v":0}]
[null,"Annex_2.1 b_PD_7",{"$f":"'Annex 2.1a- 2.14a'!G38","v":0}]
[null,"Annex_2.1 b_PD_8",{"$f":"'Annex 2.1a- 2.14a'!G39","v":0}]
[null,"Annex_2.1 b_PD_9",{"$f":"'Annex 2.1a- 2.14a'!G40","v":0}]
[null,"Annex_2.1 b_PD_10",{"$f":"'Annex 2.1a- 2.14a'!G41","v":0}]
[null,"Annex_2.1 b_PD_11",{"$f":"'Annex 2.1a- 2.14a'!G42","v":0}]
[null,"Annex_2.1 b_PD_19",{"$f":"'Annex 2.1a- 2.14a'!G50","v":0}]
[null,"Annex_2.1 b_PD_20",{"$f":"'Annex 2.1a- 2.14a'!G51","v":0}]
[null,"Annex_2.1 b_PD_Total Score",{"$f":"'Annex 2.1a- 2.14a'!G54","v":0}]
[null,"Annex_2.1 b_PD_Percentage",{"$f":"'Annex 2.1a- 2.14a'!G56","v":{"v":0,"d":"0%"}}]
[null,"Annex_2.1 b_GS_1",{"$f":"'Annex 2.1a- 2.14a'!H32","v":0}]
[null,"Annex_2.1 b_GS_2",{"$f":"'Annex 2.1a- 2.14a'!H33","v":0}]
[null,"Annex_2.1 b_GS_3",{"$f":"'Annex 2.1a- 2.14a'!H34","v":0}]
[null,"Annex_2.1 b_GS_4",{"$f":"'Annex 2.1a- 2.14a'!H35","v":0}]
[null,"Annex_2.1 b_GS_5",{"$f":"'Annex 2.1a- 2.14a'!H36","v":0}]
[null,"Annex_2.1 b_GS_6",{"$f":"'Annex 2.1a- 2.14a'!H37","v":0}]
[null,"Annex_2.1 b_GS_7",{"$f":"'Annex 2.1a- 2.14a'!H38","v":0}]
[null,"Annex_2.1 b_GS_8",{"$f":"'Annex 2.1a- 2.14a'!H39","v":0}]
[null,"Annex_2.1 b_GS_9",{"$f":"'Annex 2.1a- 2.14a'!H40","v":0}]
[null,"Annex_2.1 b_GS_10",{"$f":"'Annex 2.1a- 2.14a'!H41","v":0}]
[null,"Annex_2.1 b_GS_11",{"$f":"'Annex 2.1a- 2.14a'!H42","v":0}]
[null,"Annex_2.1 b_GS_12",{"$f":"'Annex 2.1a- 2.14a'!H43","v":0}]
[null,"Annex_2.1 b_GS_13",{"$f":"'Annex 2.1a- 2.14a'!H44","v":0}]
[null,"Annex_2.1 b_GS_Total Score",{"$f":"'Annex 2.1a- 2.14a'!H54","v":0}]
[null,"Annex_2.1 b_GS_Percentage",{"$f":"'Annex 2.1a- 2.14a'!H56","v":{"v":0,"d":"0%"}}]
[null,"Annex_2.1 b_OD_1",{"$f":"'Annex 2.1a- 2.14a'!I32","v":0}]
[null,"Annex_2.1 b_OD_2",{"$f":"'Annex 2.1a- 2.14a'!I33","v":0}]
[null,"Annex_2.1 b_OD_3",{"$f":"'Annex 2.1a- 2.14a'!I34","v":0}]
[null,"Annex_2.1 b_OD_4",{"$f":"'Annex 2.1a- 2.14a'!I35","v":0}]
[null,"Annex_2.1 b_OD_5",{"$f":"'Annex 2.1a- 2.14a'!I36","v":0}]
[null,"Annex_2.1 b_OD_6",{"$f":"'Annex 2.1a- 2.14a'!I37","v":0}]
[null,"Annex_2.1 b_OD_7",{"$f":"'Annex 2.1a- 2.14a'!I38","v":0}]
[null,"Annex_2.1 b_OD_8",{"$f":"'Annex 2.1a- 2.14a'!I39","v":0}]
[null,"Annex_2.1 b_OD_9",{"$f":"'Annex 2.1a- 2.14a'!I40","v":0}]
[null,"Annex_2.1 b_OD_10",{"$f":"'Annex 2.1a- 2.14a'!I41","v":0}]
[null,"Annex_2.1 b_OD_11",{"$f":"'Annex 2.1a- 2.14a'!I42","v":0}]
[null,"Annex_2.1 b_OD_21",{"$f":"'Annex 2.1a- 2.14a'!I52","v":0}]
[null,"Annex_2.1 b_OD_22",{"$f":"'Annex 2.1a- 2.14a'!I53","v":0}]
[null,"Annex_2.1 b_OD_Total Score",{"$f":"'Annex 2.1a- 2.14a'!I54","v":0}]
[null,"Annex_2.1 b_OD_Percentage",{"$f":"'Annex 2.1a- 2.14a'!I56","v":{"v":0,"d":"0%"}}]
[null,"Annex_2.2.1 a_1",{"$f":"'Annex 2.1a- 2.14a'!E74","v":0}]
[null,"Annex_2.2.1 a_2",{"$f":"'Annex 2.1a- 2.14a'!E75","v":0}]
[null,"Annex_2.2.1 a_3",{"$f":"'Annex 2.1a- 2.14a'!E76","v":0}]
[null,"Annex_2.2.1 a_4",{"$f":"'Annex 2.1a- 2.14a'!E77","v":0}]
[null,"Annex_2.2.1 a_5",{"$f":"'Annex 2.1a- 2.14a'!E78","v":0}]
[null,"Annex_2.2.1 a_6",{"$f":"'Annex 2.1a- 2.14a'!E79","v":0}]
[null,"Annex_2.2.1 a_7",{"$f":"'Annex 2.1a- 2.14a'!E80","v":0}]
[null,"Annex_2.2.1 a_8",{"$f":"'Annex 2.1a- 2.14a'!E81","v":0}]
[null,"Annex_2.2.1 a_Total Score",{"$f":"'Annex 2.1a- 2.14a'!E82","v":0}]
[null,"Annex_2.2.1 a_Percentage",{"$f":"'Annex 2.1a- 2.14a'!E83","v":{"v":0,"d":"0%"}}]
[null,"Annex_2.2.2 a_1",{"$f":"'Annex 2.1a- 2.14a'!E95","v":0}]
[null,"Annex_2.2.2 a_2",{"$f":"'Annex 2.1a- 2.14a'!E96","v":0}]
[null,"Annex_2.2.2 a_3",{"$f":"'Annex 2.1a- 2.14a'!E97","v":0}]
[null,"Annex_2.2.2 a_4",{"$f":"'Annex 2.1a- 2.14a'!E98","v":0}]
[null,"Annex_2.2.2 a_5",{"$f":"'Annex 2.1a- 2.14a'!E99","v":0}]
[null,"Annex_2.2.2 a_6",{"$f":"'Annex 2.1a- 2.14a'!E100","v":0}]
[null,"Annex_2.2.2 a_7",{"$f":"'Annex 2.1a- 2.14a'!E101","v":0}]
[null,"Annex_2.2.2 a_8",{"$f":"'Annex 2.1a- 2.14a'!E102","v":0}]
[null,"Annex_2.2.2 a_9",{"$f":"'Annex 2.1a- 2.14a'!E103","v":0}]
[null,"Annex_2.2.2 a_Total Score",{"$f":"'Annex 2.1a- 2.14a'!E104","v":0}]
[null,"Annex_2.2.2 a_Percentage",{"$f":"'Annex 2.1a- 2.14a'!E105","v":{"v":0,"d":"0%"}}]
[null,"Annex_2.2.4 a_1",{"$f":"'Annex 2.1a- 2.14a'!E118","v":0}]
[null,"Annex_2.2.4 a_2",{"$f":"'Annex 2.1a- 2.14a'!E119","v":0}]
[null,"Annex_2.2.4 a_3",{"$f":"'Annex 2.1a- 2.14a'!E120","v":0}]
[null,"Annex_2.2.4 a_4",{"$f":"'Annex 2.1a- 2.14a'!E121","v":0}]
[null,"Annex_2.2.4 a_5",{"$f":"'Annex 2.1a- 2.14a'!E122","v":0}]
[null,"Annex_2.2.4 a_6",{"$f":"'Annex 2.1a- 2.14a'!E123","v":0}]
[null,"Annex_2.2.4 a_7",{"$f":"'Annex 2.1a- 2.14a'!E124","v":0}]
[null,"Annex_2.2.4 a_8",{"$f":"'Annex 2.1a- 2.14a'!E125","v":0}]
[null,"Annex_2.2.4 a_9",{"$f":"'Annex 2.1a- 2.14a'!E126","v":0}]
[null,"Annex_2.2.4 a_10",{"$f":"'Annex 2.1a- 2.14a'!E127","v":0}]
[null,"Annex_2.2.4 a_11",{"$f":"'Annex 2.1a- 2.14a'!E128","v":0}]
[null,"Annex_2.2.4 a_12",{"$f":"'Annex 2.1a- 2.14a'!E129","v":0}]
[null,"Annex_2.2.4 a_13",{"$f":"'Annex 2.1a- 2.14a'!E130","v":0}]
[null,"Annex_2.2.4 a_14",{"$f":"'Annex 2.1a- 2.14a'!E131","v":0}]
[null,"Annex_2.2.4 a_15",{"$f":"'Annex 2.1a- 2.14a'!E132","v":0}]
[null,"Annex_2.2.4 a_16",{"$f":"'Annex 2.1a- 2.14a'!E133","v":0}]
[null,"Annex_2.2.4 a_17",{"$f":"'Annex 2.1a- 2.14a'!E134","v":0}]
[null,"Annex_2.2.4 a_18",{"$f":"'Annex 2.1a- 2.14a'!E135","v":0}]
[null,"Annex_2.2.4 a_19",{"$f":"'Annex 2.1a- 2.14a'!E136","v":0}]
[null,"Annex_2.2.4 a_20",{"$f":"'Annex 2.1a- 2.14a'!E137","v":0}]
[null,"Annex_2.2.4 a_21",{"$f":"'Annex 2.1a- 2.14a'!E138","v":0}]
[null,"Annex_2.2.4 a_22",{"$f":"'Annex 2.1a- 2.14a'!E139","v":0}]
[null,"Annex_2.2.4 a_23",{"$f":"'Annex 2.1a- 2.14a'!E140","v":0}]
[null,"Annex_2.2.4 a_24",{"$f":"'Annex 2.1a- 2.14a'!E141","v":0}]
[null,"Annex_2.2.4 a_25",{"$f":"'Annex 2.1a- 2.14a'!E142","v":0}]
[null,"Annex_2.2.4 a_26",{"$f":"'Annex 2.1a- 2.14a'!E143","v":0}]
[null,"Annex_2.2.4 a_27",{"$f":"'Annex 2.1a- 2.14a'!E144","v":0}]
[null,"Annex_2.2.4 a_28",{"$f":"'Annex 2.1a- 2.14a'!E145","v":0}]
[null,"Annex_2.2.4 a_29",{"$f":"'Annex 2.1a- 2.14a'!E146","v":0}]
[null,"Annex_2.2.4 a_30",{"$f":"'Annex 2.1a- 2.14a'!E147","v":0}]
[null,"Annex_2.2.4 a_31",{"$f":"'Annex 2.1a- 2.14a'!E148","v":0}]
[null,"Annex_2.2.4 a_32",{"$f":"'Annex 2.1a- 2.14a'!E149","v":0}]
[null,"Annex_2.2.4 a_33",{"$f":"'Annex 2.1a- 2.14a'!E150","v":0}]
[null,"Annex_2.2.4 a_34",{"$f":"'Annex 2.1a- 2.14a'!E151","v":0}]
[null,"Annex_2.2.4 a_35",{"$f":"'Annex 2.1a- 2.14a'!E152","v":0}]
[null,"Annex_2.2.4 a_36",{"$f":"'Annex 2.1a- 2.14a'!E153","v":0}]
[null,"Annex_2.2.4 a_37",{"$f":"'Annex 2.1a- 2.14a'!E154","v":0}]
[null,"Annex_2.2.4 a_38",{"$f":"'Annex 2.1a- 2.14a'!E155","v":0}]
[null,"Annex_2.2.4 a_39",{"$f":"'Annex 2.1a- 2.14a'!E156","v":0}]
[null,"Annex_2.2.4 a_40",{"$f":"'Annex 2.1a- 2.14a'!E157","v":0}]
[null,"Annex_2.2.4 a_41",{"$f":"'Annex 2.1a- 2.14a'!E158","v":0}]
[null,"Annex_2.2.4 a_42",{"$f":"'Annex 2.1a- 2.14a'!E159","v":0}]
[null,"Annex_2.2.4 a_Total Score",{"$f":"'Annex 2.1a- 2.14a'!E160","v":0}]
[null,"Annex_2.2.4 a_Percentage",{"$f":"'Annex 2.1a- 2.14a'!E161","v":{"v":0,"d":"0%"}}]
[null,"Annex_2.3 a_1",{"$f":"'Annex 2.1a- 2.14a'!E174","v":0}]
[null,"Annex_2.3 a_2",{"$f":"'Annex 2.1a- 2.14a'!E175","v":0}]
[null,"Annex_2.3 a_3",{"$f":"'Annex 2.1a- 2.14a'!E176","v":0}]
[null,"Annex_2.3 a_4",{"$f":"'Annex 2.1a- 2.14a'!E177","v":0}]
[null,"Annex_2.3 a_5",{"$f":"'Annex 2.1a- 2.14a'!E178","v":0}]
[null,"Annex_2.3 a_6",{"$f":"'Annex 2.1a- 2.14a'!E179","v":0}]
[null,"Annex_2.3 a_7",{"$f":"'Annex 2.1a- 2.14a'!E180","v":0}]
[null,"Annex_2.3 a_8",{"$f":"'Annex 2.1a- 2.14a'!E181","v":0}]
[null,"Annex_2.3 a_9",{"$f":"'Annex 2.1a- 2.14a'!E182","v":0}]
[null,"Annex_2.3 a_10",{"$f":"'Annex 2.1a- 2.14a'!E183","v":0}]
[null,"Annex_2.3 a_11",{"$f":"'Annex 2.1a- 2.14a'!E184","v":0}]
[null,"Annex_2.3 a_12",{"$f":"'Annex 2.1a- 2.14a'!E185","v":0}]
[null,"Annex_2.3 a_13",{"$f":"'Annex 2.1a- 2.14a'!E186","v":0}]
[null,"Annex_2.3 a_14",{"$f":"'Annex 2.1a- 2.14a'!E187","v":0}]
[null,"Annex_2.3 a_15",{"$f":"'Annex 2.1a- 2.14a'!E188","v":0}]
[null,"Annex_2.3 a_16",{"$f":"'Annex 2.1a- 2.14a'!E189","v":0}]
[null,"Annex_2.3 a_17",{"$f":"'Annex 2.1a- 2.14a'!E190","v":0}]
[null,"Annex_2.3 a_18",{"$f":"'Annex 2.1a- 2.14a'!E191","v":0}]
[null,"Annex_2.3 a_19",{"$f":"'Annex 2.1a- 2.14a'!E192","v":0}]
[null,"Annex_2.3 a_Total Score",{"$f":"'Annex 2.1a- 2.14a'!E193","v":0}]
[null,"Annex_2.3 a_Percentage",{"$f":"'Annex 2.1a- 2.14a'!E194","v":{"v":0,"d":"0%"}}]
[null,"Annex_2.3 b_1",{"$f":"'Annex 2.1a- 2.14a'!E209","v":0}]
[null,"Annex_2.3 b_2",{"$f":"'Annex 2.1a- 2.14a'!E210","v":0}]
[null,"Annex_2.3 b_3",{"$f":"'Annex 2.1a- 2.14a'!E211","v":0}]
[null,"Annex_2.3 b_4",{"$f":"'Annex 2.1a- 2.14a'!E212","v":0}]
[null,"Annex_2.3 b_5",{"$f":"'Annex 2.1a- 2.14a'!E213","v":0}]
[null,"Annex_2.3 b_6",{"$f":"'Annex 2.1a- 2.14a'!E214","v":0}]
[null,"Annex_2.3 b_7",{"$f":"'Annex 2.1a- 2.14a'!E215","v":0}]
[null,"Annex_2.3 b_8",{"$f":"'Annex 2.1a- 2.14a'!E216","v":0}]
[null,"Annex_2.3 b_9",{"$f":"'Annex 2.1a- 2.14a'!E217","v":0}]
[null,"Annex_2.3 b_10",{"$f":"'Annex 2.1a- 2.14a'!E218","v":0}]
[null,"Annex_2.3 b_11",{"$f":"'Annex 2.1a- 2.14a'!E219","v":0}]
[null,"Annex_2.3 b_12",{"$f":"'Annex 2.1a- 2.14a'!E220","v":0}]
[null,"Annex_2.3 b_13",{"$f":"'Annex 2.1a- 2.14a'!E221","v":0}]
[null,"Annex_2.3 b_14",{"$f":"'Annex 2.1a- 2.14a'!E222","v":0}]
[null,"Annex_2.3 b_15",{"$f":"'Annex 2.1a- 2.14a'!E223","v":0}]
[null,"Annex_2.3 b_16",{"$f":"'Annex 2.1a- 2.14a'!E224","v":0}]
[null,"Annex_2.3 b_17",{"$f":"'Annex 2.1a- 2.14a'!E225","v":0}]
[null,"Annex_2.3 b_18",{"$f":"'Annex 2.1a- 2.14a'!E226","v":0}]
[null,"Annex_2.3 b_19",{"$f":"'Annex 2.1a- 2.14a'!E227","v":0}]
[null,"Annex_2.3 b_20",{"$f":"'Annex 2.1a- 2.14a'!E228","v":0}]
[null,"Annex_2.3 b_21",{"$f":"'Annex 2.1a- 2.14a'!E229","v":0}]
[null,"Annex_2.3 b_22",{"$f":"'Annex 2.1a- 2.14a'!E230","v":0}]
[null,"Annex_2.3 b_23",{"$f":"'Annex 2.1a- 2.14a'!E231","v":0}]
[null,"Annex_2.3 b_24",{"$f":"'Annex 2.1a- 2.14a'!E232","v":0}]
[null,"Annex_2.3 b_25",{"$f":"'Annex 2.1a- 2.14a'!E233","v":0}]
[null,"Annex_2.3 b_26",{"$f":"'Annex 2.1a- 2.14a'!E234","v":0}]
[null,"Annex_2.3 b_27",{"$f":"'Annex 2.1a- 2.14a'!E235","v":0}]
[null,"Annex_2.3 b_28",{"$f":"'Annex 2.1a- 2.14a'!E236","v":0}]
[null,"Annex_2.3 b_29",{"$f":"'Annex 2.1a- 2.14a'!E237","v":0}]
[null,"Annex_2.3 b_30",{"$f":"'Annex 2.1a- 2.14a'!E238","v":0}]
[null,"Annex_2.3 b_31",{"$f":"'Annex 2.1a- 2.14a'!E239","v":0}]
[null,"Annex_2.3 b_32",{"$f":"'Annex 2.1a- 2.14a'!E240","v":0}]
[null,"Annex_2.3 b_33",{"$f":"'Annex 2.1a- 2.14a'!E241","v":0}]
[null,"Annex_2.3 b_34",{"$f":"'Annex 2.1a- 2.14a'!E242","v":0}]
[null,"Annex_2.3 b_35",{"$f":"'Annex 2.1a- 2.14a'!E243","v":0}]
[null,"Annex_2.3 b_Total Score",{"$f":"'Annex 2.1a- 2.14a'!E244","v":0}]
[null,"Annex_2.3 b_Percentage",{"$f":"'Annex 2.1a- 2.14a'!E245","v":{"v":0,"d":"0%"}}]
[null,"Annex_2.3 c_1",{"$f":"'Annex 2.1a- 2.14a'!D259","v":0}]
[null,"Annex_2.3 c_2",{"$f":"'Annex 2.1a- 2.14a'!D260","v":0}]
[null,"Annex_2.3 c_3",{"$f":"'Annex 2.1a- 2.14a'!D261","v":0}]
[null,"Annex_2.3 c_4",{"$f":"'Annex 2.1a- 2.14a'!D262","v":0}]
[null,"Annex_2.3 c_5",{"$f":"'Annex 2.1a- 2.14a'!D263","v":0}]
[null,"Annex_2.3 c_6",{"$f":"'Annex 2.1a- 2.14a'!D264","v":0}]
[null,"Annex_2.3 c_7",{"$f":"'Annex 2.1a- 2.14a'!D265","v":0}]
[null,"Annex_2.3 c_8",{"$f":"'Annex 2.1a- 2.14a'!D266","v":0}]
[null,"Annex_2.3 c_9",{"$f":"'Annex 2.1a- 2.14a'!D267","v":0}]
[null,"Annex_2.3 c_10",{"$f":"'Annex 2.1a- 2.14a'!D268","v":0}]
[null,"Annex_2.3 c_11",{"$f":"'Annex 2.1a- 2.14a'!D269","v":0}]
[null,"Annex_2.3 c_12",{"$f":"'Annex 2.1a- 2.14a'!D270","v":0}]
[null,"Annex_2.3 c_13",{"$f":"'Annex 2.1a- 2.14a'!D271","v":0}]
[null,"Annex_2.3 c_14",{"$f":"'Annex 2.1a- 2.14a'!D272","v":0}]
[null,"Annex_2.3 c_15",{"$f":"'Annex 2.1a- 2.14a'!D273","v":0}]
[null,"Annex_2.3 c_16",{"$f":"'Annex 2.1a- 2.14a'!D274","v":0}]
[null,"Annex_2.3 c_17",{"$f":"'Annex 2.1a- 2.14a'!D275","v":0}]
[null,"Annex_2.3 c_18",{"$f":"'Annex 2.1a- 2.14a'!D276","v":0}]
[null,"Annex_2.3 c_19",{"$f":"'Annex 2.1a- 2.14a'!D277","v":0}]
[null,"Annex_2.3 c_20",{"$f":"'Annex 2.1a- 2.14a'!D278","v":0}]
[null,"Annex_2.3 c_21",{"$f":"'Annex 2.1a- 2.14a'!D279","v":0}]
[null,"Annex_2.3 c_22",{"$f":"'Annex 2.1a- 2.14a'!D280","v":0}]
[null,"Annex_2.3 c_23",{"$f":"'Annex 2.1a- 2.14a'!D281","v":0}]
[null,"Annex_2.3 c_24",{"$f":"'Annex 2.1a- 2.14a'!D282","v":0}]
[null,"Annex_2.3 c_25",{"$f":"'Annex 2.1a- 2.14a'!D283","v":0}]
[null,"Annex_2.3 c_26",{"$f":"'Annex 2.1a- 2.14a'!D284","v":0}]
[null,"Annex_2.3 c_27",{"$f":"'Annex 2.1a- 2.14a'!D285","v":0}]
[null,"Annex_2.3 c_28",{"$f":"'Annex 2.1a- 2.14a'!D286","v":0}]
[null,"Annex_2.3 c_29",{"$f":"'Annex 2.1a- 2.14a'!D287","v":0}]
[null,"Annex_2.3 c_30",{"$f":"'Annex 2.1a- 2.14a'!D288","v":0}]
[null,"Annex_2.3 c_31",{"$f":"'Annex 2.1a- 2.14a'!D289","v":0}]
[null,"Annex_2.3 c_32",{"$f":"'Annex 2.1a- 2.14a'!D290","v":0}]
[null,"Annex_2.3 c_33",{"$f":"'Annex 2.1a- 2.14a'!D291","v":0}]
[null,"Annex_2.3 c_34",{"$f":"'Annex 2.1a- 2.14a'!D292","v":0}]
[null,"Annex_2.3 c_35",{"$f":"'Annex 2.1a- 2.14a'!D293","v":0}]
[null,"Annex_2.3 c_36",{"$f":"'Annex 2.1a- 2.14a'!D294","v":0}]
[null,"Annex_2.3 c_37",{"$f":"'Annex 2.1a- 2.14a'!D295","v":0}]
[null,"Annex_2.3 c_38",{"$f":"'Annex 2.1a- 2.14a'!D296","v":0}]
[null,"Annex_2.3 c_39",{"$f":"'Annex 2.1a- 2.14a'!D297","v":0}]
[null,"Annex_2.3 c_Total Score",{"$f":"'Annex 2.1a- 2.14a'!D298","v":0}]
[null,"Annex_2.3 c_Percentage",{"$f":"'Annex 2.1a- 2.14a'!D299","v":{"v":0,"d":"0%"}}]
[null,"Annex_2.3 d_1",{"$f":"'Annex 2.1a- 2.14a'!E311","v":0}]
[null,"Annex_2.3 d_2",{"$f":"'Annex 2.1a- 2.14a'!E312","v":0}]
[null,"Annex_2.3 d_3",{"$f":"'Annex 2.1a- 2.14a'!E313","v":0}]
[null,"Annex_2.3 d_4",{"$f":"'Annex 2.1a- 2.14a'!E314","v":0}]
[null,"Annex_2.3 d_5",{"$f":"'Annex 2.1a- 2.14a'!E315","v":0}]
[null,"Annex_2.3 d_6",{"$f":"'Annex 2.1a- 2.14a'!E316","v":0}]
[null,"Annex_2.3 d_7",{"$f":"'Annex 2.1a- 2.14a'!E317","v":0}]
[null,"Annex_2.3 d_8",{"$f":"'Annex 2.1a- 2.14a'!E318","v":0}]
[null,"Annex_2.3 d_9",{"$f":"'Annex 2.1a- 2.14a'!E319","v":0}]
[null,"Annex_2.3 d_10",{"$f":"'Annex 2.1a- 2.14a'!E320","v":0}]
[null,"Annex_2.3 d_11",{"$f":"'Annex 2.1a- 2.14a'!E321","v":0}]
[null,"Annex_2.3 d_12",{"$f":"'Annex 2.1a- 2.14a'!E322","v":0}]
[null,"Annex_2.3 d_13",{"$f":"'Annex 2.1a- 2.14a'!E323","v":0}]
[null,"Annex_2.3 d_14",{"$f":"'Annex 2.1a- 2.14a'!E325","v":0}]
[null,"Annex_2.3 d_15",{"$f":"'Annex 2.1a- 2.14a'!E326","v":0}]
[null,"Annex_2.3 d_16",{"$f":"'Annex 2.1a- 2.14a'!E327","v":0}]
[null,"Annex_2.3 d_17",{"$f":"'Annex 2.1a- 2.14a'!E328","v":0}]
[null,"Annex_2.3 d_18",{"$f":"'Annex 2.1a- 2.14a'!E329","v":0}]
[null,"Annex_2.3 d_19",{"$f":"'Annex 2.1a- 2.14a'!E330","v":0}]
[null,"Annex_2.3 d_20",{"$f":"'Annex 2.1a- 2.14a'!E331","v":0}]
[null,"Annex_2.3 d_21",{"$f":"'Annex 2.1a- 2.14a'!E332","v":0}]
[null,"Annex_2.3 d_22",{"$f":"'Annex 2.1a- 2.14a'!E333","v":0}]
[null,"Annex_2.3 d_23",{"$f":"'Annex 2.1a- 2.14a'!E334","v":0}]
[null,"Annex_2.3 d_24",{"$f":"'Annex 2.1a- 2.14a'!E335","v":0}]
[null,"Annex_2.3 d_25",{"$f":"'Annex 2.1a- 2.14a'!E336","v":0}]
[null,"Annex_2.3 d_26",{"$f":"'Annex 2.1a- 2.14a'!E337","v":0}]
[null,"Annex_2.3 d_27",{"$f":"'Annex 2.1a- 2.14a'!E338","v":0}]
[null,"Annex_2.3 d_28",{"$f":"'Annex 2.1a- 2.14a'!E339","v":0}]
[null,"Annex_2.3 d_29",{"$f":"'Annex 2.1a- 2.14a'!E340","v":0}]
[null,"Annex_2.3 d_30",{"$f":"'Annex 2.1a- 2.14a'!E342","v":0}]
[null,"Annex_2.3 d_31",{"$f":"'Annex 2.1a- 2.14a'!E343","v":0}]
[null,"Annex_2.3 d_32",{"$f":"'Annex 2.1a- 2.14a'!E344","v":0}]
[null,"Annex_2.3 d_33",{"$f":"'Annex 2.1a- 2.14a'!E345","v":0}]
[null,"Annex_2.3 d_34",{"$f":"'Annex 2.1a- 2.14a'!E346","v":0}]
[null,"Annex_2.3 d_35",{"$f":"'Annex 2.1a- 2.14a'!E347","v":0}]
[null,"Annex_2.3 d_36",{"$f":"+'Annex 2.1a- 2.14a'!E349","v":0}]
[null,"Annex_2.3 d_37",{"$f":"+'Annex 2.1a- 2.14a'!E350","v":0}]
[null,"Annex_2.3 d_38",{"$f":"+'Annex 2.1a- 2.14a'!E351","v":0}]
[null,"Annex_2.3 d_39",{"$f":"+'Annex 2.1a- 2.14a'!E352","v":0}]
[null,"Annex_2.3 d_40",{"$f":"+'Annex 2.1a- 2.14a'!E353","v":0}]
[null,"Annex_2.3 d_41",{"$f":"+'Annex 2.1a- 2.14a'!E354","v":0}]
[null,"Annex_2.3 d_42",{"$f":"+'Annex 2.1a- 2.14a'!E355","v":0}]
[null,"Annex_2.3 d_43",{"$f":"+'Annex 2.1a- 2.14a'!E356","v":0}]
[null,"Annex_2.3 d_44",{"$f":"+'Annex 2.1a- 2.14a'!E357","v":0}]
[null,"Annex_2.3 d_45",{"$f":"+'Annex 2.1a- 2.14a'!E358","v":0}]
[null,"Annex_2.3 d_46",{"$f":"+'Annex 2.1a- 2.14a'!E359","v":0}]
[null,"Annex_2.3 d_47",{"$f":"+'Annex 2.1a- 2.14a'!E360","v":0}]
[null,"Annex_2.3 d_48",{"$f":"+'Annex 2.1a- 2.14a'!E361","v":0}]
[null,"Annex_2.3 d_49",{"$f":"+'Annex 2.1a- 2.14a'!E362","v":0}]
[null,"Annex_2.3 d_50",{"$f":"+'Annex 2.1a- 2.14a'!E363","v":0}]
[null,"Annex_2.3 d_51",{"$f":"+'Annex 2.1a- 2.14a'!E364","v":0}]
[null,"Annex_2.3 d_52",{"$f":"+'Annex 2.1a- 2.14a'!E365","v":0}]
[null,"Annex_2.3 d_53",{"$f":"+'Annex 2.1a- 2.14a'!E366","v":0}]
[null,"Annex_2.3 d_54",{"$f":"+'Annex 2.1a- 2.14a'!E367","v":0}]
[null,"Annex_2.3 d_55",{"$f":"+'Annex 2.1a- 2.14a'!E368","v":0}]
[null,"Annex_2.3 d_56",{"$f":"+'Annex 2.1a- 2.14a'!E369","v":0}]
[null,"Annex_2.3 d_57",{"$f":"+'Annex 2.1a- 2.14a'!E370","v":0}]
[null,"Annex_2.3 d_58",{"$f":"+'Annex 2.1a- 2.14a'!E371","v":0}]
[null,"Annex_2.3 d_59",{"$f":"+'Annex 2.1a- 2.14a'!E372","v":0}]
[null,"Annex_2.3 d_60",{"$f":"+'Annex 2.1a- 2.14a'!E373","v":0}]
[null,"Annex_2.3 d_61",{"$f":"+'Annex 2.1a- 2.14a'!E374","v":0}]
[null,"Annex_2.3 d_62",{"$f":"+'Annex 2.1a- 2.14a'!E375","v":0}]
[null,"Annex_2.3 d_63",{"$f":"+'Annex 2.1a- 2.14a'!E376","v":0}]
[null,"Annex_2.3 d_64",{"$f":"+'Annex 2.1a- 2.14a'!E377","v":0}]
[null,"Annex_2.3 d_65",{"$f":"+'Annex 2.1a- 2.14a'!E378","v":0}]
[null,"Annex_2.3 d_66",{"$f":"+'Annex 2.1a- 2.14a'!E379","v":0}]
[null,"Annex_2.3 d_67",{"$f":"+'Annex 2.1a- 2.14a'!E380","v":0}]
[null,"Annex_2.3 d_68",{"$f":"+'Annex 2.1a- 2.14a'!E381","v":0}]
[null,"Annex_2.3 d_69",{"$f":"+'Annex 2.1a- 2.14a'!E382","v":0}]
[null,"Annex_2.3 d_70",{"$f":"+'Annex 2.1a- 2.14a'!E383","v":0}]
[null,"Annex_2.3 d_71",{"$f":"+'Annex 2.1a- 2.14a'!E384","v":0}]
[null,"Annex_2.3 d_Total Score",{"$f":"+'Annex 2.1a- 2.14a'!E385","v":0}]
[null,"Annex_2.3 d_Percentage",{"$f":"+'Annex 2.1a- 2.14a'!E386","v":{"v":0,"d":"0%"}}]
[null,"Annex_2.4 a_1",{"$f":"'Annex 2.1a- 2.14a'!E398","v":0}]
[null,"Annex_2.4 a_2",{"$f":"'Annex 2.1a- 2.14a'!E399","v":0}]
[null,"Annex_2.4 a_3",{"$f":"'Annex 2.1a- 2.14a'!E400","v":0}]
[null,"Annex_2.4 a_4",{"$f":"'Annex 2.1a- 2.14a'!E401","v":0}]
[null,"Annex_2.4 a_5",{"$f":"'Annex 2.1a- 2.14a'!E402","v":0}]
[null,"Annex_2.4 a_6",{"$f":"'Annex 2.1a- 2.14a'!E403","v":0}]
[null,"Annex_2.4 a_7",{"$f":"'Annex 2.1a- 2.14a'!E404","v":0}]
[null,"Annex_2.4 a_8",{"$f":"'Annex 2.1a- 2.14a'!E405","v":0}]
[null,"Annex_2.4 a_9",{"$f":"'Annex 2.1a- 2.14a'!E406","v":0}]
[null,"Annex_2.4 a_Total Score",{"$f":"'Annex 2.1a- 2.14a'!E407","v":0}]
[null,"Annex_2.4 a_Percentage",{"$f":"'Annex 2.1a- 2.14a'!E408","v":{"v":0,"d":"0%"}}]
[null,"Annex_2.4. b_1",{"$f":"'Annex 2.1a- 2.14a'!D421","v":0}]
[null,"Annex_2.4. b_2",{"$f":"'Annex 2.1a- 2.14a'!D422","v":0}]
[null,"Annex_2.4. b_3",{"$f":"'Annex 2.1a- 2.14a'!D423","v":0}]
[null,"Annex_2.4. b_4",{"$f":"'Annex 2.1a- 2.14a'!D424","v":0}]
[null,"Annex_2.4. b_5",{"$f":"'Annex 2.1a- 2.14a'!D425","v":0}]
[null,"Annex_2.4. b_6",{"$f":"'Annex 2.1a- 2.14a'!D426","v":0}]
[null,"Annex_2.4. b_7",{"$f":"'Annex 2.1a- 2.14a'!D427","v":0}]
[null,"Annex_2.4. b_8",{"$f":"'Annex 2.1a- 2.14a'!D428","v":0}]
[null,"Annex_2.4. b_Total Score",{"$f":"'Annex 2.1a- 2.14a'!D429","v":0}]
[null,"Annex_2.4. b_Percentage",{"$f":"'Annex 2.1a- 2.14a'!D430","v":{"v":0,"d":"0%"}}]
[null,"Annex_2.4c_1",{"$f":"'Annex 2.1a- 2.14a'!E442","v":0}]
[null,"Annex_2.4c_2",{"$f":"'Annex 2.1a- 2.14a'!E443","v":0}]
[null,"Annex_2.4c_3",{"$f":"'Annex 2.1a- 2.14a'!E444","v":0}]
[null,"Annex_2.4c_4",{"$f":"'Annex 2.1a- 2.14a'!E445","v":0}]
[null,"Annex_2.4c_5",{"$f":"'Annex 2.1a- 2.14a'!E446","v":0}]
[null,"Annex_2.4c_6",{"$f":"'Annex 2.1a- 2.14a'!E447","v":0}]
[null,"Annex_2.4c_7",{"$f":"'Annex 2.1a- 2.14a'!E448","v":0}]
[null,"Annex_2.4c_8",{"$f":"'Annex 2.1a- 2.14a'!E449","v":0}]
[null,"Annex_2.4c_9",{"$f":"'Annex 2.1a- 2.14a'!E450","v":0}]
[null,"Annex_2.4c_10",{"$f":"'Annex 2.1a- 2.14a'!E451","v":0}]
[null,"Annex_2.4c_11",{"$f":"'Annex 2.1a- 2.14a'!E452","v":0}]
[null,"Annex_2.4c_12",{"$f":"'Annex 2.1a- 2.14a'!E453","v":0}]
[null,"Annex_2.4c_13",{"$f":"'Annex 2.1a- 2.14a'!E454","v":0}]
[null,"Annex_2.4c_14",{"$f":"'Annex 2.1a- 2.14a'!E455","v":0}]
[null,"Annex_2.4c_Total Score",{"$f":"'Annex 2.1a- 2.14a'!E456","v":0}]
[null,"Annex_2.4c_Percentage",{"$f":"'Annex 2.1a- 2.14a'!E457","v":{"v":0,"d":"0%"}}]
[null,"Annex_2.4 d_1",{"$f":"'Annex 2.1a- 2.14a'!E471","v":0}]
[null,"Annex_2.4 d_2",{"$f":"'Annex 2.1a- 2.14a'!E472","v":0}]
[null,"Annex_2.4 d_3",{"$f":"'Annex 2.1a- 2.14a'!E473","v":0}]
[null,"Annex_2.4 d_4",{"$f":"'Annex 2.1a- 2.14a'!E474","v":0}]
[null,"Annex_2.4 d_5",{"$f":"'Annex 2.1a- 2.14a'!E475","v":0}]
[null,"Annex_2.4 d_6",{"$f":"'Annex 2.1a- 2.14a'!E476","v":0}]
[null,"Annex_2.4 d_7",{"$f":"'Annex 2.1a- 2.14a'!E477","v":0}]
[null,"Annex_2.4 d_8",{"$f":"'Annex 2.1a- 2.14a'!E478","v":0}]
[null,"Annex_2.4 d_9",{"$f":"'Annex 2.1a- 2.14a'!E479","v":0}]
[null,"Annex_2.4 d_Total Score",{"$f":"'Annex 2.1a- 2.14a'!E480","v":0}]
[null,"Annex_2.4 d_Percentage",{"$f":"'Annex 2.1a- 2.14a'!E481","v":{"v":0,"d":"0%"}}]
[null,"Annex_2.6a  MW_1",{"$f":"'Annex 2.1a- 2.14a'!E495","v":0}]
[null,"Annex_2.6a  MW_2",{"$f":"'Annex 2.1a- 2.14a'!E496","v":0}]
[null,"Annex_2.6a  MW_3",{"$f":"'Annex 2.1a- 2.14a'!E497","v":0}]
[null,"Annex_2.6a  MW_4",{"$f":"'Annex 2.1a- 2.14a'!E498","v":0}]
[null,"Annex_2.6a  MW_5",{"$f":"'Annex 2.1a- 2.14a'!E499","v":0}]
[null,"Annex_2.6a  MW_6",{"$f":"'Annex 2.1a- 2.14a'!E500","v":0}]
[null,"Annex_2.6a  MW_7",{"$f":"'Annex 2.1a- 2.14a'!E501","v":0}]
[null,"Annex_2.6a  MW_8",{"$f":"'Annex 2.1a- 2.14a'!E502","v":0}]
[null,"Annex_2.6a  MW_9",{"$f":"'Annex 2.1a- 2.14a'!E503","v":0}]
[null,"Annex_2.6a  MW_10",{"$f":"'Annex 2.1a- 2.14a'!E504","v":0}]
[null,"Annex_2.6a  MW_11",{"$f":"'Annex 2.1a- 2.14a'!E505","v":0}]
[null,"Annex_2.6a  MW_12",{"$f":"'Annex 2.1a- 2.14a'!E506","v":0}]
[null,"Annex_2.6a  MW_13",{"$f":"'Annex 2.1a- 2.14a'!E507","v":0}]
[null,"Annex_2.6a  MW_14",{"$f":"'Annex 2.1a- 2.14a'!E508","v":0}]
[null,"Annex_2.6a  MW_15",{"$f":"'Annex 2.1a- 2.14a'!E509","v":0}]
[null,"Annex_2.6a  MW_16",{"$f":"'Annex 2.1a- 2.14a'!E510","v":0}]
[null,"Annex_2.6a  MW_17",{"$f":"'Annex 2.1a- 2.14a'!E511","v":0}]
[null,"Annex_2.6a  MW_18",{"$f":"'Annex 2.1a- 2.14a'!E512","v":0}]
[null,"Annex_2.6a  MW_19",{"$f":"'Annex 2.1a- 2.14a'!E513","v":0}]
[null,"Annex_2.6a  MW_20",{"$f":"'Annex 2.1a- 2.14a'!E514","v":0}]
[null,"Annex_2.6a  MW_21",{"$f":"'Annex 2.1a- 2.14a'!E515","v":0}]
[null,"Annex_2.6a  MW_22",{"$f":"'Annex 2.1a- 2.14a'!E516","v":0}]
[null,"Annex_2.6a  MW_23",{"$f":"'Annex 2.1a- 2.14a'!E517","v":0}]
[null,"Annex_2.6a  MW_24",{"$f":"'Annex 2.1a- 2.14a'!E518","v":0}]
[null,"Annex_2.6a  MW_25",{"$f":"'Annex 2.1a- 2.14a'!E519","v":0}]
[null,"Annex_2.6a  MW_26",{"$f":"'Annex 2.1a- 2.14a'!E520","v":0}]
[null,"Annex_2.6a  MW_27",{"$f":"'Annex 2.1a- 2.14a'!E521","v":0}]
[null,"Annex_2.6a  MW_28",{"$f":"'Annex 2.1a- 2.14a'!E522","v":0}]
[null,"Annex_2.6a  MW_29",{"$f":"'Annex 2.1a- 2.14a'!E523","v":0}]
[null,"Annex_2.6a  MW_30",{"$f":"'Annex 2.1a- 2.14a'!E524","v":0}]
[null,"Annex_2.6a MW_Total Score",{"$f":"'Annex 2.1a- 2.14a'!E525","v":0}]
[null,"Annex_2.6a MW_Percentage",{"$f":"'Annex 2.1a- 2.14a'!E526","v":{"v":0,"d":"0%"}}]
[null,"Annex_2.6a SW_1",{"$f":"'Annex 2.1a- 2.14a'!F495","v":0}]
[null,"Annex_2.6a SW_2",{"$f":"'Annex 2.1a- 2.14a'!F496","v":0}]
[null,"Annex_2.6a SW_3",{"$f":"'Annex 2.1a- 2.14a'!F497","v":0}]
[null,"Annex_2.6a SW_4",{"$f":"'Annex 2.1a- 2.14a'!F498","v":0}]
[null,"Annex_2.6a SW_5",{"$f":"'Annex 2.1a- 2.14a'!F499","v":0}]
[null,"Annex_2.6a SW_6",{"$f":"'Annex 2.1a- 2.14a'!F500","v":0}]
[null,"Annex_2.6a SW_7",{"$f":"'Annex 2.1a- 2.14a'!F501","v":0}]
[null,"Annex_2.6a SW_8",{"$f":"'Annex 2.1a- 2.14a'!F502","v":0}]
[null,"Annex_2.6a SW_9",{"$f":"'Annex 2.1a- 2.14a'!F503","v":0}]
[null,"Annex_2.6a SW_10",{"$f":"'Annex 2.1a- 2.14a'!F504","v":0}]
[null,"Annex_2.6a SW_11",{"$f":"'Annex 2.1a- 2.14a'!F505","v":0}]
[null,"Annex_2.6a SW_12",{"$f":"'Annex 2.1a- 2.14a'!F506","v":0}]
[null,"Annex_2.6a SW_13",{"$f":"'Annex 2.1a- 2.14a'!F507","v":0}]
[null,"Annex_2.6a SW_14",{"$f":"'Annex 2.1a- 2.14a'!F508","v":0}]
[null,"Annex_2.6a SW_15",{"$f":"'Annex 2.1a- 2.14a'!F509","v":0}]
[null,"Annex_2.6a SW_16",{"$f":"'Annex 2.1a- 2.14a'!F510","v":0}]
[null,"Annex_2.6a SW_17",{"$f":"'Annex 2.1a- 2.14a'!F511","v":0}]
[null,"Annex_2.6a SW_18",{"$f":"'Annex 2.1a- 2.14a'!F512","v":0}]
[null,"Annex_2.6a SW_19",{"$f":"'Annex 2.1a- 2.14a'!F513","v":0}]
[null,"Annex_2.6a SW_20",{"$f":"'Annex 2.1a- 2.14a'!F514","v":0}]
[null,"Annex_2.6a SW_21",{"$f":"'Annex 2.1a- 2.14a'!F515","v":0}]
[null,"Annex_2.6a SW_22",{"$f":"'Annex 2.1a- 2.14a'!F516","v":0}]
[null,"Annex_2.6a SW_23",{"$f":"'Annex 2.1a- 2.14a'!F517","v":0}]
[null,"Annex_2.6a SW_24",{"$f":"'Annex 2.1a- 2.14a'!F518","v":0}]
[null,"Annex_2.6a SW_25",{"$f":"'Annex 2.1a- 2.14a'!F519","v":0}]
[null,"Annex_2.6a SW_26",{"$f":"'Annex 2.1a- 2.14a'!F520","v":0}]
[null,"Annex_2.6a SW_27",{"$f":"'Annex 2.1a- 2.14a'!F521","v":0}]
[null,"Annex_2.6a SW_28",{"$f":"'Annex 2.1a- 2.14a'!F522","v":0}]
[null,"Annex_2.6a SW_29",{"$f":"'Annex 2.1a- 2.14a'!F523","v":0}]
[null,"Annex_2.6a SW_30",{"$f":"'Annex 2.1a- 2.14a'!F524","v":0}]
[null,"Annex_2.6a SW_Total Score",{"$f":"'Annex 2.1a- 2.14a'!F525","v":0}]
[null,"Annex_2.6a SW_Percentage",{"$f":"'Annex 2.1a- 2.14a'!F526","v":{"v":0,"d":"0%"}}]
[null,"Annex_2.6a PW_1",{"$f":"'Annex 2.1a- 2.14a'!G495","v":0}]
[null,"Annex_2.6a PW_2",{"$f":"'Annex 2.1a- 2.14a'!G496","v":0}]
[null,"Annex_2.6a PW_3",{"$f":"'Annex 2.1a- 2.14a'!G497","v":0}]
[null,"Annex_2.6a PW_4",{"$f":"'Annex 2.1a- 2.14a'!G498","v":0}]
[null,"Annex_2.6a PW_5",{"$f":"'Annex 2.1a- 2.14a'!G499","v":0}]
[null,"Annex_2.6a PW_6",{"$f":"'Annex 2.1a- 2.14a'!G500","v":0}]
[null,"Annex_2.6a PW_7",{"$f":"'Annex 2.1a- 2.14a'!G501","v":0}]
[null,"Annex_2.6a PW_8",{"$f":"'Annex 2.1a- 2.14a'!G502","v":0}]
[null,"Annex_2.6a PW_9",{"$f":"'Annex 2.1a- 2.14a'!G503","v":0}]
[null,"Annex_2.6a PW_10",{"$f":"'Annex 2.1a- 2.14a'!G504","v":0}]
[null,"Annex_2.6a PW_11",{"$f":"'Annex 2.1a- 2.14a'!G505","v":0}]
[null,"Annex_2.6a PW_12",{"$f":"'Annex 2.1a- 2.14a'!G506","v":0}]
[null,"Annex_2.6a PW_13",{"$f":"'Annex 2.1a- 2.14a'!G507","v":0}]
[null,"Annex_2.6a PW_14",{"$f":"'Annex 2.1a- 2.14a'!G508","v":0}]
[null,"Annex_2.6a PW_15",{"$f":"'Annex 2.1a- 2.14a'!G509","v":0}]
[null,"Annex_2.6a PW_16",{"$f":"'Annex 2.1a- 2.14a'!G510","v":0}]
[null,"Annex_2.6a PW_17",{"$f":"'Annex 2.1a- 2.14a'!G511","v":0}]
[null,"Annex_2.6a PW_18",{"$f":"'Annex 2.1a- 2.14a'!G512","v":0}]
[null,"Annex_2.6a PW_19",{"$f":"'Annex 2.1a- 2.14a'!G513","v":0}]
[null,"Annex_2.6a PW_20",{"$f":"'Annex 2.1a- 2.14a'!G514","v":0}]
[null,"Annex_2.6a PW_21",{"$f":"'Annex 2.1a- 2.14a'!G515","v":0}]
[null,"Annex_2.6a PW_22",{"$f":"'Annex 2.1a- 2.14a'!G516","v":0}]
[null,"Annex_2.6a PW_23",{"$f":"'Annex 2.1a- 2.14a'!G517","v":0}]
[null,"Annex_2.6a PW_24",{"$f":"'Annex 2.1a- 2.14a'!G518","v":0}]
[null,"Annex_2.6a PW_25",{"$f":"'Annex 2.1a- 2.14a'!G519","v":0}]
[null,"Annex_2.6a PW_26",{"$f":"'Annex 2.1a- 2.14a'!G520","v":0}]
[null,"Annex_2.6a PW_27",{"$f":"'Annex 2.1a- 2.14a'!G521","v":0}]
[null,"Annex_2.6a PW_28",{"$f":"'Annex 2.1a- 2.14a'!G522","v":0}]
[null,"Annex_2.6a PW_29",{"$f":"'Annex 2.1a- 2.14a'!G523","v":0}]
[null,"Annex_2.6a PW_30",{"$f":"'Annex 2.1a- 2.14a'!G524","v":0}]
[null,"Annex_2.6a PW_Total Score",{"$f":"'Annex 2.1a- 2.14a'!G525","v":0}]
[null,"Annex_2.6a PW_Percentage",{"$f":"'Annex 2.1a- 2.14a'!G526","v":{"v":0,"d":"0%"}}]
[null,"Annex_2.6b  MW_1",{"$f":"'Annex 2.1a- 2.14a'!E542","v":0}]
[null,"Annex_2.6b  MW_2",{"$f":"'Annex 2.1a- 2.14a'!E543","v":0}]
[null,"Annex_2.6b  MW_3",{"$f":"'Annex 2.1a- 2.14a'!E544","v":0}]
[null,"Annex_2.6b  MW_4",{"$f":"'Annex 2.1a- 2.14a'!E545","v":0}]
[null,"Annex_2.6b  MW_5",{"$f":"'Annex 2.1a- 2.14a'!E546","v":0}]
[null,"Annex_2.6b  MW_6",{"$f":"'Annex 2.1a- 2.14a'!E547","v":0}]
[null,"Annex_2.6b  MW_7",{"$f":"'Annex 2.1a- 2.14a'!E548","v":0}]
[null,"Annex_2.6b  MW_8",{"$f":"'Annex 2.1a- 2.14a'!E549","v":0}]
[null,"Annex_2.6b  MW_9",{"$f":"'Annex 2.1a- 2.14a'!E550","v":0}]
[null,"Annex_2.6b  MW_10",{"$f":"'Annex 2.1a- 2.14a'!E551","v":0}]
[null,"Annex_2.6b  MW_11",{"$f":"'Annex 2.1a- 2.14a'!E552","v":0}]
[null,"Annex_2.6b  MW_Total Score",{"$f":"'Annex 2.1a- 2.14a'!E553","v":0}]
[null,"Annex_2.6b  MW_Percentage",{"$f":"'Annex 2.1a- 2.14a'!E554","v":{"v":0,"d":"0%"}}]
[null,"Annex_2.6b SW_1",{"$f":"'Annex 2.1a- 2.14a'!F542","v":0}]
[null,"Annex_2.6b SW_2",{"$f":"'Annex 2.1a- 2.14a'!F543","v":0}]
[null,"Annex_2.6b SW_3",{"$f":"'Annex 2.1a- 2.14a'!F544","v":0}]
[null,"Annex_2.6b SW_4",{"$f":"'Annex 2.1a- 2.14a'!F545","v":0}]
[null,"Annex_2.6b SW_5",{"$f":"'Annex 2.1a- 2.14a'!F546","v":0}]
[null,"Annex_2.6b SW_6",{"$f":"'Annex 2.1a- 2.14a'!F547","v":0}]
[null,"Annex_2.6b SW_7",{"$f":"'Annex 2.1a- 2.14a'!F548","v":0}]
[null,"Annex_2.6b SW_8",{"$f":"'Annex 2.1a- 2.14a'!F549","v":0}]
[null,"Annex_2.6b SW_9",{"$f":"'Annex 2.1a- 2.14a'!F550","v":0}]
[null,"Annex_2.6b SW_10",{"$f":"'Annex 2.1a- 2.14a'!F551","v":0}]
[null,"Annex_2.6b SW_11",{"$f":"'Annex 2.1a- 2.14a'!F552","v":0}]
[null,"Annex_2.6b SW_Total Score",{"$f":"'Annex 2.1a- 2.14a'!F553","v":0}]
[null,"Annex_2.6b SW_Percentage",{"$f":"'Annex 2.1a- 2.14a'!F554","v":{"v":0,"d":"0%"}}]
[null,"Annex_2.6c PW_1",{"$f":"'Annex 2.1a- 2.14a'!G542","v":0}]
[null,"Annex_2.6c PW_2",{"$f":"'Annex 2.1a- 2.14a'!G543","v":0}]
[null,"Annex_2.6c PW_3",{"$f":"'Annex 2.1a- 2.14a'!G544","v":0}]
[null,"Annex_2.6c PW_4",{"$f":"'Annex 2.1a- 2.14a'!G545","v":0}]
[null,"Annex_2.6c PW_5",{"$f":"'Annex 2.1a- 2.14a'!G546","v":0}]
[null,"Annex_2.6c PW_6",{"$f":"'Annex 2.1a- 2.14a'!G547","v":0}]
[null,"Annex_2.6c PW_7",{"$f":"'Annex 2.1a- 2.14a'!G548","v":0}]
[null,"Annex_2.6c PW_8",{"$f":"'Annex 2.1a- 2.14a'!G549","v":0}]
[null,"Annex_2.6c PW_9",{"$f":"'Annex 2.1a- 2.14a'!G550","v":0}]
[null,"Annex_2.6c PW_10",{"$f":"'Annex 2.1a- 2.14a'!G551","v":0}]
[null,"Annex_2.6c PW_11",{"$f":"'Annex 2.1a- 2.14a'!G552","v":0}]
[null,"Annex_2.6c PW_Total Score",{"$f":"'Annex 2.1a- 2.14a'!G553","v":0}]
[null,"Annex_2.6c PW_Percentage",{"$f":"'Annex 2.1a- 2.14a'!G554","v":{"v":0,"d":"0%"}}]
[null,"Annex_2.6c MW_1",{"$f":"'Annex 2.1a- 2.14a'!E571","v":0}]
[null,"Annex_2.6c MW_2",{"$f":"'Annex 2.1a- 2.14a'!E572","v":0}]
[null,"Annex_2.6c MW_3",{"$f":"'Annex 2.1a- 2.14a'!E573","v":0}]
[null,"Annex_2.6c MW_4",{"$f":"'Annex 2.1a- 2.14a'!E574","v":0}]
[null,"Annex_2.6c MW_5",{"$f":"'Annex 2.1a- 2.14a'!E575","v":0}]
[null,"Annex_2.6c MW_6",{"$f":"'Annex 2.1a- 2.14a'!E576","v":0}]
[null,"Annex_2.6c MW_7",{"$f":"'Annex 2.1a- 2.14a'!E577","v":0}]
[null,"Annex_2.6c MW_8",{"$f":"'Annex 2.1a- 2.14a'!E578","v":0}]
[null,"Annex_2.6c MW_9",{"$f":"'Annex 2.1a- 2.14a'!E579","v":0}]
[null,"Annex_2.6c MW_10",{"$f":"'Annex 2.1a- 2.14a'!E580","v":0}]
[null,"Annex_2.6c MW_11",{"$f":"'Annex 2.1a- 2.14a'!E581","v":0}]
[null,"Annex_2.6c MW_12",{"$f":"'Annex 2.1a- 2.14a'!E582","v":0}]
[null,"Annex_2.6c MW_13",{"$f":"'Annex 2.1a- 2.14a'!E583","v":0}]
[null,"Annex_2.6c MW_14",{"$f":"'Annex 2.1a- 2.14a'!E584","v":0}]
[null,"Annex_2.6c MW_15",{"$f":"'Annex 2.1a- 2.14a'!E585","v":0}]
[null,"Annex_2.6c MW_16",{"$f":"'Annex 2.1a- 2.14a'!E586","v":0}]
[null,"Annex_2.6c MW_17",{"$f":"'Annex 2.1a- 2.14a'!E587","v":0}]
[null,"Annex_2.6c MW_18",{"$f":"'Annex 2.1a- 2.14a'!E588","v":0}]
[null,"Annex_2.6c MW_19",{"$f":"'Annex 2.1a- 2.14a'!E589","v":0}]
[null,"Annex_2.6c MW_20",{"$f":"'Annex 2.1a- 2.14a'!E590","v":0}]
[null,"Annex_2.6c MW_21",{"$f":"'Annex 2.1a- 2.14a'!E591","v":0}]
[null,"Annex_2.6c MW_22",{"$f":"'Annex 2.1a- 2.14a'!E592","v":0}]
[null,"Annex_2.6c MW_23",{"$f":"'Annex 2.1a- 2.14a'!E593","v":0}]
[null,"Annex_2.6c MW_24",{"$f":"'Annex 2.1a- 2.14a'!E594","v":0}]
[null,"Annex_2.6c MW_25",{"$f":"'Annex 2.1a- 2.14a'!E595","v":0}]
[null,"Annex_2.6c MW_26",{"$f":"'Annex 2.1a- 2.14a'!E596","v":0}]
[null,"Annex_2.6c MW_27",{"$f":"'Annex 2.1a- 2.14a'!E597","v":0}]
[null,"Annex_2.6c MW_28",{"$f":"'Annex 2.1a- 2.14a'!E598","v":0}]
[null,"Annex_2.6c MW_29",{"$f":"'Annex 2.1a- 2.14a'!E599","v":0}]
[null,"Annex_2.6c MW_30",{"$f":"'Annex 2.1a- 2.14a'!E600","v":0}]
[null,"Annex_2.6c MW_31",{"$f":"'Annex 2.1a- 2.14a'!E601","v":0}]
[null,"Annex_2.6c MW_ a Total Score",{"$f":"'Annex 2.1a- 2.14a'!E602","v":0}]
[null,"Annex_2.6c MW_ a Percentage",{"$f":"'Annex 2.1a- 2.14a'!E603","v":{"v":0,"d":"0%"}}]
[null,"Annex_2.6c SW_1",{"$f":"'Annex 2.1a- 2.14a'!F571","v":0}]
[null,"Annex_2.6c SW_2",{"$f":"'Annex 2.1a- 2.14a'!F572","v":0}]
[null,"Annex_2.6c SW_3",{"$f":"'Annex 2.1a- 2.14a'!F573","v":0}]
[null,"Annex_2.6c SW_4",{"$f":"'Annex 2.1a- 2.14a'!F574","v":0}]
[null,"Annex_2.6c SW_5",{"$f":"'Annex 2.1a- 2.14a'!F575","v":0}]
[null,"Annex_2.6c SW_6",{"$f":"'Annex 2.1a- 2.14a'!F576","v":0}]
[null,"Annex_2.6c SW_7",{"$f":"'Annex 2.1a- 2.14a'!F577","v":0}]
[null,"Annex_2.6c SW_8",{"$f":"'Annex 2.1a- 2.14a'!F578","v":0}]
[null,"Annex_2.6c SW_9",{"$f":"'Annex 2.1a- 2.14a'!F579","v":0}]
[null,"Annex_2.6c SW_10",{"$f":"'Annex 2.1a- 2.14a'!F580","v":0}]
[null,"Annex_2.6c SW_11",{"$f":"'Annex 2.1a- 2.14a'!F581","v":0}]
[null,"Annex_2.6c SW_12",{"$f":"'Annex 2.1a- 2.14a'!F582","v":0}]
[null,"Annex_2.6c SW_13",{"$f":"'Annex 2.1a- 2.14a'!F583","v":0}]
[null,"Annex_2.6c SW_14",{"$f":"'Annex 2.1a- 2.14a'!F584","v":0}]
[null,"Annex_2.6c SW_15",{"$f":"'Annex 2.1a- 2.14a'!F585","v":0}]
[null,"Annex_2.6c SW_16",{"$f":"'Annex 2.1a- 2.14a'!F586","v":0}]
[null,"Annex_2.6c SW_17",{"$f":"'Annex 2.1a- 2.14a'!F587","v":0}]
[null,"Annex_2.6c SW_18",{"$f":"'Annex 2.1a- 2.14a'!F588","v":0}]
[null,"Annex_2.6c SW_19",{"$f":"'Annex 2.1a- 2.14a'!F589","v":0}]
[null,"Annex_2.6c SW_20",{"$f":"'Annex 2.1a- 2.14a'!F590","v":0}]
[null,"Annex_2.6c SW_21",{"$f":"'Annex 2.1a- 2.14a'!F591","v":0}]
[null,"Annex_2.6c SW_22",{"$f":"'Annex 2.1a- 2.14a'!F592","v":0}]
[null,"Annex_2.6c SW_23",{"$f":"'Annex 2.1a- 2.14a'!F593","v":0}]
[null,"Annex_2.6c SW_24",{"$f":"'Annex 2.1a- 2.14a'!F594","v":0}]
[null,"Annex_2.6c SW_25",{"$f":"'Annex 2.1a- 2.14a'!F595","v":0}]
[null,"Annex_2.6c SW_26",{"$f":"'Annex 2.1a- 2.14a'!F596","v":0}]
[null,"Annex_2.6c SW_27",{"$f":"'Annex 2.1a- 2.14a'!F597","v":0}]
[null,"Annex_2.6c SW_28",{"$f":"'Annex 2.1a- 2.14a'!F598","v":0}]
[null,"Annex_2.6c SW_29",{"$f":"'Annex 2.1a- 2.14a'!F599","v":0}]
[null,"Annex_2.6c SW_30",{"$f":"'Annex 2.1a- 2.14a'!F600","v":0}]
[null,"Annex_2.6c SW_31",{"$f":"'Annex 2.1a- 2.14a'!F601","v":0}]
[null,"Annex_2.6c SW_ Total Score",{"$f":"'Annex 2.1a- 2.14a'!F602","v":0}]
[null,"Annex_2.6c SW Percentage",{"$f":"'Annex 2.1a- 2.14a'!F603","v":{"v":0,"d":"0%"}}]
[null,"Annex_2.6c PW_ 1",{"$f":"'Annex 2.1a- 2.14a'!G571","v":0}]
[null,"Annex_2.6c PW_ 2",{"$f":"'Annex 2.1a- 2.14a'!G572","v":0}]
[null,"Annex_2.6c PW_ 3",{"$f":"'Annex 2.1a- 2.14a'!G573","v":0}]
[null,"Annex_2.6c PW_ 4",{"$f":"'Annex 2.1a- 2.14a'!G574","v":0}]
[null,"Annex_2.6c PW_ 5",{"$f":"'Annex 2.1a- 2.14a'!G575","v":0}]
[null,"Annex_2.6c PW_ 6",{"$f":"'Annex 2.1a- 2.14a'!G576","v":0}]
[null,"Annex_2.6c PW_ 7",{"$f":"'Annex 2.1a- 2.14a'!G577","v":0}]
[null,"Annex_2.6c PW_ 8",{"$f":"'Annex 2.1a- 2.14a'!G578","v":0}]
[null,"Annex_2.6c PW_ 9",{"$f":"'Annex 2.1a- 2.14a'!G579","v":0}]
[null,"Annex_2.6c PW_ 10",{"$f":"'Annex 2.1a- 2.14a'!G580","v":0}]
[null,"Annex_2.6c PW_ 11",{"$f":"'Annex 2.1a- 2.14a'!G581","v":0}]
[null,"Annex_2.6c PW_ 12",{"$f":"'Annex 2.1a- 2.14a'!G582","v":0}]
[null,"Annex_2.6c PW_ 13",{"$f":"'Annex 2.1a- 2.14a'!G583","v":0}]
[null,"Annex_2.6c PW_ 14",{"$f":"'Annex 2.1a- 2.14a'!G584","v":0}]
[null,"Annex_2.6c PW_ 15",{"$f":"'Annex 2.1a- 2.14a'!G585","v":0}]
[null,"Annex_2.6c PW_ 16",{"$f":"'Annex 2.1a- 2.14a'!G586","v":0}]
[null,"Annex_2.6c PW_ 17",{"$f":"'Annex 2.1a- 2.14a'!G587","v":0}]
[null,"Annex_2.6c PW_ 18",{"$f":"'Annex 2.1a- 2.14a'!G588","v":0}]
[null,"Annex_2.6c PW_ 19",{"$f":"'Annex 2.1a- 2.14a'!G589","v":0}]
[null,"Annex_2.6c PW_ 20",{"$f":"'Annex 2.1a- 2.14a'!G590","v":0}]
[null,"Annex_2.6c PW_ 21",{"$f":"'Annex 2.1a- 2.14a'!G591","v":0}]
[null,"Annex_2.6c PW_ 22",{"$f":"'Annex 2.1a- 2.14a'!G592","v":0}]
[null,"Annex_2.6c PW_ 23",{"$f":"'Annex 2.1a- 2.14a'!G593","v":0}]
[null,"Annex_2.6c PW_ 24",{"$f":"'Annex 2.1a- 2.14a'!G594","v":0}]
[null,"Annex_2.6c PW_ 25",{"$f":"'Annex 2.1a- 2.14a'!G595","v":0}]
[null,"Annex_2.6c PW_ 26",{"$f":"'Annex 2.1a- 2.14a'!G596","v":0}]
[null,"Annex_2.6c PW_ 27",{"$f":"'Annex 2.1a- 2.14a'!G597","v":0}]
[null,"Annex_2.6c PW_ 28",{"$f":"'Annex 2.1a- 2.14a'!G598","v":0}]
[null,"Annex_2.6c PW_ 29",{"$f":"'Annex 2.1a- 2.14a'!G599","v":0}]
[null,"Annex_2.6c PW_ 30",{"$f":"'Annex 2.1a- 2.14a'!G600","v":0}]
[null,"Annex_2.6c PW_ 31",{"$f":"'Annex 2.1a- 2.14a'!G601","v":0}]
[null,"Annex_2.6c PW_ Total Score",{"$f":"'Annex 2.1a- 2.14a'!G602","v":0}]
[null,"Annex_2.6c PW_ Percentage",{"$f":"'Annex 2.1a- 2.14a'!G603","v":0}]
[null,"Annex_2.7.1 a_1",{"$f":"'Annex 2.1a- 2.14a'!E618","v":0}]
[null,"Annex_2.7.1 a_2",{"$f":"'Annex 2.1a- 2.14a'!E619","v":0}]
[null,"Annex_2.7.1 a_3",{"$f":"'Annex 2.1a- 2.14a'!E620","v":0}]
[null,"Annex_2.7.1 a_4",{"$f":"'Annex 2.1a- 2.14a'!E621","v":0}]
[null,"Annex_2.7.1 a_5",{"$f":"'Annex 2.1a- 2.14a'!E622","v":0}]
[null,"Annex_2.7.1 a_6",{"$f":"'Annex 2.1a- 2.14a'!E623","v":0}]
[null,"Annex_2.7.1 a_7",{"$f":"'Annex 2.1a- 2.14a'!E624","v":0}]
[null,"Annex_2.7.1 a_8",{"$f":"'Annex 2.1a- 2.14a'!E625","v":0}]
[null,"Annex_2.7.1 a_9",{"$f":"'Annex 2.1a- 2.14a'!E626","v":0}]
[null,"Annex_2.7.1 a_10",{"$f":"'Annex 2.1a- 2.14a'!E628","v":0}]
[null,"Annex_2.7.1 a_11",{"$f":"'Annex 2.1a- 2.14a'!E629","v":0}]
[null,"Annex_2.7.1 a_12",{"$f":"'Annex 2.1a- 2.14a'!E630","v":0}]
[null,"Annex_2.7.1 a_13",{"$f":"'Annex 2.1a- 2.14a'!E631","v":0}]
[null,"Annex_2.7.1 a_14",{"$f":"'Annex 2.1a- 2.14a'!E632","v":0}]
[null,"Annex_2.7.1 a_15",{"$f":"'Annex 2.1a- 2.14a'!E633","v":0}]
[null,"Annex_2.7.1 a_16",{"$f":"'Annex 2.1a- 2.14a'!E634","v":0}]
[null,"Annex_2.7.1 a_17",{"$f":"'Annex 2.1a- 2.14a'!E635","v":0}]
[null,"Annex_2.7.1 a_18",{"$f":"'Annex 2.1a- 2.14a'!E636","v":0}]
[null,"Annex_2.7.1 a_19",{"$f":"'Annex 2.1a- 2.14a'!E637","v":0}]
[null,"Annex_2.7.1 a_20",{"$f":"'Annex 2.1a- 2.14a'!E638","v":0}]
[null,"Annex_2.7.1 a_21",{"$f":"'Annex 2.1a- 2.14a'!E639","v":0}]
[null,"Annex_2.7.1 a_22",{"$f":"'Annex 2.1a- 2.14a'!E640","v":0}]
[null,"Annex_2.7.1 a_23",{"$f":"'Annex 2.1a- 2.14a'!E656","v":0}]
[null,"Annex_2.7.1 a_24",{"$f":"'Annex 2.1a- 2.14a'!E663","v":0}]
[null,"Annex_2.7.1 a_25",{"$f":"'Annex 2.1a- 2.14a'!E669","v":0}]
[null,"Annex_2.7.1 a_26",{"$f":"'Annex 2.1a- 2.14a'!E670","v":0}]
[null,"Annex_2.7.1 a_Total Score",{"$f":"'Annex 2.1a- 2.14a'!E671","v":0}]
[null,"Annex_2.7.1 a_Percentage",{"$f":"'Annex 2.1a- 2.14a'!E672","v":{"v":0,"d":"0%"}}]
[null,"Annex_2.7.1 b_1",{"$f":"'Annex 2.1a- 2.14a'!E685","v":0}]
[null,"Annex_2.7.1 b_2",{"$f":"'Annex 2.1a- 2.14a'!E686","v":0}]
[null,"Annex_2.7.1 b_3",{"$f":"'Annex 2.1a- 2.14a'!E687","v":0}]
[null,"Annex_2.7.1 b_4",{"$f":"'Annex 2.1a- 2.14a'!E688","v":0}]
[null,"Annex_2.7.1 b_5",{"$f":"'Annex 2.1a- 2.14a'!E689","v":0}]
[null,"Annex_2.7.1 b_6",{"$f":"'Annex 2.1a- 2.14a'!E690","v":0}]
[null,"Annex_2.7.1 b_7",{"$f":"'Annex 2.1a- 2.14a'!E691","v":0}]
[null,"Annex_2.7.1 b_8",{"$f":"'Annex 2.1a- 2.14a'!E692","v":0}]
[null,"Annex_2.7.1 b_9",{"$f":"'Annex 2.1a- 2.14a'!E693","v":0}]
[null,"Annex_2.7.1 b_10",{"$f":"'Annex 2.1a- 2.14a'!E694","v":0}]
[null,"Annex_2.7.1 b_11",{"$f":"'Annex 2.1a- 2.14a'!E695","v":0}]
[null,"Annex_2.7.1 b_12",{"$f":"'Annex 2.1a- 2.14a'!E696","v":0}]
[null,"Annex_2.7.1 b_13",{"$f":"'Annex 2.1a- 2.14a'!E697","v":0}]
[null,"Annex_2.7.1 b_14",{"$f":"'Annex 2.1a- 2.14a'!E698","v":0}]
[null,"Annex_2.7.1 b_15",{"$f":"'Annex 2.1a- 2.14a'!E699","v":0}]
[null,"Annex_2.7.1 b_16",{"$f":"'Annex 2.1a- 2.14a'!E700","v":0}]
[null,"Annex_2.7.1 b_17",{"$f":"'Annex 2.1a- 2.14a'!E701","v":0}]
[null,"Annex_2.7.1 b_18",{"$f":"'Annex 2.1a- 2.14a'!E702","v":0}]
[null,"Annex_2.7.1 b_19",{"$f":"'Annex 2.1a- 2.14a'!E703","v":0}]
[null,"Annex_2.7.1 b_20",{"$f":"'Annex 2.1a- 2.14a'!E704","v":0}]
[null,"Annex_2.7.1 b_21",{"$f":"'Annex 2.1a- 2.14a'!E705","v":0}]
[null,"Annex_2.7.1 b_22",{"$f":"'Annex 2.1a- 2.14a'!E706","v":0}]
[null,"Annex_2.7.1 b_23",{"$f":"'Annex 2.1a- 2.14a'!E708","v":0}]
[null,"Annex_2.7.1 b_24",{"$f":"'Annex 2.1a- 2.14a'!E709","v":0}]
[null,"Annex_2.7.1 b_25",{"$f":"'Annex 2.1a- 2.14a'!E710","v":0}]
[null,"Annex_2.7.1 b_26",{"$f":"'Annex 2.1a- 2.14a'!E711","v":0}]
[null,"Annex_2.7.1 b_27",{"$f":"'Annex 2.1a- 2.14a'!E712","v":0}]
[null,"Annex_2.7.1 b_28",{"$f":"'Annex 2.1a- 2.14a'!E713","v":0}]
[null,"Annex_2.7.1 b_29",{"$f":"'Annex 2.1a- 2.14a'!E714","v":0}]
[null,"Annex_2.7.1 b_30",{"$f":"'Annex 2.1a- 2.14a'!E715","v":0}]
[null,"Annex_2.7.1 b_31",{"$f":"'Annex 2.1a- 2.14a'!E716","v":0}]
[null,"Annex_2.7.1 b_32",{"$f":"'Annex 2.1a- 2.14a'!E717","v":0}]
[null,"Annex_2.7.1 b_33",{"$f":"'Annex 2.1a- 2.14a'!E718","v":0}]
[null,"Annex_2.7.1 b_34",{"$f":"'Annex 2.1a- 2.14a'!E719","v":0}]
[null,"Annex_2.7.1 b_35",{"$f":"'Annex 2.1a- 2.14a'!E720","v":0}]
[null,"Annex_2.7.1 b_36",{"$f":"'Annex 2.1a- 2.14a'!E721","v":0}]
[null,"Annex_2.7.1 b_37",{"$f":"'Annex 2.1a- 2.14a'!E722","v":0}]
[null,"Annex_2.7.1 b_38",{"$f":"'Annex 2.1a- 2.14a'!E723","v":0}]
[null,"Annex_2.7.1 b_39",{"$f":"'Annex 2.1a- 2.14a'!E724","v":0}]
[null,"Annex_2.7.1 b_40",{"$f":"'Annex 2.1a- 2.14a'!E725","v":0}]
[null,"Annex_2.7.1 b_41",{"$f":"'Annex 2.1a- 2.14a'!E726","v":0}]
[null,"Annex_2.7.1 b_42",{"$f":"'Annex 2.1a- 2.14a'!E727","v":0}]
[null,"Annex_2.7.1 b_43",{"$f":"'Annex 2.1a- 2.14a'!E728","v":0}]
[null,"Annex_2.7.1 b_44",{"$f":"'Annex 2.1a- 2.14a'!E729","v":0}]
[null,"Annex_2.7.1 b_45",{"$f":"'Annex 2.1a- 2.14a'!E730","v":0}]
[null,"Annex_2.7.1 b_46",{"$f":"'Annex 2.1a- 2.14a'!E731","v":0}]
[null,"Annex_2.7.1 b_47",{"$f":"'Annex 2.1a- 2.14a'!E732","v":0}]
[null,"Annex_2.7.1 b_48",{"$f":"'Annex 2.1a- 2.14a'!E733","v":0}]
[null,"Annex_2.7.1 b_49",{"$f":"'Annex 2.1a- 2.14a'!E734","v":0}]
[null,"Annex_2.7.1 b_50",{"$f":"'Annex 2.1a- 2.14a'!E735","v":0}]
[null,"Annex_2.7.1 b_51",{"$f":"'Annex 2.1a- 2.14a'!E736","v":0}]
[null,"Annex_2.7.1 b_52",{"$f":"'Annex 2.1a- 2.14a'!E737","v":0}]
[null,"Annex_2.7.1 b_Total Score",{"$f":"'Annex 2.1a- 2.14a'!E738","v":0}]
[null,"Annex_2.7.1 b_Percentage",{"$f":"'Annex 2.1a- 2.14a'!E739","v":{"v":0,"d":"0%"}}]
[null,"Annex_2.7.1 c_1",{"$f":"'Annex 2.1a- 2.14a'!E751","v":0}]
[null,"Annex_2.7.1 c_2",{"$f":"'Annex 2.1a- 2.14a'!E752","v":0}]
[null,"Annex_2.7.1 c_3",{"$f":"'Annex 2.1a- 2.14a'!E753","v":0}]
[null,"Annex_2.7.1 c_4",{"$f":"'Annex 2.1a- 2.14a'!E754","v":0}]
[null,"Annex_2.7.1 c_5",{"$f":"'Annex 2.1a- 2.14a'!E755","v":0}]
[null,"Annex_2.7.1 c_6",{"$f":"'Annex 2.1a- 2.14a'!E756","v":0}]
[null,"Annex_2.7.1 c_7",{"$f":"'Annex 2.1a- 2.14a'!E757","v":0}]
[null,"Annex_2.7.1 c_8",{"$f":"'Annex 2.1a- 2.14a'!E758","v":0}]
[null,"Annex_2.7.1 c_9",{"$f":"'Annex 2.1a- 2.14a'!E759","v":0}]
[null,"Annex_2.7.1 c_10",{"$f":"'Annex 2.1a- 2.14a'!E760","v":0}]
[null,"Annex_2.7.1 c_11",{"$f":"'Annex 2.1a- 2.14a'!E761","v":0}]
[null,"Annex_2.7.1 c_12",{"$f":"'Annex 2.1a- 2.14a'!E762","v":0}]
[null,"Annex_2.7.1 c_13",{"$f":"'Annex 2.1a- 2.14a'!E763","v":0}]
[null,"Annex_2.7.1 c_14",{"$f":"'Annex 2.1a- 2.14a'!E764","v":0}]
[null,"Annex_2.7.1 c_15",{"$f":"'Annex 2.1a- 2.14a'!E765","v":0}]
[null,"Annex_2.7.1 c_16",{"$f":"'Annex 2.1a- 2.14a'!E766","v":0}]
[null,"Annex_2.7.1 c_17",{"$f":"'Annex 2.1a- 2.14a'!E767","v":0}]
[null,"Annex_2.7.1 c_18",{"$f":"'Annex 2.1a- 2.14a'!E768","v":0}]
[null,"Annex_2.7.1 c_19",{"$f":"'Annex 2.1a- 2.14a'!E769","v":0}]
[null,"Annex_2.7.1 c_20",{"$f":"'Annex 2.1a- 2.14a'!E770","v":0}]
[null,"Annex_2.7.1 c_21",{"$f":"'Annex 2.1a- 2.14a'!E771","v":0}]
[null,"Annex_2.7.1 c_22",{"$f":"'Annex 2.1a- 2.14a'!E772","v":0}]
[null,"Annex_2.7.1 c_23",{"$f":"'Annex 2.1a- 2.14a'!E773","v":0}]
[null,"Annex_2.7.1 c_24",{"$f":"'Annex 2.1a- 2.14a'!E774","v":0}]
[null,"Annex_2.7.1 c_25",{"$f":"'Annex 2.1a- 2.14a'!E775","v":0}]
[null,"Annex_2.7.1 c_26",{"$f":"'Annex 2.1a- 2.14a'!E776","v":0}]
[null,"Annex_2.7.1 c_27",{"$f":"'Annex 2.1a- 2.14a'!E777","v":0}]
[null,"Annex_2.7.1 c_28",{"$f":"'Annex 2.1a- 2.14a'!E778","v":0}]
[null,"Annex_2.7.1 c_29",{"$f":"'Annex 2.1a- 2.14a'!E779","v":0}]
[null,"Annex_2.7.1 c_30",{"$f":"'Annex 2.1a- 2.14a'!E780","v":0}]
[null,"Annex_2.7.1 c_31",{"$f":"'Annex 2.1a- 2.14a'!E781","v":0}]
[null,"Annex_2.7.1 c_32",{"$f":"'Annex 2.1a- 2.14a'!E782","v":0}]
[null,"Annex_2.7.1 c_33",{"$f":"'Annex 2.1a- 2.14a'!E783","v":0}]
[null,"Annex_2.7.1 c_34",{"$f":"'Annex 2.1a- 2.14a'!E784","v":0}]
[null,"Annex_2.7.1 c_35",{"$f":"'Annex 2.1a- 2.14a'!E785","v":0}]
[null,"Annex_2.7.1 c_Total Score",{"$f":"'Annex 2.1a- 2.14a'!E786","v":0}]
[null,"Annex_2.7.1 c_Percentage",{"$f":"'Annex 2.1a- 2.14a'!E787","v":{"v":0,"d":"0%"}}]
[null,"Annex_2.7.2 a_1",{"$f":"'Annex 2.1a- 2.14a'!E799","v":0}]
[null,"Annex_2.7.2 a_2",{"$f":"'Annex 2.1a- 2.14a'!E800","v":0}]
[null,"Annex_2.7.2 a_3",{"$f":"'Annex 2.1a- 2.14a'!E801","v":0}]
[null,"Annex_2.7.2 a_4",{"$f":"'Annex 2.1a- 2.14a'!E802","v":0}]
[null,"Annex_2.7.2 a_5",{"$f":"'Annex 2.1a- 2.14a'!E803","v":0}]
[null,"Annex_2.7.2 a_6",{"$f":"'Annex 2.1a- 2.14a'!E804","v":0}]
[null,"Annex_2.7.2 a_7",{"$f":"'Annex 2.1a- 2.14a'!E805","v":0}]
[null,"Annex_2.7.2 a_8",{"$f":"'Annex 2.1a- 2.14a'!E806","v":0}]
[null,"Annex_2.7.2 a_9",{"$f":"'Annex 2.1a- 2.14a'!E807","v":0}]
[null,"Annex_2.7.2 a_10",{"$f":"'Annex 2.1a- 2.14a'!E808","v":0}]
[null,"Annex_2.7.2 a_11",{"$f":"'Annex 2.1a- 2.14a'!E809","v":0}]
[null,"Annex_2.7.2 a_12",{"$f":"'Annex 2.1a- 2.14a'!E810","v":0}]
[null,"Annex_2.7.2 a_13",{"$f":"'Annex 2.1a- 2.14a'!E811","v":0}]
[null,"Annex_2.7.2 a_14",{"$f":"'Annex 2.1a- 2.14a'!E812","v":0}]
[null,"Annex_2.7.2 a_15",{"$f":"'Annex 2.1a- 2.14a'!E813","v":0}]
[null,"Annex_2.7.2 a_16",{"$f":"'Annex 2.1a- 2.14a'!E814","v":0}]
[null,"Annex_2.7.2 a_17",{"$f":"'Annex 2.1a- 2.14a'!E815","v":0}]
[null,"Annex_2.7.2 a_18",{"$f":"'Annex 2.1a- 2.14a'!E816","v":0}]
[null,"Annex_2.7.2 a_19",{"$f":"'Annex 2.1a- 2.14a'!E817","v":0}]
[null,"Annex_2.7.2 a_20",{"$f":"'Annex 2.1a- 2.14a'!E818","v":0}]
[null,"Annex_2.7.2 a_21",{"$f":"'Annex 2.1a- 2.14a'!E819","v":0}]
[null,"Annex_2.7.2 a_22",{"$f":"'Annex 2.1a- 2.14a'!E820","v":0}]
[null,"Annex_2.7.2 a_23",{"$f":"'Annex 2.1a- 2.14a'!E821","v":0}]
[null,"Annex_2.7.2 a_24",{"$f":"'Annex 2.1a- 2.14a'!E822","v":0}]
[null,"Annex_2.7.2 a_25",{"$f":"'Annex 2.1a- 2.14a'!E823","v":0}]
[null,"Annex_2.7.2 a_26",{"$f":"'Annex 2.1a- 2.14a'!E824","v":0}]
[null,"Annex_2.7.2 a_27",{"$f":"'Annex 2.1a- 2.14a'!E825","v":0}]
[null,"Annex_2.7.2 a_28",{"$f":"'Annex 2.1a- 2.14a'!E826","v":0}]
[null,"Annex_2.7.2 a_29",{"$f":"'Annex 2.1a- 2.14a'!E827","v":0}]
[null,"Annex_2.7.2 a_30",{"$f":"'Annex 2.1a- 2.14a'!E828","v":0}]
[null,"Annex_2.7.2 a_31",{"$f":"'Annex 2.1a- 2.14a'!E829","v":0}]
[null,"Annex_2.7.2 a_Total Score",{"$f":"'Annex 2.1a- 2.14a'!E830","v":0}]
[null,"Annex_2.7.2 a_Percentage",{"$f":"'Annex 2.1a- 2.14a'!E831","v":{"v":0,"d":"0%"}}]
[null,"Annex_2.7.2 b_1",{"$f":"'Annex 2.1a- 2.14a'!E844","v":0}]
[null,"Annex_2.7.2 b_2",{"$f":"'Annex 2.1a- 2.14a'!E845","v":0}]
[null,"Annex_2.7.2 b_3",{"$f":"'Annex 2.1a- 2.14a'!E846","v":0}]
[null,"Annex_2.7.2 b_4",{"$f":"'Annex 2.1a- 2.14a'!E847","v":0}]
[null,"Annex_2.7.2 b_5",{"$f":"'Annex 2.1a- 2.14a'!E848","v":0}]
[null,"Annex_2.7.2 b_6",{"$f":"'Annex 2.1a- 2.14a'!E849","v":0}]
[null,"Annex_2.7.2 b_7",{"$f":"'Annex 2.1a- 2.14a'!E850","v":0}]
[null,"Annex_2.7.2 b_8",{"$f":"'Annex 2.1a- 2.14a'!E851","v":0}]
[null,"Annex_2.7.2 b_9",{"$f":"'Annex 2.1a- 2.14a'!E852","v":0}]
[null,"Annex_2.7.2 b_10",{"$f":"'Annex 2.1a- 2.14a'!E853","v":0}]
[null,"Annex_2.7.2 b_11",{"$f":"'Annex 2.1a- 2.14a'!E854","v":0}]
[null,"Annex_2.7.2 b_Total Score",{"$f":"'Annex 2.1a- 2.14a'!E855","v":0}]
[null,"Annex_2.7.2 b_Percentage",{"$f":"'Annex 2.1a- 2.14a'!E856","v":{"v":0,"d":"0%"}}]
[null,"Annex_2.7.2 c_1",{"$f":"'Annex 2.1a- 2.14a'!E869","v":0}]
[null,"Annex_2.7.2 c_2",{"$f":"'Annex 2.1a- 2.14a'!E870","v":0}]
[null,"Annex_2.7.2 c_3",{"$f":"'Annex 2.1a- 2.14a'!E871","v":0}]
[null,"Annex_2.7.2 c_4",{"$f":"'Annex 2.1a- 2.14a'!E872","v":0}]
[null,"Annex_2.7.2 c_5",{"$f":"'Annex 2.1a- 2.14a'!E873","v":0}]
[null,"Annex_2.7.2 c_6",{"$f":"'Annex 2.1a- 2.14a'!E874","v":0}]
[null,"Annex_2.7.2 c_7",{"$f":"'Annex 2.1a- 2.14a'!E875","v":0}]
[null,"Annex_2.7.2 c_8",{"$f":"'Annex 2.1a- 2.14a'!E876","v":0}]
[null,"Annex_2.7.2 c_9",{"$f":"'Annex 2.1a- 2.14a'!E877","v":0}]
[null,"Annex_2.7.2 c_10",{"$f":"'Annex 2.1a- 2.14a'!E878","v":0}]
[null,"Annex_2.7.2 c_11",{"$f":"'Annex 2.1a- 2.14a'!E879","v":0}]
[null,"Annex_2.7.2 c_12",{"$f":"'Annex 2.1a- 2.14a'!E880","v":0}]
[null,"Annex_2.7.2 c_13",{"$f":"'Annex 2.1a- 2.14a'!E881","v":0}]
[null,"Annex_2.7.2 c_14",{"$f":"'Annex 2.1a- 2.14a'!E882","v":0}]
[null,"Annex_2.7.2 c_15",{"$f":"'Annex 2.1a- 2.14a'!E883","v":0}]
[null,"Annex_2.7.2 c_16",{"$f":"'Annex 2.1a- 2.14a'!E884","v":0}]
[null,"Annex_2.7.2 c_17",{"$f":"'Annex 2.1a- 2.14a'!E885","v":0}]
[null,"Annex_2.7.2 c_18",{"$f":"'Annex 2.1a- 2.14a'!E886","v":0}]
[null,"Annex_2.7.2 c_19",{"$f":"'Annex 2.1a- 2.14a'!E887","v":0}]
[null,"Annex_2.7.2 c_20",{"$f":"'Annex 2.1a- 2.14a'!E888","v":0}]
[null,"Annex_2.7.2 c_21",{"$f":"'Annex 2.1a- 2.14a'!E889","v":0}]
[null,"Annex_2.7.2 c_22",{"$f":"'Annex 2.1a- 2.14a'!E890","v":0}]
[null,"Annex_2.7.2 c_23",{"$f":"'Annex 2.1a- 2.14a'!E891","v":0}]
[null,"Annex_2.7.2 c_24",{"$f":"'Annex 2.1a- 2.14a'!E892","v":0}]
[null,"Annex_2.7.2 c_25",{"$f":"'Annex 2.1a- 2.14a'!E893","v":0}]
[null,"Annex_2.7.2 c_26",{"$f":"'Annex 2.1a- 2.14a'!E894","v":0}]
[null,"Annex_2.7.2 c_27",{"$f":"'Annex 2.1a- 2.14a'!E895","v":0}]
[null,"Annex_2.7.2 c_28",{"$f":"'Annex 2.1a- 2.14a'!E896","v":0}]
[null,"Annex_2.7.2 c_29",{"$f":"'Annex 2.1a- 2.14a'!E897","v":0}]
[null,"Annex_2.7.2 c_30",{"$f":"'Annex 2.1a- 2.14a'!E898","v":0}]
[null,"Annex_2.7.2 c_31",{"$f":"'Annex 2.1a- 2.14a'!E899","v":0}]
[null,"Annex_2.7.2 c_32",{"$f":"'Annex 2.1a- 2.14a'!E900","v":0}]
[null,"Annex_2.7.2 c_33",{"$f":"'Annex 2.1a- 2.14a'!E901","v":0}]
[null,"Annex_2.7.2 c_Total Score",{"$f":"'Annex 2.1a- 2.14a'!E902","v":0}]
[null,"Annex_2.7.2 c_Percentage",{"$f":"'Annex 2.1a- 2.14a'!E903","v":{"v":0,"d":"0%"}}]
[null,"Annex_2.8 a_1",{"$f":"'Annex 2.1a- 2.14a'!D916","v":0}]
[null,"Annex_2.8 a_2",{"$f":"'Annex 2.1a- 2.14a'!D917","v":0}]
[null,"Annex_2.8 a_3",{"$f":"'Annex 2.1a- 2.14a'!D918","v":0}]
[null,"Annex_2.8 a_4",{"$f":"'Annex 2.1a- 2.14a'!D919","v":0}]
[null,"Annex_2.8 a_5",{"$f":"'Annex 2.1a- 2.14a'!D920","v":0}]
[null,"Annex_2.8 a_6",{"$f":"'Annex 2.1a- 2.14a'!D921","v":0}]
[null,"Annex_2.8 a_7",{"$f":"'Annex 2.1a- 2.14a'!D922","v":0}]
[null,"Annex_2.8 a_8",{"$f":"'Annex 2.1a- 2.14a'!D923","v":0}]
[null,"Annex_2.8 a_9",{"$f":"'Annex 2.1a- 2.14a'!D924","v":0}]
[null,"Annex_2.8 a_10",{"$f":"'Annex 2.1a- 2.14a'!D925","v":0}]
[null,"Annex_2.8 a_11",{"$f":"'Annex 2.1a- 2.14a'!D926","v":0}]
[null,"Annex_2.8 a_12",{"$f":"'Annex 2.1a- 2.14a'!D927","v":0}]
[null,"Annex_2.8 a_13",{"$f":"'Annex 2.1a- 2.14a'!D928","v":0}]
[null,"Annex_2.8 a_14",{"$f":"'Annex 2.1a- 2.14a'!D930","v":0}]
[null,"Annex_2.8 a_15",{"$f":"'Annex 2.1a- 2.14a'!D931","v":0}]
[null,"Annex_2.8 a_16",{"$f":"'Annex 2.1a- 2.14a'!D932","v":0}]
[null,"Annex_2.8 a_17",{"$f":"'Annex 2.1a- 2.14a'!D933","v":0}]
[null,"Annex_2.8 a_18",{"$f":"'Annex 2.1a- 2.14a'!D934","v":0}]
[null,"Annex_2.8 a_19",{"$f":"'Annex 2.1a- 2.14a'!D935","v":0}]
[null,"Annex_2.8 a_20",{"$f":"'Annex 2.1a- 2.14a'!D936","v":0}]
[null,"Annex_2.8 a_21",{"$f":"'Annex 2.1a- 2.14a'!D937","v":0}]
[null,"Annex_2.8 a_22",{"$f":"'Annex 2.1a- 2.14a'!D938","v":0}]
[null,"Annex_2.8 a_23",{"$f":"'Annex 2.1a- 2.14a'!D939","v":0}]
[null,"Annex_2.8 a_24",{"$f":"'Annex 2.1a- 2.14a'!D940","v":0}]
[null,"Annex_2.8 a_25",{"$f":"'Annex 2.1a- 2.14a'!D941","v":0}]
[null,"Annex_2.8 a_26",{"$f":"'Annex 2.1a- 2.14a'!D943","v":0}]
[null,"Annex_2.8 a_27",{"$f":"'Annex 2.1a- 2.14a'!D944","v":0}]
[null,"Annex_2.8 a_28",{"$f":"'Annex 2.1a- 2.14a'!D945","v":0}]
[null,"Annex_2.8 a_29",{"$f":"'Annex 2.1a- 2.14a'!D946","v":0}]
[null,"Annex_2.8 a_30",{"$f":"'Annex 2.1a- 2.14a'!D947","v":0}]
[null,"Annex_2.8 a_31",{"$f":"'Annex 2.1a- 2.14a'!D948","v":0}]
[null,"Annex_2.8 a_32",{"$f":"'Annex 2.1a- 2.14a'!D949","v":0}]
[null,"Annex_2.8 a_33",{"$f":"'Annex 2.1a- 2.14a'!D950","v":0}]
[null,"Annex_2.8 a_Total Score",{"$f":"'Annex 2.1a- 2.14a'!D951","v":0}]
[null,"Annex_2.8 a_Percentage",{"$f":"'Annex 2.1a- 2.14a'!D952","v":{"v":0,"d":"0%"}}]
[null,"Annex_2.8 b_1",{"$f":"'Annex 2.1a- 2.14a'!D965","v":0}]
[null,"Annex_2.8 b_2",{"$f":"'Annex 2.1a- 2.14a'!D966","v":0}]
[null,"Annex_2.8 b_3",{"$f":"'Annex 2.1a- 2.14a'!D967","v":0}]
[null,"Annex_2.8 b_4",{"$f":"'Annex 2.1a- 2.14a'!D968","v":0}]
[null,"Annex_2.8 b_5",{"$f":"'Annex 2.1a- 2.14a'!D969","v":0}]
[null,"Annex_2.8 b_6",{"$f":"'Annex 2.1a- 2.14a'!D970","v":0}]
[null,"Annex_2.8 b_7",{"$f":"'Annex 2.1a- 2.14a'!D971","v":0}]
[null,"Annex_2.8 b_8",{"$f":"'Annex 2.1a- 2.14a'!D972","v":0}]
[null,"Annex_2.8 b_9",{"$f":"'Annex 2.1a- 2.14a'!D973","v":0}]
[null,"Annex_2.8 b_10",{"$f":"'Annex 2.1a- 2.14a'!D974","v":0}]
[null,"Annex_2.8 b_11",{"$f":"'Annex 2.1a- 2.14a'!D975","v":0}]
[null,"Annex_2.8 b_Total Score",{"$f":"'Annex 2.1a- 2.14a'!D976","v":0}]
[null,"Annex_2.8 b_Percentage",{"$f":"'Annex 2.1a- 2.14a'!D977","v":{"v":0,"d":"0%"}}]
[null,"Annex_2.8 c_1",{"$f":"'Annex 2.1a- 2.14a'!D990","v":0}]
[null,"Annex_2.8 c_2",{"$f":"'Annex 2.1a- 2.14a'!D991","v":0}]
[null,"Annex_2.8 c_3",{"$f":"'Annex 2.1a- 2.14a'!D992","v":0}]
[null,"Annex_2.8 c_4",{"$f":"'Annex 2.1a- 2.14a'!D993","v":0}]
[null,"Annex_2.8 c_5",{"$f":"'Annex 2.1a- 2.14a'!D994","v":0}]
[null,"Annex_2.8 c_6",{"$f":"'Annex 2.1a- 2.14a'!D995","v":0}]
[null,"Annex_2.8 c_7",{"$f":"'Annex 2.1a- 2.14a'!D996","v":0}]
[null,"Annex_2.8 c_8",{"$f":"'Annex 2.1a- 2.14a'!D997","v":0}]
[null,"Annex_2.8 c_9",{"$f":"'Annex 2.1a- 2.14a'!D998","v":0}]
[null,"Annex_2.8 c_Total Score",{"$f":"'Annex 2.1a- 2.14a'!D999","v":0}]
[null,"Annex_2.8 c_Percentage",{"$f":"'Annex 2.1a- 2.14a'!D1000","v":{"v":0,"d":"0%"}}]
[null,"Annex_2.8 d_1",{"$f":"'Annex 2.1a- 2.14a'!E1012","v":0}]
[null,"Annex_2.8 d_2",{"$f":"'Annex 2.1a- 2.14a'!E1013","v":0}]
[null,"Annex_2.8 d_3",{"$f":"'Annex 2.1a- 2.14a'!E1014","v":0}]
[null,"Annex_2.8 d_4",{"$f":"'Annex 2.1a- 2.14a'!E1015","v":0}]
[null,"Annex_2.8 d_5",{"$f":"'Annex 2.1a- 2.14a'!E1016","v":0}]
[null,"Annex_2.8 d_6",{"$f":"'Annex 2.1a- 2.14a'!E1017","v":0}]
[null,"Annex_2.8 d_7",{"$f":"'Annex 2.1a- 2.14a'!E1018","v":0}]
[null,"Annex_2.8 d_8",{"$f":"'Annex 2.1a- 2.14a'!E1019","v":0}]
[null,"Annex_2.8 d_9",{"$f":"'Annex 2.1a- 2.14a'!E1020","v":0}]
[null,"Annex_2.8 d_10",{"$f":"'Annex 2.1a- 2.14a'!E1021","v":0}]
[null,"Annex_2.8 d_11",{"$f":"'Annex 2.1a- 2.14a'!E1022","v":0}]
[null,"Annex_2.8 d_12",{"$f":"'Annex 2.1a- 2.14a'!E1023","v":0}]
[null,"Annex_2.8 d_13",{"$f":"'Annex 2.1a- 2.14a'!E1024","v":0}]
[null,"Annex_2.8 d_14",{"$f":"'Annex 2.1a- 2.14a'!E1025","v":0}]
[null,"Annex_2.8 d_15",{"$f":"'Annex 2.1a- 2.14a'!E1026","v":0}]
[null,"Annex_2.8 d_16",{"$f":"'Annex 2.1a- 2.14a'!E1027","v":0}]
[null,"Annex_2.8 d_17",{"$f":"'Annex 2.1a- 2.14a'!E1028","v":0}]
[null,"Annex_2.8 d_18",{"$f":"'Annex 2.1a- 2.14a'!E1029","v":0}]
[null,"Annex_2.8 d_19",{"$f":"'Annex 2.1a- 2.14a'!E1030","v":0}]
[null,"Annex_2.8 d_20",{"$f":"'Annex 2.1a- 2.14a'!E1031","v":0}]
[null,"Annex_2.8 d_21",{"$f":"'Annex 2.1a- 2.14a'!E1032","v":0}]
[null,"Annex_2.8 d_22",{"$f":"'Annex 2.1a- 2.14a'!E1033","v":0}]
[null,"Annex_2.8 d_23",{"$f":"'Annex 2.1a- 2.14a'!E1034","v":0}]
[null,"Annex_2.8 d_24",{"$f":"'Annex 2.1a- 2.14a'!E1035","v":0}]
[null,"Annex_2.8 d_25",{"$f":"'Annex 2.1a- 2.14a'!E1036","v":0}]
[null,"Annex_2.8 d_26",{"$f":"'Annex 2.1a- 2.14a'!E1037","v":0}]
[null,"Annex_2.8 d_27",{"$f":"'Annex 2.1a- 2.14a'!E1038","v":0}]
[null,"Annex_2.8 d_28",{"$f":"'Annex 2.1a- 2.14a'!E1039","v":0}]
[null,"Annex_2.8 d_29",{"$f":"'Annex 2.1a- 2.14a'!E1040","v":0}]
[null,"Annex_2.8 d_30",{"$f":"'Annex 2.1a- 2.14a'!E1041","v":0}]
[null,"Annex_2.8 d_31",{"$f":"'Annex 2.1a- 2.14a'!E1042","v":0}]
[null,"Annex_2.8 d_32",{"$f":"'Annex 2.1a- 2.14a'!E1043","v":0}]
[null,"Annex_2.8 d_33",{"$f":"'Annex 2.1a- 2.14a'!E1044","v":0}]
[null,"Annex_2.8 d_34",{"$f":"'Annex 2.1a- 2.14a'!E1045","v":0}]
[null,"Annex_2.8 d_35",{"$f":"'Annex 2.1a- 2.14a'!E1046","v":0}]
[null,"Annex_2.8 d_36",{"$f":"'Annex 2.1a- 2.14a'!E1047","v":0}]
[null,"Annex_2.8 d_37",{"$f":"'Annex 2.1a- 2.14a'!E1048","v":0}]
[null,"Annex_2.8 d_38",{"$f":"'Annex 2.1a- 2.14a'!E1049","v":0}]
[null,"Annex_2.8 d_39",{"$f":"'Annex 2.1a- 2.14a'!E1050","v":0}]
[null,"Annex_2.8 d_40",{"$f":"'Annex 2.1a- 2.14a'!E1051","v":0}]
[null,"Annex_2.8 d_41",{"$f":"'Annex 2.1a- 2.14a'!E1052","v":0}]
[null,"Annex_2.8 d_42",{"$f":"'Annex 2.1a- 2.14a'!E1053","v":0}]
[null,"Annex_2.8 d_43",{"$f":"'Annex 2.1a- 2.14a'!E1054","v":0}]
[null,"Annex_2.8 d_44",{"$f":"'Annex 2.1a- 2.14a'!E1055","v":0}]
[null,"Annex_2.8 d_45",{"$f":"'Annex 2.1a- 2.14a'!E1056","v":0}]
[null,"Annex_2.8 d_46",{"$f":"'Annex 2.1a- 2.14a'!E1057","v":0}]
[null,"Annex_2.8 d_47",{"$f":"'Annex 2.1a- 2.14a'!E1058","v":0}]
[null,"Annex_2.8 d_48",{"$f":"'Annex 2.1a- 2.14a'!E1059","v":0}]
[null,"Annex_2.8 d_49",{"$f":"'Annex 2.1a- 2.14a'!E1060","v":0}]
[null,"Annex_2.8 d_Total Score",{"$f":"'Annex 2.1a- 2.14a'!E1061","v":0}]
[null,"Annex_2.8 d_Percentage",{"$f":"'Annex 2.1a- 2.14a'!E1062","v":{"v":0,"d":"0%"}}]
[null,"Annex_2.8 e_1",{"$f":"'Annex 2.1a- 2.14a'!E1075","v":0}]
[null,"Annex_2.8 e_2",{"$f":"'Annex 2.1a- 2.14a'!E1076","v":0}]
[null,"Annex_2.8 e_3",{"$f":"'Annex 2.1a- 2.14a'!E1077","v":0}]
[null,"Annex_2.8 e_4",{"$f":"'Annex 2.1a- 2.14a'!E1078","v":0}]
[null,"Annex_2.8 e_5",{"$f":"'Annex 2.1a- 2.14a'!E1079","v":0}]
[null,"Annex_2.8 e_6",{"$f":"'Annex 2.1a- 2.14a'!E1080","v":0}]
[null,"Annex_2.8 e_7",{"$f":"'Annex 2.1a- 2.14a'!E1081","v":0}]
[null,"Annex_2.8 e_8",{"$f":"'Annex 2.1a- 2.14a'!E1082","v":0}]
[null,"Annex_2.8 e_9",{"$f":"'Annex 2.1a- 2.14a'!E1083","v":0}]
[null,"Annex_2.8 e_10",{"$f":"'Annex 2.1a- 2.14a'!E1084","v":0}]
[null,"Annex_2.8 e_11",{"$f":"'Annex 2.1a- 2.14a'!E1085","v":0}]
[null,"Annex_2.8 e_12",{"$f":"'Annex 2.1a- 2.14a'!E1086","v":0}]
[null,"Annex_2.8 e_13",{"$f":"'Annex 2.1a- 2.14a'!E1087","v":0}]
[null,"Annex_2.8 e_14",{"$f":"'Annex 2.1a- 2.14a'!E1088","v":0}]
[null,"Annex_2.8 e_15",{"$f":"'Annex 2.1a- 2.14a'!E1089","v":0}]
[null,"Annex_2.8 e_16",{"$f":"'Annex 2.1a- 2.14a'!E1090","v":0}]
[null,"Annex_2.8 e_17",{"$f":"'Annex 2.1a- 2.14a'!E1091","v":0}]
[null,"Annex_2.8 e_Total Score",{"$f":"'Annex 2.1a- 2.14a'!E1092","v":0}]
[null,"Annex_2.8 e_Percentage",{"$f":"'Annex 2.1a- 2.14a'!E1093","v":{"v":0,"d":"0%"}}]
[null,"Annex_2.8 f_1",{"$f":"'Annex 2.1a- 2.14a'!E1106","v":0}]
[null,"Annex_2.8 f_2",{"$f":"'Annex 2.1a- 2.14a'!E1107","v":0}]
[null,"Annex_2.8 f_3",{"$f":"'Annex 2.1a- 2.14a'!E1108","v":0}]
[null,"Annex_2.8 f_4",{"$f":"'Annex 2.1a- 2.14a'!E1109","v":0}]
[null,"Annex_2.8 f_5",{"$f":"'Annex 2.1a- 2.14a'!E1110","v":0}]
[null,"Annex_2.8 f_6",{"$f":"'Annex 2.1a- 2.14a'!E1111","v":0}]
[null,"Annex_2.8 f_7",{"$f":"'Annex 2.1a- 2.14a'!E1112","v":0}]
[null,"Annex_2.8 f_8",{"$f":"'Annex 2.1a- 2.14a'!E1113","v":0}]
[null,"Annex_2.8 f_9",{"$f":"'Annex 2.1a- 2.14a'!E1114","v":0}]
[null,"Annex_2.8 f_10",{"$f":"'Annex 2.1a- 2.14a'!E1115","v":0}]
[null,"Annex_2.8 f_11",{"$f":"'Annex 2.1a- 2.14a'!E1116","v":0}]
[null,"Annex_2.8 f_12",{"$f":"'Annex 2.1a- 2.14a'!E1117","v":0}]
[null,"Annex_2.8 f_13",{"$f":"'Annex 2.1a- 2.14a'!E1118","v":0}]
[null,"Annex_2.8 f_14",{"$f":"'Annex 2.1a- 2.14a'!E1119","v":0}]
[null,"Annex_2.8 f_15",{"$f":"'Annex 2.1a- 2.14a'!E1120","v":0}]
[null,"Annex_2.8 f_16",{"$f":"'Annex 2.1a- 2.14a'!E1121","v":0}]
[null,"Annex_2.8 f_Total Score",{"$f":"'Annex 2.1a- 2.14a'!E1122","v":0}]
[null,"Annex_2.8 f_Percentage",{"$f":"'Annex 2.1a- 2.14a'!E1123","v":{"v":0,"d":"0%"}}]
[null,"Annex_2.8 g_1",{"$f":"'Annex 2.1a- 2.14a'!E1137","v":0}]
[null,"Annex_2.8 g_2",{"$f":"'Annex 2.1a- 2.14a'!E1138","v":0}]
[null,"Annex_2.8 g_3",{"$f":"'Annex 2.1a- 2.14a'!E1139","v":0}]
[null,"Annex_2.8 g_4",{"$f":"'Annex 2.1a- 2.14a'!E1140","v":0}]
[null,"Annex_2.8 g_5",{"$f":"'Annex 2.1a- 2.14a'!E1141","v":0}]
[null,"Annex_2.8 g_6",{"$f":"'Annex 2.1a- 2.14a'!E1142","v":0}]
[null,"Annex_2.8 g_7",{"$f":"'Annex 2.1a- 2.14a'!E1143","v":0}]
[null,"Annex_2.8 g_8",{"$f":"'Annex 2.1a- 2.14a'!E1144","v":0}]
[null,"Annex_2.8 g_9",{"$f":"'Annex 2.1a- 2.14a'!E1145","v":0}]
[null,"Annex_2.8 g_10",{"$f":"'Annex 2.1a- 2.14a'!E1146","v":0}]
[null,"Annex_2.8 g_11",{"$f":"'Annex 2.1a- 2.14a'!E1147","v":0}]
[null,"Annex_2.8 g_12",{"$f":"'Annex 2.1a- 2.14a'!E1148","v":0}]
[null,"Annex_2.8 g_13",{"$f":"'Annex 2.1a- 2.14a'!E1149","v":0}]
[null,"Annex_2.8 g_14",{"$f":"'Annex 2.1a- 2.14a'!E1150","v":0}]
[null,"Annex_2.8 g_15",{"$f":"'Annex 2.1a- 2.14a'!E1151","v":0}]
[null,"Annex_2.8 g_16",{"$f":"'Annex 2.1a- 2.14a'!E1152","v":0}]
[null,"Annex_2.8 g_17",{"$f":"'Annex 2.1a- 2.14a'!E1153","v":0}]
[null,"Annex_2.8 g_18",{"$f":"'Annex 2.1a- 2.14a'!E1154","v":0}]
[null,"Annex_2.8 g_19",{"$f":"'Annex 2.1a- 2.14a'!E1155","v":0}]
[null,"Annex_2.8 g_20",{"$f":"'Annex 2.1a- 2.14a'!E1156","v":0}]
[null,"Annex_2.8 g_21",{"$f":"'Annex 2.1a- 2.14a'!E1157","v":0}]
[null,"Annex_2.8 g_22",{"$f":"'Annex 2.1a- 2.14a'!E1158","v":0}]
[null,"Annex_2.8 g_Total Score",{"$f":"'Annex 2.1a- 2.14a'!E1159","v":0}]
[null,"Annex_2.8 g_Percentage",{"$f":"'Annex 2.1a- 2.14a'!E1160","v":{"v":0,"d":"0%"}}]
[null,"Annex_2.8 h_1",{"$f":"'Annex 2.1a- 2.14a'!E1174","v":0}]
[null,"Annex_2.8 h_2",{"$f":"'Annex 2.1a- 2.14a'!E1175","v":0}]
[null,"Annex_2.8 h_3",{"$f":"'Annex 2.1a- 2.14a'!E1176","v":0}]
[null,"Annex_2.8 h_4",{"$f":"'Annex 2.1a- 2.14a'!E1177","v":0}]
[null,"Annex_2.8 h_5",{"$f":"'Annex 2.1a- 2.14a'!E1178","v":0}]
[null,"Annex_2.8 h_6",{"$f":"'Annex 2.1a- 2.14a'!E1179","v":0}]
[null,"Annex_2.8 h_7",{"$f":"'Annex 2.1a- 2.14a'!E1180","v":0}]
[null,"Annex_2.8 h_8",{"$f":"'Annex 2.1a- 2.14a'!E1181","v":0}]
[null,"Annex_2.8 h_9",{"$f":"'Annex 2.1a- 2.14a'!E1182","v":0}]
[null,"Annex_2.8 h_10",{"$f":"'Annex 2.1a- 2.14a'!E1183","v":0}]
[null,"Annex_2.8 h_11",{"$f":"'Annex 2.1a- 2.14a'!E1184","v":0}]
[null,"Annex_2.8 h_12",{"$f":"'Annex 2.1a- 2.14a'!E1185","v":0}]
[null,"Annex_2.8 h_13",{"$f":"'Annex 2.1a- 2.14a'!E1186","v":0}]
[null,"Annex_2.8 h_14",{"$f":"'Annex 2.1a- 2.14a'!E1187","v":0}]
[null,"Annex_2.8 h_15",{"$f":"'Annex 2.1a- 2.14a'!E1188","v":0}]
[null,"Annex_2.8 h_16",{"$f":"'Annex 2.1a- 2.14a'!E1189","v":0}]
[null,"Annex_2.8 h_17",{"$f":"'Annex 2.1a- 2.14a'!E1190","v":0}]
[null,"Annex_2.8 h_18",{"$f":"'Annex 2.1a- 2.14a'!E1191","v":0}]
[null,"Annex_2.8 h_19",{"$f":"'Annex 2.1a- 2.14a'!E1194","v":0}]
[null,"Annex_2.8 h_20",{"$f":"'Annex 2.1a- 2.14a'!E1195","v":0}]
[null,"Annex_2.8 h_21",{"$f":"'Annex 2.1a- 2.14a'!E1196","v":0}]
[null,"Annex_2.8 h_22",{"$f":"'Annex 2.1a- 2.14a'!E1197","v":0}]
[null,"Annex_2.8 h_23",{"$f":"'Annex 2.1a- 2.14a'!E1198","v":0}]
[null,"Annex_2.8 h_24",{"$f":"'Annex 2.1a- 2.14a'!E1199","v":0}]
[null,"Annex_2.8 h_25",{"$f":"'Annex 2.1a- 2.14a'!E1201","v":0}]
[null,"Annex_2.8 h_26",{"$f":"'Annex 2.1a- 2.14a'!E1202","v":0}]
[null,"Annex_2.8 h_27",{"$f":"'Annex 2.1a- 2.14a'!E1203","v":0}]
[null,"Annex_2.8 h_28",{"$f":"'Annex 2.1a- 2.14a'!E1204","v":0}]
[null,"Annex_2.8 h_29",{"$f":"'Annex 2.1a- 2.14a'!E1205","v":0}]
[null,"Annex_2.8 h_30",{"$f":"'Annex 2.1a- 2.14a'!E1206","v":0}]
[null,"Annex_2.8 h_31",{"$f":"'Annex 2.1a- 2.14a'!E1207","v":0}]
[null,"Annex_2.8 h_32",{"$f":"'Annex 2.1a- 2.14a'!E1208","v":0}]
[null,"Annex_2.8 h_33",{"$f":"'Annex 2.1a- 2.14a'!E1209","v":0}]
[null,"Annex_2.8 h_34",{"$f":"'Annex 2.1a- 2.14a'!E1210","v":0}]
[null,"Annex_2.8 h_35",{"$f":"'Annex 2.1a- 2.14a'!E1211","v":0}]
[null,"Annex_2.8 h_36",{"$f":"'Annex 2.1a- 2.14a'!E1213","v":0}]
[null,"Annex_2.8 h_37",{"$f":"'Annex 2.1a- 2.14a'!E1214","v":0}]
[null,"Annex_2.8 h_38",{"$f":"'Annex 2.1a- 2.14a'!E1215","v":0}]
[null,"Annex_2.8 h_39",{"$f":"'Annex 2.1a- 2.14a'!E1216","v":0}]
[null,"Annex_2.8 h_40",{"$f":"'Annex 2.1a- 2.14a'!E1217","v":0}]
[null,"Annex_2.8 h_41",{"$f":"'Annex 2.1a- 2.14a'!E1218","v":0}]
[null,"Annex_2.8 h_42",{"$f":"'Annex 2.1a- 2.14a'!E1219","v":0}]
[null,"Annex_2.8 h_43",{"$f":"'Annex 2.1a- 2.14a'!E1220","v":0}]
[null,"Annex_2.8 h_44",{"$f":"'Annex 2.1a- 2.14a'!E1221","v":0}]
[null,"Annex_2.8 h_45",{"$f":"'Annex 2.1a- 2.14a'!E1222","v":0}]
[null,"Annex_2.8 h_46",{"$f":"'Annex 2.1a- 2.14a'!E1224","v":0}]
[null,"Annex_2.8 h_47",{"$f":"'Annex 2.1a- 2.14a'!E1225","v":0}]
[null,"Annex_2.8 h_48",{"$f":"'Annex 2.1a- 2.14a'!E1226","v":0}]
[null,"Annex_2.8 h_49",{"$f":"'Annex 2.1a- 2.14a'!E1227","v":0}]
[null,"Annex_2.8 h_50",{"$f":"'Annex 2.1a- 2.14a'!E1228","v":0}]
[null,"Annex_2.8 h_51",{"$f":"'Annex 2.1a- 2.14a'!E1229","v":0}]
[null,"Annex_2.8 h_52",{"$f":"'Annex 2.1a- 2.14a'!E1230","v":0}]
[null,"Annex_2.8 h_53",{"$f":"'Annex 2.1a- 2.14a'!E1231","v":0}]
[null,"Annex_2.8 h_Total Score",{"$f":"'Annex 2.1a- 2.14a'!E1232","v":0}]
[null,"Annex_2.8 h_Percentage",{"$f":"'Annex 2.1a- 2.14a'!E1233","v":{"v":0,"d":"0%"}}]
[null,"Annex_2.9.1.1a_1",{"$f":"'Annex 2.1a- 2.14a'!D1246","v":0}]
[null,"Annex_2.9.1.1a_2",{"$f":"'Annex 2.1a- 2.14a'!D1247","v":0}]
[null,"Annex_2.9.1.1a_3",{"$f":"'Annex 2.1a- 2.14a'!D1248","v":0}]
[null,"Annex_2.9.1.1a_4",{"$f":"'Annex 2.1a- 2.14a'!D1249","v":0}]
[null,"Annex_2.9.1.1a_5",{"$f":"'Annex 2.1a- 2.14a'!D1250","v":0}]
[null,"Annex_2.9.1.1a_6",{"$f":"'Annex 2.1a- 2.14a'!D1251","v":0}]
[null,"Annex_2.9.1.1a_7",{"$f":"'Annex 2.1a- 2.14a'!D1252","v":0}]
[null,"Annex_2.9.1.1a_8",{"$f":"'Annex 2.1a- 2.14a'!D1253","v":0}]
[null,"Annex_2.9.1.1a_9",{"$f":"'Annex 2.1a- 2.14a'!D1254","v":0}]
[null,"Annex_2.9.1.1a_10",{"$f":"'Annex 2.1a- 2.14a'!D1255","v":0}]
[null,"Annex_2.9.1.1a_11",{"$f":"'Annex 2.1a- 2.14a'!D1256","v":0}]
[null,"Annex_2.9.1.1a_12",{"$f":"'Annex 2.1a- 2.14a'!D1257","v":0}]
[null,"Annex_2.9.1.1a_13",{"$f":"'Annex 2.1a- 2.14a'!D1258","v":0}]
[null,"Annex_2.9.1.1a_14",{"$f":"'Annex 2.1a- 2.14a'!D1259","v":0}]
[null,"Annex_2.9.1.1a_15",{"$f":"'Annex 2.1a- 2.14a'!D1260","v":0}]
[null,"Annex_2.9.1.1a_16",{"$f":"'Annex 2.1a- 2.14a'!D1261","v":0}]
[null,"Annex_2.9.1.1a_17",{"$f":"'Annex 2.1a- 2.14a'!D1262","v":0}]
[null,"Annex_2.9.1.1a_18",{"$f":"'Annex 2.1a- 2.14a'!D1263","v":0}]
[null,"Annex_2.9.1.1a_19",{"$f":"'Annex 2.1a- 2.14a'!D1265","v":0}]
[null,"Annex_2.9.1.1a_20",{"$f":"'Annex 2.1a- 2.14a'!D1266","v":0}]
[null,"Annex_2.9.1.1a_21",{"$f":"'Annex 2.1a- 2.14a'!D1267","v":0}]
[null,"Annex_2.9.1.1a_22",{"$f":"'Annex 2.1a- 2.14a'!D1268","v":0}]
[null,"Annex_2.9.1.1a_23",{"$f":"'Annex 2.1a- 2.14a'!D1269","v":0}]
[null,"Annex_2.9.1.1a_24",{"$f":"'Annex 2.1a- 2.14a'!D1270","v":0}]
[null,"Annex_2.9.1.1a_25",{"$f":"'Annex 2.1a- 2.14a'!D1271","v":0}]
[null,"Annex_2.9.1.1a_26",{"$f":"'Annex 2.1a- 2.14a'!D1272","v":0}]
[null,"Annex_2.9.1.1a_27",{"$f":"'Annex 2.1a- 2.14a'!D1273","v":0}]
[null,"Annex_2.9.1.1a_28",{"$f":"'Annex 2.1a- 2.14a'!D1274","v":0}]
[null,"Annex_2.9.1.1a_29",{"$f":"'Annex 2.1a- 2.14a'!D1275","v":0}]
[null,"Annex_2.9.1.1a_30",{"$f":"'Annex 2.1a- 2.14a'!D1276","v":0}]
[null,"Annex_2.9.1.1a_31",{"$f":"'Annex 2.1a- 2.14a'!D1277","v":0}]
[null,"Annex_2.9.1.1a_32",{"$f":"'Annex 2.1a- 2.14a'!D1278","v":0}]
[null,"Annex_2.9.1.1a_33",{"$f":"'Annex 2.1a- 2.14a'!D1279","v":0}]
[null,"Annex_2.9.1.1a_34",{"$f":"'Annex 2.1a- 2.14a'!D1280","v":0}]
[null,"Annex_2.9.1.1a_35",{"$f":"'Annex 2.1a- 2.14a'!D1281","v":0}]
[null,"Annex_2.9.1.1a_36",{"$f":"'Annex 2.1a- 2.14a'!D1282","v":0}]
[null,"Annex_2.9.1.1a_37",{"$f":"'Annex 2.1a- 2.14a'!D1283","v":0}]
[null,"Annex_2.9.1.1a_38",{"$f":"'Annex 2.1a- 2.14a'!D1284","v":0}]
[null,"Annex_2.9.1.1a_39",{"$f":"'Annex 2.1a- 2.14a'!D1285","v":0}]
[null,"Annex_2.9.1.1a_40",{"$f":"'Annex 2.1a- 2.14a'!D1286","v":0}]
[null,"Annex_2.9.1.1a_41",{"$f":"'Annex 2.1a- 2.14a'!D1288","v":0}]
[null,"Annex_2.9.1.1a_42",{"$f":"'Annex 2.1a- 2.14a'!D1289","v":0}]
[null,"Annex_2.9.1.1a_43",{"$f":"'Annex 2.1a- 2.14a'!D1290","v":0}]
[null,"Annex_2.9.1.1a_44",{"$f":"'Annex 2.1a- 2.14a'!D1291","v":0}]
[null,"Annex_2.9.1.1a_45",{"$f":"'Annex 2.1a- 2.14a'!D1292","v":0}]
[null,"Annex_2.9.1.1a_46",{"$f":"'Annex 2.1a- 2.14a'!D1294","v":0}]
[null,"Annex_2.9.1.1a_47",{"$f":"'Annex 2.1a- 2.14a'!D1295","v":0}]
[null,"Annex_2.9.1.1a_48",{"$f":"'Annex 2.1a- 2.14a'!D1296","v":0}]
[null,"Annex_2.9.1.1a_49",{"$f":"'Annex 2.1a- 2.14a'!D1297","v":0}]
[null,"Annex_2.9.1.1a_50",{"$f":"'Annex 2.1a- 2.14a'!D1298","v":0}]
[null,"Annex_2.9.1.1a_51",{"$f":"'Annex 2.1a- 2.14a'!D1299","v":0}]
[null,"Annex_2.9.1.1a_52",{"$f":"'Annex 2.1a- 2.14a'!D1300","v":0}]
[null,"Annex_2.9.1.1a_53",{"$f":"'Annex 2.1a- 2.14a'!D1301","v":0}]
[null,"Annex_2.9.1.1a_54",{"$f":"'Annex 2.1a- 2.14a'!D1302","v":0}]
[null,"Annex_2.9.1.1a_55",{"$f":"'Annex 2.1a- 2.14a'!D1303","v":0}]
[null,"Annex_2.9.1.1a_56",{"$f":"'Annex 2.1a- 2.14a'!D1304","v":0}]
[null,"Annex_2.9.1.1a_57",{"$f":"'Annex 2.1a- 2.14a'!D1306","v":0}]
[null,"Annex_2.9.1.1a_58",{"$f":"'Annex 2.1a- 2.14a'!D1307","v":0}]
[null,"Annex_2.9.1.1a_59",{"$f":"'Annex 2.1a- 2.14a'!D1308","v":0}]
[null,"Annex_2.9.1.1a_60",{"$f":"'Annex 2.1a- 2.14a'!D1309","v":0}]
[null,"Annex_2.9.1.1a_61",{"$f":"'Annex 2.1a- 2.14a'!D1310","v":0}]
[null,"Annex_2.9.1.1a_62",{"$f":"'Annex 2.1a- 2.14a'!D1311","v":0}]
[null,"Annex_2.9.1.1a_63",{"$f":"'Annex 2.1a- 2.14a'!D1312","v":0}]
[null,"Annex_2.9.1.1a_64",{"$f":"'Annex 2.1a- 2.14a'!D1313","v":0}]
[null,"Annex_2.9.1.1a_65",{"$f":"'Annex 2.1a- 2.14a'!D1314","v":0}]
[null,"Annex_2.9.1.1a_66",{"$f":"'Annex 2.1a- 2.14a'!D1315","v":0}]
[null,"Annex_2.9.1.1a_67",{"$f":"'Annex 2.1a- 2.14a'!D1316","v":0}]
[null,"Annex_2.9.1.1a_Total Score",{"$f":"'Annex 2.1a- 2.14a'!D1317","v":0}]
[null,"Annex_2.9.1.1a_Percentage",{"$f":"'Annex 2.1a- 2.14a'!D1318","v":{"v":0,"d":"0%"}}]
[null,"Annex_2.9.1.1b_1",{"$f":"'Annex 2.1a- 2.14a'!E1331","v":0}]
[null,"Annex_2.9.1.1b_2",{"$f":"'Annex 2.1a- 2.14a'!E1332","v":0}]
[null,"Annex_2.9.1.1b_3",{"$f":"'Annex 2.1a- 2.14a'!E1333","v":0}]
[null,"Annex_2.9.1.1b_4",{"$f":"'Annex 2.1a- 2.14a'!E1334","v":0}]
[null,"Annex_2.9.1.1b_5",{"$f":"'Annex 2.1a- 2.14a'!E1335","v":0}]
[null,"Annex_2.9.1.1b_6",{"$f":"'Annex 2.1a- 2.14a'!E1336","v":0}]
[null,"Annex_2.9.1.1b_7",{"$f":"'Annex 2.1a- 2.14a'!E1337","v":0}]
[null,"Annex_2.9.1.1b_8",{"$f":"'Annex 2.1a- 2.14a'!E1338","v":0}]
[null,"Annex_2.9.1.1b_9",{"$f":"'Annex 2.1a- 2.14a'!E1339","v":0}]
[null,"Annex_2.9.1.1b_10",{"$f":"'Annex 2.1a- 2.14a'!E1340","v":0}]
[null,"Annex_2.9.1.1b_11",{"$f":"'Annex 2.1a- 2.14a'!E1341","v":0}]
[null,"Annex_2.9.1.1b_12",{"$f":"'Annex 2.1a- 2.14a'!E1342","v":0}]
[null,"Annex_2.9.1.1b_13",{"$f":"'Annex 2.1a- 2.14a'!E1343","v":0}]
[null,"Annex_2.9.1.1b_14",{"$f":"'Annex 2.1a- 2.14a'!E1344","v":0}]
[null,"Annex_2.9.1.1b_15",{"$f":"'Annex 2.1a- 2.14a'!E1345","v":0}]
[null,"Annex_2.9.1.1b_16",{"$f":"'Annex 2.1a- 2.14a'!E1346","v":0}]
[null,"Annex_2.9.1.1b_17",{"$f":"'Annex 2.1a- 2.14a'!E1347","v":0}]
[null,"Annex_2.9.1.1b_18",{"$f":"'Annex 2.1a- 2.14a'!E1348","v":0}]
[null,"Annex_2.9.1.1b_19",{"$f":"'Annex 2.1a- 2.14a'!E1349","v":0}]
[null,"Annex_2.9.1.1b_20",{"$f":"'Annex 2.1a- 2.14a'!E1350","v":0}]
[null,"Annex_2.9.1.1b_Total Score",{"$f":"'Annex 2.1a- 2.14a'!E1351","v":0}]
[null,"Annex_2.9.1.1b_Percentage",{"$f":"'Annex 2.1a- 2.14a'!E1352","v":{"v":0,"d":"0%"}}]
[null,"Annex_2.9.1.1c_1",{"$f":"'Annex 2.1a- 2.14a'!E1364","v":0}]
[null,"Annex_2.9.1.1c_2",{"$f":"'Annex 2.1a- 2.14a'!E1365","v":0}]
[null,"Annex_2.9.1.1c_3",{"$f":"'Annex 2.1a- 2.14a'!E1366","v":0}]
[null,"Annex_2.9.1.1c_4",{"$f":"'Annex 2.1a- 2.14a'!E1367","v":0}]
[null,"Annex_2.9.1.1c_Total Score",{"$f":"'Annex 2.1a- 2.14a'!E1368","v":0}]
[null,"Annex_2.9.1.1c_Percentage",{"$f":"'Annex 2.1a- 2.14a'!E1369","v":{"v":0,"d":"0%"}}]
[null,"Annex_2.9.1.2 a_1",{"$f":"'Annex 2.1a- 2.14a'!E1381","v":0}]
[null,"Annex_2.9.1.2 a_2",{"$f":"'Annex 2.1a- 2.14a'!E1382","v":0}]
[null,"Annex_2.9.1.2 a_3",{"$f":"'Annex 2.1a- 2.14a'!E1383","v":0}]
[null,"Annex_2.9.1.2 a_4",{"$f":"'Annex 2.1a- 2.14a'!E1384","v":0}]
[null,"Annex_2.9.1.2 a_5",{"$f":"'Annex 2.1a- 2.14a'!E1385","v":0}]
[null,"Annex_2.9.1.2 a_6",{"$f":"'Annex 2.1a- 2.14a'!E1386","v":0}]
[null,"Annex_2.9.1.2 a_7",{"$f":"'Annex 2.1a- 2.14a'!E1387","v":0}]
[null,"Annex_2.9.1.2 a_8",{"$f":"'Annex 2.1a- 2.14a'!E1388","v":0}]
[null,"Annex_2.9.1.2 a_9",{"$f":"'Annex 2.1a- 2.14a'!E1389","v":0}]
[null,"Annex_2.9.1.2 a_10",{"$f":"'Annex 2.1a- 2.14a'!E1390","v":0}]
[null,"Annex_2.9.1.2 a_11",{"$f":"'Annex 2.1a- 2.14a'!E1391","v":0}]
[null,"Annex_2.9.1.2 a_Total Score",{"$f":"'Annex 2.1a- 2.14a'!E1392","v":0}]
[null,"Annex_2.9.1.2 a_Percentage",{"$f":"'Annex 2.1a- 2.14a'!E1393","v":{"v":0,"d":"0%"}}]
[null,"Annex_2.9.1.2 b_1",{"$f":"'Annex 2.1a- 2.14a'!E1405","v":0}]
[null,"Annex_2.9.1.2 b_2",{"$f":"'Annex 2.1a- 2.14a'!E1406","v":0}]
[null,"Annex_2.9.1.2 b_3",{"$f":"'Annex 2.1a- 2.14a'!E1407","v":0}]
[null,"Annex_2.9.1.2 b_4",{"$f":"'Annex 2.1a- 2.14a'!E1408","v":0}]
[null,"Annex_2.9.1.2 b_5",{"$f":"'Annex 2.1a- 2.14a'!E1409","v":0}]
[null,"Annex_2.9.1.2 b_6",{"$f":"'Annex 2.1a- 2.14a'!E1410","v":0}]
[null,"Annex_2.9.1.2 b_7",{"$f":"'Annex 2.1a- 2.14a'!E1411","v":0}]
[null,"Annex_2.9.1.2 b_8",{"$f":"'Annex 2.1a- 2.14a'!E1412","v":0}]
[null,"Annex_2.9.1.2 b_9",{"$f":"'Annex 2.1a- 2.14a'!E1413","v":0}]
[null,"Annex_2.9.1.2 b_10",{"$f":"'Annex 2.1a- 2.14a'!E1414","v":0}]
[null,"Annex_2.9.1.2 b_11",{"$f":"'Annex 2.1a- 2.14a'!E1415","v":0}]
[null,"Annex_2.9.1.2 b_12",{"$f":"'Annex 2.1a- 2.14a'!E1416","v":0}]
[null,"Annex_2.9.1.2 b_13",{"$f":"'Annex 2.1a- 2.14a'!E1417","v":0}]
[null,"Annex_2.9.1.2 b_14",{"$f":"'Annex 2.1a- 2.14a'!E1418","v":0}]
[null,"Annex_2.9.1.2 b_Total Score",{"$f":"'Annex 2.1a- 2.14a'!E1419","v":0}]
[null,"Annex_2.9.1.2 b_Percentage",{"$f":"'Annex 2.1a- 2.14a'!E1420","v":{"v":0,"d":"0%"}}]
[null,"Annex_2.10 a_1",{"$f":"'Annex 2.1a- 2.14a'!E1432","v":0}]
[null,"Annex_2.10 a_2",{"$f":"'Annex 2.1a- 2.14a'!E1433","v":0}]
[null,"Annex_2.10 a_3",{"$f":"'Annex 2.1a- 2.14a'!E1434","v":0}]
[null,"Annex_2.10 a_4",{"$f":"'Annex 2.1a- 2.14a'!E1435","v":0}]
[null,"Annex_2.10 a_5",{"$f":"'Annex 2.1a- 2.14a'!E1436","v":0}]
[null,"Annex_2.10 a_6",{"$f":"'Annex 2.1a- 2.14a'!E1437","v":0}]
[null,"Annex_2.10 a_7",{"$f":"'Annex 2.1a- 2.14a'!E1438","v":0}]
[null,"Annex_2.10 a_8",{"$f":"'Annex 2.1a- 2.14a'!E1439","v":0}]
[null,"Annex_2.10 a_Total Score",{"$f":"'Annex 2.1a- 2.14a'!E1440","v":0}]
[null,"Annex_2.10 a_Percentage",{"$f":"'Annex 2.1a- 2.14a'!E1441","v":{"v":0,"d":"0%"}}]
[null,"Annex_2.10 b_1",{"$f":"'Annex 2.1a- 2.14a'!E1457","v":0}]
[null,"Annex_2.10 b_2",{"$f":"'Annex 2.1a- 2.14a'!E1458","v":0}]
[null,"Annex_2.10 b_3",{"$f":"'Annex 2.1a- 2.14a'!E1459","v":0}]
[null,"Annex_2.10 b_4",{"$f":"'Annex 2.1a- 2.14a'!E1460","v":0}]
[null,"Annex_2.10 b_5",{"$f":"'Annex 2.1a- 2.14a'!E1461","v":0}]
[null,"Annex_2.10 b_6",{"$f":"'Annex 2.1a- 2.14a'!E1462","v":0}]
[null,"Annex_2.10 b_7",{"$f":"'Annex 2.1a- 2.14a'!E1463","v":0}]
[null,"Annex_2.10 b_8",{"$f":"'Annex 2.1a- 2.14a'!E1465","v":0}]
[null,"Annex_2.10 b_9",{"$f":"'Annex 2.1a- 2.14a'!E1466","v":0}]
[null,"Annex_2.10 b_10",{"$f":"'Annex 2.1a- 2.14a'!E1467","v":0}]
[null,"Annex_2.10 b_11",{"$f":"'Annex 2.1a- 2.14a'!E1468","v":0}]
[null,"Annex_2.10 b_12",{"$f":"'Annex 2.1a- 2.14a'!E1469","v":0}]
[null,"Annex_2.10 b_13",{"$f":"'Annex 2.1a- 2.14a'!E1470","v":0}]
[null,"Annex_2.10 b_14",{"$f":"'Annex 2.1a- 2.14a'!E1471","v":0}]
[null,"Annex_2.10 b_15",{"$f":"'Annex 2.1a- 2.14a'!E1473","v":0}]
[null,"Annex_2.10 b_16",{"$f":"'Annex 2.1a- 2.14a'!E1474","v":0}]
[null,"Annex_2.10 b_17",{"$f":"'Annex 2.1a- 2.14a'!E1475","v":0}]
[null,"Annex_2.10 b_18",{"$f":"'Annex 2.1a- 2.14a'!E1476","v":0}]
[null,"Annex_2.10 b_19",{"$f":"'Annex 2.1a- 2.14a'!E1478","v":0}]
[null,"Annex_2.10 b_20",{"$f":"'Annex 2.1a- 2.14a'!E1479","v":0}]
[null,"Annex_2.10 b_21",{"$f":"'Annex 2.1a- 2.14a'!E1480","v":0}]
[null,"Annex_2.10 b_22",{"$f":"'Annex 2.1a- 2.14a'!E1481","v":0}]
[null,"Annex_2.10 b_23",{"$f":"'Annex 2.1a- 2.14a'!E1482","v":0}]
[null,"Annex_2.10 b_24",{"$f":"'Annex 2.1a- 2.14a'!E1483","v":0}]
[null,"Annex_2.10 b_25",{"$f":"'Annex 2.1a- 2.14a'!E1484","v":0}]
[null,"Annex_2.10 b_26",{"$f":"'Annex 2.1a- 2.14a'!E1486","v":0}]
[null,"Annex_2.10 b_27",{"$f":"'Annex 2.1a- 2.14a'!E1488","v":0}]
[null,"Annex_2.10 b_28",{"$f":"'Annex 2.1a- 2.14a'!E1489","v":0}]
[null,"Annex_2.10 b_29",{"$f":"'Annex 2.1a- 2.14a'!E1490","v":0}]
[null,"Annex_2.10 b_30",{"$f":"'Annex 2.1a- 2.14a'!E1491","v":0}]
[null,"Annex_2.10 b_31",{"$f":"'Annex 2.1a- 2.14a'!E1492","v":0}]
[null,"Annex_2.10 b_32",{"$f":"'Annex 2.1a- 2.14a'!E1493","v":0}]
[null,"Annex_2.10 b_33",{"$f":"'Annex 2.1a- 2.14a'!E1494","v":0}]
[null,"Annex_2.10 b_34",{"$f":"'Annex 2.1a- 2.14a'!E1495","v":0}]
[null,"Annex_2.10 b_35",{"$f":"'Annex 2.1a- 2.14a'!E1496","v":0}]
[null,"Annex_2.10 b_36",{"$f":"'Annex 2.1a- 2.14a'!E1497","v":0}]
[null,"Annex_2.10 b_37",{"$f":"'Annex 2.1a- 2.14a'!E1498","v":0}]
[null,"Annex_2.10 b_38",{"$f":"'Annex 2.1a- 2.14a'!E1499","v":0}]
[null,"Annex_2.10 b_39",{"$f":"'Annex 2.1a- 2.14a'!E1500","v":0}]
[null,"Annex_2.10 b_40",{"$f":"'Annex 2.1a- 2.14a'!E1501","v":0}]
[null,"Annex_2.10 b_41",{"$f":"'Annex 2.1a- 2.14a'!E1502","v":0}]
[null,"Annex_2.10 b_42",{"$f":"'Annex 2.1a- 2.14a'!E1503","v":0}]
[null,"Annex_2.10 b_43",{"$f":"'Annex 2.1a- 2.14a'!E1504","v":0}]
[null,"Annex_2.10 b_44",{"$f":"'Annex 2.1a- 2.14a'!E1506","v":0}]
[null,"Annex_2.10 b_45",{"$f":"'Annex 2.1a- 2.14a'!E1507","v":0}]
[null,"Annex_2.10 b_46",{"$f":"'Annex 2.1a- 2.14a'!E1508","v":0}]
[null,"Annex_2.10 b_47",{"$f":"'Annex 2.1a- 2.14a'!E1509","v":0}]
[null,"Annex_2.10 b_48",{"$f":"'Annex 2.1a- 2.14a'!E1510","v":0}]
[null,"Annex_2.10 b_49",{"$f":"'Annex 2.1a- 2.14a'!E1511","v":0}]
[null,"Annex_2.10 b_50",{"$f":"'Annex 2.1a- 2.14a'!E1512","v":0}]
[null,"Annex_2.10 b_51",{"$f":"'Annex 2.1a- 2.14a'!E1513","v":0}]
[null,"Annex_2.10 b_52",{"$f":"'Annex 2.1a- 2.14a'!E1514","v":0}]
[null,"Annex_2.10 b_53",{"$f":"'Annex 2.1a- 2.14a'!E1515","v":0}]
[null,"Annex_2.10 b_54",{"$f":"'Annex 2.1a- 2.14a'!E1516","v":0}]
[null,"Annex_2.10 b_55",{"$f":"'Annex 2.1a- 2.14a'!E1518","v":0}]
[null,"Annex_2.10 b_56",{"$f":"'Annex 2.1a- 2.14a'!E1519","v":0}]
[null,"Annex_2.10 b_57",{"$f":"'Annex 2.1a- 2.14a'!E1521","v":0}]
[null,"Annex_2.10 b_58",{"$f":"'Annex 2.1a- 2.14a'!E1522","v":0}]
[null,"Annex_2.10 b_59",{"$f":"'Annex 2.1a- 2.14a'!E1523","v":0}]
[null,"Annex_2.10 b_60",{"$f":"'Annex 2.1a- 2.14a'!E1524","v":0}]
[null,"Annex_2.10 b_61",{"$f":"'Annex 2.1a- 2.14a'!E1525","v":0}]
[null,"Annex_2.10 b_62",{"$f":"'Annex 2.1a- 2.14a'!E1527","v":0}]
[null,"Annex_2.10 b_63",{"$f":"'Annex 2.1a- 2.14a'!E1528","v":0}]
[null,"Annex_2.10 b_64",{"$f":"'Annex 2.1a- 2.14a'!E1529","v":0}]
[null,"Annex_2.10 b_65",{"$f":"'Annex 2.1a- 2.14a'!E1530","v":0}]
[null,"Annex_2.10 b_66",{"$f":"'Annex 2.1a- 2.14a'!E1531","v":0}]
[null,"Annex_2.10 b_67",{"$f":"'Annex 2.1a- 2.14a'!E1532","v":0}]
[null,"Annex_2.10 b_68",{"$f":"'Annex 2.1a- 2.14a'!E1533","v":0}]
[null,"Annex_2.10 b_69",{"$f":"'Annex 2.1a- 2.14a'!E1534","v":0}]
[null,"Annex_2.10 b_70",{"$f":"'Annex 2.1a- 2.14a'!E1535","v":0}]
[null,"Annex_2.10 b_71",{"$f":"'Annex 2.1a- 2.14a'!E1536","v":0}]
[null,"Annex_2.10 b_72",{"$f":"'Annex 2.1a- 2.14a'!E1537","v":0}]
[null,"Annex_2.10 b_Total Score",{"$f":"'Annex 2.1a- 2.14a'!E1538","v":0}]
[null,"Annex_2.10 b_Percentage",{"$f":"'Annex 2.1a- 2.14a'!E1539","v":{"v":0,"d":"0%"}}]
[null,"Annex_2.11 a_1",{"$f":"'Annex 2.1a- 2.14a'!E1552","v":0}]
[null,"Annex_2.11 a_2",{"$f":"'Annex 2.1a- 2.14a'!E1553","v":0}]
[null,"Annex_2.11 a_3",{"$f":"'Annex 2.1a- 2.14a'!E1554","v":0}]
[null,"Annex_2.11 a_4",{"$f":"'Annex 2.1a- 2.14a'!E1555","v":0}]
[null,"Annex_2.11 a_5",{"$f":"'Annex 2.1a- 2.14a'!E1556","v":0}]
[null,"Annex_2.11 a_6",{"$f":"'Annex 2.1a- 2.14a'!E1557","v":0}]
[null,"Annex_2.11 a_7",{"$f":"'Annex 2.1a- 2.14a'!E1558","v":0}]
[null,"Annex_2.11 a_8",{"$f":"'Annex 2.1a- 2.14a'!E1559","v":0}]
[null,"Annex_2.11 a_9",{"$f":"'Annex 2.1a- 2.14a'!E1560","v":0}]
[null,"Annex_2.11 a_10",{"$f":"'Annex 2.1a- 2.14a'!E1561","v":0}]
[null,"Annex_2.11 a_11",{"$f":"'Annex 2.1a- 2.14a'!E1562","v":0}]
[null,"Annex_2.11 a_12",{"$f":"'Annex 2.1a- 2.14a'!E1563","v":0}]
[null,"Annex_2.11 a_13",{"$f":"'Annex 2.1a- 2.14a'!E1564","v":0}]
[null,"Annex_2.11 a_14",{"$f":"'Annex 2.1a- 2.14a'!E1565","v":0}]
[null,"Annex_2.11 a_15",{"$f":"'Annex 2.1a- 2.14a'!E1566","v":0}]
[null,"Annex_2.11 a_16",{"$f":"'Annex 2.1a- 2.14a'!E1567","v":0}]
[null,"Annex_2.11 a_17",{"$f":"'Annex 2.1a- 2.14a'!E1568","v":0}]
[null,"Annex_2.11 a_18",{"$f":"'Annex 2.1a- 2.14a'!E1569","v":0}]
[null,"Annex_2.11 a_19",{"$f":"'Annex 2.1a- 2.14a'!E1570","v":0}]
[null,"Annex_2.11 a_20",{"$f":"'Annex 2.1a- 2.14a'!E1571","v":0}]
[null,"Annex_2.11 a_Total Score",{"$f":"'Annex 2.1a- 2.14a'!E1572","v":0}]
[null,"Annex_2.11 a_Percentage",{"$f":"'Annex 2.1a- 2.14a'!E1573","v":{"v":0,"d":"0%"}}]
[null,"Annex_2.12 a_1",{"$f":"'Annex 2.1a- 2.14a'!E1586","v":0}]
[null,"Annex_2.12 a_2",{"$f":"'Annex 2.1a- 2.14a'!E1587","v":0}]
[null,"Annex_2.12 a_3",{"$f":"'Annex 2.1a- 2.14a'!E1588","v":0}]
[null,"Annex_2.12 a_4",{"$f":"'Annex 2.1a- 2.14a'!E1589","v":0}]
[null,"Annex_2.12 a_5",{"$f":"'Annex 2.1a- 2.14a'!E1590","v":0}]
[null,"Annex_2.12 a_6",{"$f":"'Annex 2.1a- 2.14a'!E1591","v":0}]
[null,"Annex_2.12 a_7",{"$f":"'Annex 2.1a- 2.14a'!E1592","v":0}]
[null,"Annex_2.12 a_8",{"$f":"'Annex 2.1a- 2.14a'!E1593","v":0}]
[null,"Annex_2.12 a_9",{"$f":"'Annex 2.1a- 2.14a'!E1594","v":0}]
[null,"Annex_2.12 a_10",{"$f":"'Annex 2.1a- 2.14a'!E1595","v":0}]
[null,"Annex_2.12 a_11",{"$f":"'Annex 2.1a- 2.14a'!E1596","v":0}]
[null,"Annex_2.12 a_12",{"$f":"'Annex 2.1a- 2.14a'!E1597","v":0}]
[null,"Annex_2.12 a_13",{"$f":"'Annex 2.1a- 2.14a'!E1598","v":0}]
[null,"Annex_2.12 a_14",{"$f":"'Annex 2.1a- 2.14a'!E1599","v":0}]
[null,"Annex_2.12 a_15",{"$f":"'Annex 2.1a- 2.14a'!E1600","v":0}]
[null,"Annex_2.12 a_16",{"$f":"'Annex 2.1a- 2.14a'!E1601","v":0}]
[null,"Annex_2.12 a_Total Score",{"$f":"'Annex 2.1a- 2.14a'!E1602","v":0}]
[null,"Annex_2.12 a_Percentage",{"$f":"'Annex 2.1a- 2.14a'!E1603","v":{"v":0,"d":"0%"}}]
[null,"Annex_2.13 a_1",{"$f":"'Annex 2.1a- 2.14a'!E1615","v":0}]
[null,"Annex_2.13 a_2",{"$f":"'Annex 2.1a- 2.14a'!E1616","v":0}]
[null,"Annex_2.13 a_3",{"$f":"'Annex 2.1a- 2.14a'!E1617","v":0}]
[null,"Annex_2.13 a_4",{"$f":"'Annex 2.1a- 2.14a'!E1618","v":0}]
[null,"Annex_2.13 a_5",{"$f":"'Annex 2.1a- 2.14a'!E1619","v":0}]
[null,"Annex_2.13 a_6",{"$f":"'Annex 2.1a- 2.14a'!E1620","v":0}]
[null,"Annex_2.13 a_7",{"$f":"'Annex 2.1a- 2.14a'!E1621","v":0}]
[null,"Annex_2.13 a_8",{"$f":"'Annex 2.1a- 2.14a'!E1622","v":0}]
[null,"Annex_2.13 a_9",{"$f":"'Annex 2.1a- 2.14a'!E1623","v":0}]
[null,"Annex_2.13 a_10",{"$f":"'Annex 2.1a- 2.14a'!E1624","v":0}]
[null,"Annex_2.13 a_11",{"$f":"'Annex 2.1a- 2.14a'!E1625","v":0}]
[null,"Annex_2.13 a_12",{"$f":"'Annex 2.1a- 2.14a'!E1626","v":0}]
[null,"Annex_2.13 a_13",{"$f":"'Annex 2.1a- 2.14a'!E1627","v":0}]
[null,"Annex_2.13 a_14",{"$f":"'Annex 2.1a- 2.14a'!E1628","v":0}]
[null,"Annex_2.13 a_Total Score",{"$f":"'Annex 2.1a- 2.14a'!E1629","v":0}]
[null,"Annex_2.13 a_Percentage",{"$f":"'Annex 2.1a- 2.14a'!E1630","v":{"v":0,"d":"0%"}}]
[null,"Annex_2.13 b_1",{"$f":"'Annex 2.1a- 2.14a'!E1642","v":0}]
[null,"Annex_2.13 b_2",{"$f":"'Annex 2.1a- 2.14a'!E1643","v":0}]
[null,"Annex_2.13 b_3",{"$f":"'Annex 2.1a- 2.14a'!E1644","v":0}]
[null,"Annex_2.13 b_4",{"$f":"'Annex 2.1a- 2.14a'!E1645","v":0}]
[null,"Annex_2.13 b_5",{"$f":"'Annex 2.1a- 2.14a'!E1646","v":0}]
[null,"Annex_2.13 b_6",{"$f":"'Annex 2.1a- 2.14a'!E1647","v":0}]
[null,"Annex_2.13 b_7",{"$f":"'Annex 2.1a- 2.14a'!E1648","v":0}]
[null,"Annex_2.13 b_8",{"$f":"'Annex 2.1a- 2.14a'!E1649","v":0}]
[null,"Annex_2.13 b_9",{"$f":"'Annex 2.1a- 2.14a'!E1650","v":0}]
[null,"Annex_2.13 b_10",{"$f":"'Annex 2.1a- 2.14a'!E1651","v":0}]
[null,"Annex_2.13 b_11",{"$f":"'Annex 2.1a- 2.14a'!E1652","v":0}]
[null,"Annex_2.13 b_12",{"$f":"'Annex 2.1a- 2.14a'!E1653","v":0}]
[null,"Annex_2.13 b_13",{"$f":"'Annex 2.1a- 2.14a'!E1654","v":0}]
[null,"Annex_2.13 b_14",{"$f":"'Annex 2.1a- 2.14a'!E1655","v":0}]
[null,"Annex_2.13 b_15",{"$f":"'Annex 2.1a- 2.14a'!E1656","v":0}]
[null,"Annex_2.13 b_16",{"$f":"'Annex 2.1a- 2.14a'!E1657","v":0}]
[null,"Annex_2.13 b_17",{"$f":"'Annex 2.1a- 2.14a'!E1658","v":0}]
[null,"Annex_2.13 b_18",{"$f":"'Annex 2.1a- 2.14a'!E1659","v":0}]
[null,"Annex_2.13 b_19",{"$f":"'Annex 2.1a- 2.14a'!E1660","v":0}]
[null,"Annex_2.13 b_20",{"$f":"'Annex 2.1a- 2.14a'!E1661","v":0}]
[null,"Annex_2.13 b_Total Score",{"$f":"'Annex 2.1a- 2.14a'!E1662","v":0}]
[null,"Annex_2.13 b_Percentage",{"$f":"'Annex 2.1a- 2.14a'!E1663","v":{"v":0,"d":"0%"}}]
[null,"Annex_2.13 c_1",{"$f":"'Annex 2.1a- 2.14a'!E1675","v":0}]
[null,"Annex_2.13 c_2",{"$f":"'Annex 2.1a- 2.14a'!E1676","v":0}]
[null,"Annex_2.13 c_3",{"$f":"'Annex 2.1a- 2.14a'!E1677","v":0}]
[null,"Annex_2.13 c_4",{"$f":"'Annex 2.1a- 2.14a'!E1678","v":0}]
[null,"Annex_2.13 c_5",{"$f":"'Annex 2.1a- 2.14a'!E1679","v":0}]
[null,"Annex_2.13 c_6",{"$f":"'Annex 2.1a- 2.14a'!E1680","v":0}]
[null,"Annex_2.13 c_7",{"$f":"'Annex 2.1a- 2.14a'!E1681","v":0}]
[null,"Annex_2.13 c_8",{"$f":"'Annex 2.1a- 2.14a'!E1682","v":0}]
[null,"Annex_2.13 c_9",{"$f":"'Annex 2.1a- 2.14a'!E1683","v":0}]
[null,"Annex_2.13 c_10",{"$f":"'Annex 2.1a- 2.14a'!E1684","v":0}]
[null,"Annex_2.13 c_11",{"$f":"'Annex 2.1a- 2.14a'!E1685","v":0}]
[null,"Annex_2.13 c_12",{"$f":"'Annex 2.1a- 2.14a'!E1686","v":0}]
[null,"Annex_2.13 c_13",{"$f":"'Annex 2.1a- 2.14a'!E1687","v":0}]
[null,"Annex_2.13 c_14",{"$f":"'Annex 2.1a- 2.14a'!E1688","v":0}]
[null,"Annex_2.13 c_15",{"$f":"'Annex 2.1a- 2.14a'!E1689","v":0}]
[null,"Annex_2.13 c_16",{"$f":"'Annex 2.1a- 2.14a'!E1690","v":0}]
[null,"Annex_2.13 c_17",{"$f":"'Annex 2.1a- 2.14a'!E1691","v":0}]
[null,"Annex_2.13 c_18",{"$f":"'Annex 2.1a- 2.14a'!E1692","v":0}]
[null,"Annex_2.13 c_19",{"$f":"'Annex 2.1a- 2.14a'!E1693","v":0}]
[null,"Annex_2.13 c_20",{"$f":"'Annex 2.1a- 2.14a'!E1694","v":0}]
[null,"Annex_2.13 c_21",{"$f":"'Annex 2.1a- 2.14a'!E1695","v":0}]
[null,"Annex_2.13 c_22",{"$f":"'Annex 2.1a- 2.14a'!E1696","v":0}]
[null,"Annex_2.13 c_23",{"$f":"'Annex 2.1a- 2.14a'!E1697","v":0}]
[null,"Annex_2.13 c_Total Score",{"$f":"'Annex 2.1a- 2.14a'!E1698","v":0}]
[null,"Annex_2.13 c_Percentage",{"$f":"'Annex 2.1a- 2.14a'!E1699","v":{"v":0,"d":"0%"}}]
[null,"Annex_2.14 a_1",{"$f":"'Annex 2.1a- 2.14a'!E1711","v":0}]
[null,"Annex_2.14 a_2",{"$f":"'Annex 2.1a- 2.14a'!E1712","v":0}]
[null,"Annex_2.14 a_3",{"$f":"'Annex 2.1a- 2.14a'!E1713","v":0}]
[null,"Annex_2.14 a_4",{"$f":"'Annex 2.1a- 2.14a'!E1714","v":0}]
[null,"Annex_2.14 a_5",{"$f":"'Annex 2.1a- 2.14a'!E1715","v":0}]
[null,"Annex_2.14 a_6",{"$f":"'Annex 2.1a- 2.14a'!E1716","v":0}]
[null,"Annex_2.14 a_7",{"$f":"'Annex 2.1a- 2.14a'!E1717","v":0}]
[null,"Annex_2.14 a_8",{"$f":"'Annex 2.1a- 2.14a'!E1718","v":0}]
[null,"Annex_2.14 a_9",{"$f":"'Annex 2.1a- 2.14a'!E1719","v":0}]
[null,"Annex_2.14 a_10",{"$f":"'Annex 2.1a- 2.14a'!E1720","v":0}]
[null,"Annex_2.14 a_11",{"$f":"'Annex 2.1a- 2.14a'!E1721","v":0}]
[null,"Annex_2.14 a_12",{"$f":"'Annex 2.1a- 2.14a'!E1722","v":0}]
[null,"Annex_2.14 a_13",{"$f":"'Annex 2.1a- 2.14a'!E1723","v":0}]
[null,"Annex_2.14 a_14",{"$f":"'Annex 2.1a- 2.14a'!E1724","v":0}]
[null,"Annex_2.14 a_15",{"$f":"'Annex 2.1a- 2.14a'!E1725","v":0}]
[null,"Annex_2.14 a_16",{"$f":"'Annex 2.1a- 2.14a'!E1726","v":0}]
[null,"Annex_2.14 a_17",{"$f":"'Annex 2.1a- 2.14a'!E1727","v":0}]
[null,"Annex_2.14 a_18",{"$f":"'Annex 2.1a- 2.14a'!E1728","v":0}]
[null,"Annex_2.14 a_19",{"$f":"'Annex 2.1a- 2.14a'!E1729","v":0}]
[null,"Annex_2.14 a_20",{"$f":"'Annex 2.1a- 2.14a'!E1730","v":0}]
[null,"Annex_2.14 a_21",{"$f":"'Annex 2.1a- 2.14a'!E1731","v":0}]
[null,"Annex_2.14 c_Total Score",{"$f":"'Annex 2.1a- 2.14a'!E1732","v":0}]
[null,"Annex_2.14 c_Percentage",{"$f":"'Annex 2.1a- 2.14a'!E1733","v":{"v":0,"d":"0%"}}]
[null,"Annex_3.1 a_1",{"$f":"'Annex 3.1a-3.11a'!E3","v":0}]
[null,"Annex_3.1 a_2",{"$f":"'Annex 3.1a-3.11a'!E4","v":0}]
[null,"Annex_3.1 a_3",{"$f":"'Annex 3.1a-3.11a'!E5","v":0}]
[null,"Annex_3.1 a_4",{"$f":"'Annex 3.1a-3.11a'!E6","v":0}]
[null,"Annex_3.1 a_5",{"$f":"'Annex 3.1a-3.11a'!E7","v":0}]
[null,"Annex_3.1 a_6",{"$f":"'Annex 3.1a-3.11a'!E8","v":0}]
[null,"Annex_3.1 a_7",{"$f":"'Annex 3.1a-3.11a'!E9","v":0}]
[null,"Annex_3.1 a_8",{"$f":"'Annex 3.1a-3.11a'!E10","v":0}]
[null,"Annex_3.1 a_9",{"$f":"'Annex 3.1a-3.11a'!E11","v":0}]
[null,"Annex_3.1 a_10",{"$f":"'Annex 3.1a-3.11a'!E12","v":0}]
[null,"Annex_3.1 a_11",{"$f":"'Annex 3.1a-3.11a'!E13","v":0}]
[null,"Annex_3.1 a_12",{"$f":"'Annex 3.1a-3.11a'!E14","v":0}]
[null,"Annex_3.1 a_13",{"$f":"'Annex 3.1a-3.11a'!E15","v":0}]
[null,"Annex_3.1 a_14",{"$f":"'Annex 3.1a-3.11a'!E16","v":0}]
[null,"Annex_3.1 a_15",{"$f":"'Annex 3.1a-3.11a'!E17","v":0}]
[null,"Annex_3.1 a_16",{"$f":"'Annex 3.1a-3.11a'!E18","v":0}]
[null,"Annex_3.1 a_17",{"$f":"'Annex 3.1a-3.11a'!E19","v":0}]
[null,"Annex_3.1 a_Total Score",{"$f":"'Annex 3.1a-3.11a'!E20","v":0}]
[null,"Annex_3.1 a_Percentage",{"$f":"'Annex 3.1a-3.11a'!E21","v":{"v":0,"d":"0%"}}]
[null,"Annex_3.2 a_1",{"$f":"'Annex 3.1a-3.11a'!E34","v":0}]
[null,"Annex_3.2 a_2",{"$f":"'Annex 3.1a-3.11a'!E35","v":0}]
[null,"Annex_3.2 a_3",{"$f":"'Annex 3.1a-3.11a'!E36","v":0}]
[null,"Annex_3.2 a_4",{"$f":"'Annex 3.1a-3.11a'!E37","v":0}]
[null,"Annex_3.2 a_5",{"$f":"'Annex 3.1a-3.11a'!E38","v":0}]
[null,"Annex_3.2 a_6",{"$f":"'Annex 3.1a-3.11a'!E39","v":0}]
[null,"Annex_3.2 a_7",{"$f":"'Annex 3.1a-3.11a'!E40","v":0}]
[null,"Annex_3.2 a_8",{"$f":"'Annex 3.1a-3.11a'!E41","v":0}]
[null,"Annex_3.2 a_9",{"$f":"'Annex 3.1a-3.11a'!E42","v":0}]
[null,"Annex_3.2 a_10",{"$f":"'Annex 3.1a-3.11a'!E43","v":0}]
[null,"Annex_3.2 a_11",{"$f":"'Annex 3.1a-3.11a'!E44","v":0}]
[null,"Annex_3.2 a_12",{"$f":"'Annex 3.1a-3.11a'!E45","v":0}]
[null,"Annex_3.2 a_13",{"$f":"'Annex 3.1a-3.11a'!E46","v":0}]
[null,"Annex_3.2 a_14",{"$f":"'Annex 3.1a-3.11a'!E47","v":0}]
[null,"Annex_3.2 a_15",{"$f":"'Annex 3.1a-3.11a'!E48","v":0}]
[null,"Annex_3.2 a_Total Score",{"$f":"'Annex 3.1a-3.11a'!E49","v":0}]
[null,"Annex_3.2 a_Percentage",{"$f":"'Annex 3.1a-3.11a'!E50","v":{"v":0,"d":"0%"}}]
[null,"Annex_3.3 a_1",{"$f":"'Annex 3.1a-3.11a'!E63","v":0}]
[null,"Annex_3.3 a_2",{"$f":"'Annex 3.1a-3.11a'!E64","v":0}]
[null,"Annex_3.3 a_3",{"$f":"'Annex 3.1a-3.11a'!E65","v":0}]
[null,"Annex_3.3 a_4",{"$f":"'Annex 3.1a-3.11a'!E66","v":0}]
[null,"Annex_3.3 a_5",{"$f":"'Annex 3.1a-3.11a'!E67","v":0}]
[null,"Annex_3.3 a_6",{"$f":"'Annex 3.1a-3.11a'!E68","v":0}]
[null,"Annex_3.3 a_7",{"$f":"'Annex 3.1a-3.11a'!E69","v":0}]
[null,"Annex_3.3 a_8",{"$f":"'Annex 3.1a-3.11a'!E70","v":0}]
[null,"Annex_3.3 a_9",{"$f":"'Annex 3.1a-3.11a'!E71","v":0}]
[null,"Annex_3.3 a_10",{"$f":"'Annex 3.1a-3.11a'!E72","v":0}]
[null,"Annex_3.3 a_11",{"$f":"'Annex 3.1a-3.11a'!E73","v":0}]
[null,"Annex_3.3 a_12",{"$f":"'Annex 3.1a-3.11a'!E74","v":0}]
[null,"Annex_3.3 a_13",{"$f":"'Annex 3.1a-3.11a'!E75","v":0}]
[null,"Annex_3.3 a_14",{"$f":"'Annex 3.1a-3.11a'!E76","v":0}]
[null,"Annex_3.3 a_15",{"$f":"'Annex 3.1a-3.11a'!E77","v":0}]
[null,"Annex_3.3 a_16",{"$f":"'Annex 3.1a-3.11a'!E78","v":0}]
[null,"Annex_3.3 a_17",{"$f":"'Annex 3.1a-3.11a'!E79","v":0}]
[null,"Annex_3.3 a_18",{"$f":"'Annex 3.1a-3.11a'!E80","v":0}]
[null,"Annex_3.3 a_19",{"$f":"'Annex 3.1a-3.11a'!E81","v":0}]
[null,"Annex_3.3 a_20",{"$f":"'Annex 3.1a-3.11a'!E82","v":0}]
[null,"Annex_3.3 a_21",{"$f":"'Annex 3.1a-3.11a'!E83","v":0}]
[null,"Annex_3.3 a_22",{"$f":"'Annex 3.1a-3.11a'!E84","v":0}]
[null,"Annex_3.3 a_23",{"$f":"'Annex 3.1a-3.11a'!E85","v":0}]
[null,"Annex_3.3 a_24",{"$f":"'Annex 3.1a-3.11a'!E86","v":0}]
[null,"Annex_3.3 a_25",{"$f":"'Annex 3.1a-3.11a'!E87","v":0}]
[null,"Annex_3.3 a_26",{"$f":"'Annex 3.1a-3.11a'!E88","v":0}]
[null,"Annex_3.3 a_Total Score",{"$f":"'Annex 3.1a-3.11a'!E89","v":0}]
[null,"Annex_3.3 a_Percentage",{"$f":"'Annex 3.1a-3.11a'!E90","v":{"v":0,"d":"0%"}}]
[null,"Annex_3.7 a_1",{"$f":"'Annex 3.1a-3.11a'!E102","v":0}]
[null,"Annex_3.7 a_2",{"$f":"'Annex 3.1a-3.11a'!E103","v":0}]
[null,"Annex_3.7 a_3",{"$f":"'Annex 3.1a-3.11a'!E104","v":0}]
[null,"Annex_3.7 a_4",{"$f":"'Annex 3.1a-3.11a'!E105","v":0}]
[null,"Annex_3.7 a_5",{"$f":"'Annex 3.1a-3.11a'!E106","v":0}]
[null,"Annex_3.7 a_6",{"$f":"'Annex 3.1a-3.11a'!E107","v":0}]
[null,"Annex_3.7 a_Total Score",{"$f":"'Annex 3.1a-3.11a'!E108","v":0}]
[null,"Annex_3.7 a_Percentage",{"$f":"'Annex 3.1a-3.11a'!E109","v":{"v":0,"d":"0%"}}]
[null,"Annex_3.11 a_1",{"$f":"'Annex 3.1a-3.11a'!E121","v":0}]
[null,"Annex_3.11 a_2",{"$f":"'Annex 3.1a-3.11a'!E122","v":0}]
[null,"Annex_3.11 a_3",{"$f":"'Annex 3.1a-3.11a'!E123","v":0}]
[null,"Annex_3.11 a_4",{"$f":"'Annex 3.1a-3.11a'!E124","v":0}]
[null,"Annex_3.11 a_5",{"$f":"'Annex 3.1a-3.11a'!E125","v":0}]
[null,"Annex_3.11 a_6",{"$f":"'Annex 3.1a-3.11a'!E126","v":0}]
[null,"Annex_3.11 a_7",{"$f":"'Annex 3.1a-3.11a'!E127","v":0}]
[null,"Annex_3.11 a_Total Score",{"$f":"'Annex 3.1a-3.11a'!E128","v":0}]
[null,"Annex_3.11 a_Percentage",{"$f":"'Annex 3.1a-3.11a'!E129","v":{"v":0,"d":"0%"}}]

{"sheet":"Sheet1","index":11,"n_rows":741,"n_cols":4,"rows_kept":741,"hidden":true}
["1.1.1","Hospital Management Committee is formed",null,1]
["1.1.2","All HMC members have received an orientation on HMC functions",null,1]
["1.1.3","Medical Superintendent is fulfill as per organogram",null,1]
["1.1.4.1","HMC meetings called upon by member secretary / Medical Superintendent headed by chairperson conducted at least 3 times per year or as per need",null,1]
[" 1.1.4.2.1","Hospital services and utilization",null,1]
[" 1.1.4.2.2","Hospital’s financial issues",null,1]
["1.1.4.2.3","Patient rights issues e.g. patient facilities, analysis of complaints received, patient security",null,1]
["1.1.4.2.4","Management issues- HR issues, security issues",null,1]
["1.1.4.2.5","Infrastructure/ Equipment issues",null,1]
["1.1.4.2.6","Coordination issues with local governance- rural municipality/ municipality, provincial, federal, DoHS, MoHP",null,1]
["1.1.4.2.7","Review of decisions and recommendations of staff meeting and QI Committee meetings discussions",null,1]
["1.1.5.1","Hospital implements health insurance program",null,1]
["1.1.5.2","All targeted women receive Aama Surakhsya program incentives on time (in last quarter)",null,1]
["1.1.6","Annual plan & budget is approved by HMC before the fiscal year starts",null,1]
["1.1.7","There is a separate locker for HMC documents.",null,1]
[" 1.1.8.1","Updated citizens charter is displayed",null,1]
[" 1.1.8.2","Notices of public concern are displayed publicly",null,1]
[" 1.1.8.3","Complaint boxes are kept in a visible place  ",null,1]
[" 1.1.8.4","Information officer opens complaint box at least once a week and issues are timely addressed",null,1]
[" 1.1.8.5","Hospital has a website or social media account like- Facebook, Viber or Twitter- available and functional with latest information",null,1]
["1.1.8.6","Hospital has geriatrics friendly infrastructure (like side rails for mobilization and support)",null,1]
["1.1.8.7","Hospital has friendly environment for people with disability (like ramps)",null,1]
["1.1.9.1","Mechanism for grievance and complain handling institutionalized   ",null,1]
["1.1.9.2","Grievance and complains are effectively addressed",null,1]
["1.1.10","Hospital has its own operational manual with clear information on how the hospital operates its' services",null,1]
[" 1.1.11","Hospital Annual Report is available in website",null,1]
[" 1.1.12","Social audit is conducted for last year by third party",null,1]
["1.2.1.1","Organogram of hospital showing departments/units with number of staffs is displayed",null,1]
["1.2.1.2","Organogram of hospital is reviewed every 2 years and forwarded to higher authority",null,1]
[" 1.2.2","Written delegation of authorities is maintained",null,1]
["1.2.3","Navigation chart with services and departments guiding clients to access services",null,1]
["1.2.4","Hospital implements token and / or queue system for users (separate for elderly, disable and pregnant)",null,1]
["1.2.5","All staffs of hospital use electronic attendance",null,1]
["1.2.6.1","All clinical, technical and administrative staffs have apron / uniform which is worn on duty",null,1]
["1.2.6.2","All hospital staffs carry personal ID cards when on duty",null,1]
[" 1.2.7.1","Hand-over meetings are conducted daily and also in concerned department",null,1]
["1.2.7.2","Morning conference is conducted everyday",null,1]
[" 1.2.7.3","Regular meetings are conducted as follows (see meeting minutes):",null,1]
["1.2.7.3.1","Intra- departmental meeting every two weeks",null,1]
["1.2.7.3.2","Inter-departmental meeting once a month",null,1]
["1.2.7.3.3","Staff meeting once a month",null,1]
["1.2.7.4","Staff quarters are provided and adequate for the staffs",null,1]
["1.2.7.5","Separate space allocated for breast feeding for staffs/ Separate space in duty room designated for breast feeding",null,1]
["1.3.1","Personnel administration guideline of HMC is available (for all staffs including locally hired staff) and practiced accordingly",null,1]
["1.3.2","Individual records of all staffs including contract staffs are maintained and updated.",null,1]
["1.3.3.1","Staffs available for service in hospital as per organogram (See Annex 1.3a Functional Organogram Section I: At the end of this standard)",null,3]
["1.3.3.2","Maaga Akriti form (माग आकृति फारम) correspondence to fulfill vacant positions to concerned authority as per guideline",null,1]
["1.3.4","All staffs including HMC staffs are given a job description when they are recruited/ posted to the hospital (permanent and contract staff) ",null,1]
["1.3.5.1","Performance appraisal (का. स. मु.) of all staffs is done as per guideline",null,1]
["1.3.6.1","A training plan for the hospital is developed based on the training needs of the staff identified at the performance appraisal",null,1]
["1.3.6.2","For training and related activities, at any point of time, the acceptable work absenteeism is <10% of staff",null,1]
["1.3.6.3","There is activity conducted to motivate staff (staff retreat, rewards, recognition of performances, etc.) at least once a year.",null,1]
["1.3.6.4","Hospital has system for addressing occupational hazard like needle stick injury, radiation exposure, vaccination",null,1]
["1.3.7.1","Hospital conducts CPD / CME classes to technical staff weekly   ",null,1]
["1.3.7.2","Written record of attendance, subjects presented and discussed during CPD/CME",null,1]
["1.3.7.3","Separate space with furniture, audio-visual aids and internet for CPD/CME/meeting are available.",null,1]
["1.3.8.1","Hospital has its own library  with sitting arrangement for readers  ",null,1]
["1.3.8.2","A list of national health guidelines and treatment protocols available and inventory managed for readers accessing it",null,1]
["1.3.8.3","Computers with printing and photocopy facility available",null,1]
["1.3.8.6","Access to internet facility with institutional access to at least one of the international health related domain like HINARI",null,1]
["1.4.1.1","Dedicated account department of hospital with space and furniture",null,1]
["1.4.1.2","At least one accountant available for hospital financial management ",null,1]
["1.4.2.1","An annual hospital budget is developed incorporating the revenue from services, government grants, and support provided by other organizations.",null,1]
["1.4.2.2","Internal income is reviewed during budgeting every year.",null,1]
["1.4.3","The service fees of the hospital are fixed by HMC every year.",null,1]
["1.4.4","Daily income is deposited in the bank every day.",null,1]
["1.4.5.1","Budget absorption rate of last fiscal year is as per national target",null,1]
["1.4.5.2","Internal audit, financial and physical progress review is done at least once each trimester (once in every 4 months).",null,1]
[" 1.4.5.3","Final audit/ external audited accounts are available for last year.",null,1]
["1.4.6.1","The hospital uses central electronic billing system  ",null,1]
["1.4.6.2","The hospital uses TABUCS/ LMBIS for accounting including local income and expenses by HMC.",null,1]
["1.4.7.1","The hospital prepares and keeps monthly financial report.",null,1]
["1.4.7.2","Trimester financial report is produced (every 4 months) and financial status tracked and discussed in meetings",null,1]
["1.4.7.3","Annual financial report is submitted to HMC.",null,1]
["1.4.8.1","Financial irregularities are responded within 35 days  ",null,1]
["1.4.8.2","Clearance of financial authorities is done as per national target",null,1]
["1.4.9","Inventory inspection is done once in a year and managed accordingly",null,1]
["1.5.1.1","Client registration is digitized using standard software ",null,1]
["1.5.1.2","Referral in and out records are kept using the standard form (HMIS 1.4) and register.",null,1]
["1.5.1.3","Electronic health record system that generates the HMIS monthly report (HMIS 9.4)is in place",null,1]
["1.5.2.1","There is a functional Medical Record Section ",null,1]
["1.5.2.2","All patients' records are kept in individual folders in racks or held digitally.",null,1]
["1.5.2.3","There is a set of functional computer and printer available for maintaining medical records.",null,1]
["1.5.3.1","Hospital monthly reports (HMIS 9.4) of the last three months are shared to the national database  ",null,1]
["1.5.3.2","Hospital services utilization statistics are analyzed at least every month and shared with all the HODs and in-charge via email, paper and/or dashboard. (Check last three months status)",null,1]
["1.5.3.3","Statistics including OPD morbidity pattern data, IPD data, surveillance data are analyzed and discussed in staff meeting and CPD/CME (Check the status in the last meeting)",null,1]
["1.5.3.4","Key statistics of service utilization is displayed in respective Departments/ Wards ",null,1]
["1.5.3.5","Medico-legal incidents and services are recorded",null,1]
["1.5.4.1","Medical recorder is trained on ICD and DHIS2",null,1]
["1.5.4.2","An information officer is specified to communicate with patients/clients, their relatives, media and other stakeholders.",null,1]
["1.5.4.3","Contact details of information officer is displayed in hospital premises with photo and phone number.",null,1]
["1.6.1.1","Hospital (QHSDMS) Committee is formed according to MSS Implementation Guideline.",null,1]
["1.6.1.2","Hospital (QHSDMS) Committee meetings are held at least every 4 months",null,1]
["1.6.2","The hospital has a statement of patient rights and responsibilities, which is posted in public places in the hospital.",null,1]
["1.6.3","The findings of social audit like client exit interview are shared in whole staff meeting",null,1]
["1.6.4","The hospital has assessed the hospital quality using the MSS tool at least every 4 months",null,1]
["1.6.5","The hospital has developed specific plans to improve quality based on the MSS assessment.",null,1]
["1.6.6","Hospital uses QI tools for assessment of the major priority government programs\n(less than 50%=0, 50-70% =1, 70-85% = 2, 85-100% =3)",null,3]
["1.6.7.1","Hospital has implemented the specific activities based on the MSS plan.",null,1]
["1.6.7.2","Hospital has implemented specific activities based on gap analysis of QI tools",null,1]
["1.6.8.1","The hospital has functional MPDSR committee (in program district)",null,1]
["1.6.8.2.1","Investigations and complications of treatment including medication error",null,1]
["1.6.8.2.2","Hospital acquired infections (HAI)",null,1]
["1.6.8.3","Mortality audit of every death in the hospital is done and reported",null,1]
["1.6.8.4","Hospital implements Robson’s classification (hospitals with CEONC services) ",null,1]
["1.6.8.5","Hospital implements baby friendly initiative",null,1]
["2.1.1.1","OPD is open from 10 AM to 3 PM (See Checklist 2.1 At the end of this standard for scoring).",{"$f":"+'Checklist 2.1'!$K$4","v":0},3]
["2.1.1.2","Tickets for routine OPD are available till 2 pm",null,1]
["2.1.1.3","EHS services from 3PM onwards and tickets available from 2PM onwards",null,1]
["2.1.2.1","Doctor: OPD Patients- 1:35-50 per day for quality of care",null,1]
["2.1.2.2","One screening counter with 1 paramedics",null,1]
["2.1.3","Patient privacy maintained with separate rooms, curtains hung, maintaining queuing of patients with paging system in OPD (See Checklist 2.1 At the end of this standard for scoring).",{"$f":"+'Checklist 2.1'!$K$5","v":0},3]
["2.1.4.1","Counseling is provided to patients about the type of treatment being given and its consequences (See Checklist 2.1 At the end of this standard for scoring).",{"$f":"+'Checklist 2.1'!$K$6","v":0},3]
[" 2.1.4.2","Appropriate IEC materials (posters, leaflets etc.) as an IEC corner available in the OPD waiting area.",null,1]
["2.1.5.1","Adequate rooms and space for the practitioners and patients are available (See Checklist 2.1 At the end of this standard for scoring).",{"$f":"+'Checklist 2.1'!K7","v":0},3]
["2.1.5.2","Light and ventilation are adequately maintained. (See Checklist 2.1 At the end of this standard for scoring)",{"$f":"+'Checklist 2.1'!K8","v":0},3]
["2.1.5.3","Required furniture, supplies and space are available"]
["2.1.5.3.1","General Medicine OPD (See Annex 2.1a Furniture and supplies for OPD At the end of this standard)",{"$f":"+'Annex 2.1a- 2.14a'!D22","v":0},3]
["2.1.5.3.2","Obstetrics and Gynecology OPD (See Annex 2.1a Furniture and supplies for OPD At the end of this standard)",{"$f":"+'Annex 2.1a- 2.14a'!D23","v":0},3]
["2.1.5.3.3","Pediatrics OPD (See Annex 2.1a Furniture and supplies for OPD At the end of this standard)",{"$f":"+'Annex 2.1a- 2.14a'!D24","v":0},3]
["2.1.5.3.4","General surgery OPD (See Annex 2.1a Furniture and supplies for OPD At the end of this standard)",{"$f":"+'Annex 2.1a- 2.14a'!D25","v":0},3]
["2.1.5.3.5","Orthopedics OPD (See Annex 2.1a Furniture and supplies for OPD At the end of this standard)",{"$f":"+'Annex 2.1a- 2.14a'!D26","v":0},3]
["2.1.6.1","General OPD (See Annex 2.1b Basic Equipment and Instrument for OPD At the end of this standard)",{"$f":"+'Annex 2.1a- 2.14a'!D65","v":0},3]
["2.1.6.2","Obstetrics and Gynecology OPD (See Annex 2.1b Basic Equipment and Instrument for OPD At the end of this standard)",{"$f":"+'Annex 2.1a- 2.14a'!D66","v":0},3]
["2.1.6.3","Pediatrics OPD (See Annex 2.1b Basic Equipment and Instrument for OPD At the end of this standard)",{"$f":"+'Annex 2.1a- 2.14a'!D67","v":0},3]
["2.1.6.4","General surgery OPD(See Annex 2.1b Basic Equipment and Instrument for OPD At the end of this standard)",{"$f":"+'Annex 2.1a- 2.14a'!D68","v":0},3]
["2.1.6.5","Orthopedics OPD (See Annex 2.1b Basic Equipment and Instrument for OPD At the end of this standard)",{"$f":"+'Annex 2.1a- 2.14a'!D69","v":0},3]
["2.1.7","Duty rosters of all OPDs are developed regularly and available in appropriate location.",null,1]
["2.1.8.1","Availability of waiting space  with sitting arrangement is available for at least 150 persons in waiting lobby (for total OPDs)",null,1]
["2.1.8.2","Safe drinking water is available in the waiting lobby throughout the day.",null,1]
["2.1.8.3","There are at least four toilets with hand‑washing facilities (2 for males and 2 for females separate, one each universal toilet)",null,1]
["2.1.8.4","Hand‑washing facilities are available for patients",null,1]
["2.1.9","OPD register available in every OPD with ICD 10 classification for diagnosis recorded (electronic health recording system) (See checklist 2.1 At the end of this standard for scoring)",{"$f":"+'Checklist 2.1'!K9","v":0},3]
["2.1.10.1","Masks and gloves are available and used (See Checklist 2.1 At the end of this standard for scoring)",{"$f":"+'Checklist 2.1'!K10","v":0},3]
["2.1.10.2","There are well labelled colored bins for waste segregation and disposal as per HCWM guideline 2014 (MoHP) (See Checklist 2.1 At the end of this standard for scoring)",{"$f":"+'Checklist 2.1'!K11","v":0},3]
["2.1.10.3","Hand‑washing facility with running water and soap or hand sanitizer is available for practitioners (See Checklist 2.1 At the end of this standard for scoring)",{"$f":"+'Checklist 2.1'!K12","v":0},3]
["2.1.10.4","Needle cutter is used (See Checklist 2.1 At the end of this standard for scoring)",{"$f":"+'Checklist 2.1'!K13","v":0},3]
["2.1.10.5","Chlorine solution is available and utilized for decontamination (See Checklist 2.1 At the end of this standard for scoring). ",{"$f":"+'Checklist 2.1'!K14","v":0},3]
["2.2.1.1","Immunization and growth monitoring service is available from 10 AM to 3 PM.",null,1]
["2.2.1.2","Adequate numbers of healthcare workers are available (at least 2 mid-level health workers are assigned)",null,1]
["2.2.1.3","Appropriate techniques have been used to ensure the patient privacy (separate rooms, curtains hung, maintaining queuing of patients).",null,1]
["2.2.1.4.1","Counseling is provided to caretaker about the type of vaccine, its schedule, nutritional status of child.",null,1]
["2.2.1.4.2","Appropriate IEC/BCC materials on vaccine, schedule and child growth and nutrition are available in clinic",null,1]
["2.2.1.5","Immunization and growth monitoring instrument, equipment and supplies are available (See Annex 2.2.1a Immunization and growth monitoring At the end of this standard)",{"$f":"+'Annex 2.1a- 2.14a'!E91","v":0},3]
["2.2.1.6.1","Adequate rooms and space for health worker and patients are available with at least one working table, chair for health worker and two patients’ chair",null,1]
["2.2.1.6.2","Light and ventilation are adequately maintained.",null,1]
["2.2.1.7.1","Patient’s card (Health card, growth chart) and register available and services recorded",null,1]
["2.2.1.7.2","An adverse event following immunization, complication, severe under-nutrition and referral to other sites recorded and reported",null,1]
["2.2.1.8.1","Masks and gloves are available and used",null,1]
["2.2.1.8.2","There are well labelled colored bins for waste segregation and disposal as per HCWM guideline 2014 (MoHP)",null,1]
["2.2.1.8.3","Hand‑washing facility with running water and soap is available for practitioners.",null,1]
["2.2.1.8.4","Needle cutter is used.",null,1]
["2.2.1.8.5","Chlorine solution is available and utilized. ",null,1]
["2.2.2.1","Family planning service is available from 10 AM to 3 PM.",null,1]
["2.2.2.2","A separate area dedicated for FP counseling and services ",null,1]
["2.2.2.3","Adequate numbers of healthcare workers are available (at least 2 mid-level health workers are assigned)",null,1]
["2.2.2.4","Appropriate techniques have been used to ensure the patient privacy (separate rooms, curtains hung, maintaining queuing of patients).",null,1]
["2.2.2.5.1","Counseling is provided to users for family planning methods",null,1]
["2.2.2.5.2","Appropriate IEC/BCC materials on family planning including DMT tool used for counseling",null,1]
["2.2.2.6","Supplies for Family Planning Services available (See Annex 2.2.2a Supplies for FP services At the end of this standard)",{"$f":"+'Annex 2.1a- 2.14a'!E113","v":0},3]
["2.2.2.7","Functional BP set, stethoscope, thermometer, and weighing scale available",null,1]
["2.2.2.8.1","Adequate rooms and space for health worker and patients are available with at least one working table, chair for health worker and two patients’ chair and one examination bed",null,1]
["2.2.2.8.2","Light and ventilation are adequately maintained.",null,1]
["2.2.2.9.1","Patient’s health card and register available and services recorded",null,1]
["2.2.2.9.2","FP related complication, defaulter and contraceptive failure are recorded and reported",null,1]
["2.2.2.10.1","Masks and gloves are available and used",null,1]
["2.2.2.10.2","There are well labelled colored bins for waste segregation and disposal as per HCWM guideline 2014 (MoHP)",null,1]
["2.2.2.10.3","Hand‑washing facility with running water and soap is available for practitioners.",null,1]
["2.2.2.10.4","Needle cutter is used.",null,1]
["2.2.2.10.5","Chlorine solution is available and utilized. ",null,1]
["2.2.3.1","Clinic is open from 10 AM to 3 PM.",null,1]
["2.2.3.2","Adequate numbers of healthcare workers are available in OPD (at least 2 mid-level health workers are assigned)",null,1]
["2.2.3.3","Appropriate techniques have been used to ensure the patient privacy (separate rooms, curtains hung, maintaining queuing of patients).",null,1]
["2.2.3.4.1","Counseling is provided to patients about the type of treatment being given and its consequences.",null,1]
["2.2.3.4.2","Appropriate IEC/BCC materials on TB, HIV/AIDS (posters, leaflets) are available in the OPD waiting area.",null,1]
["2.2.3.5","Medicines for TB, HIV/AIDS as per government treatment protocol available in OPD",null,1]
["2.2.3.6","OPD has functional BP set, stethoscope, thermometer and weighing scale",null,1]
["2.2.3.7.1","Adequate rooms and space for health worker and patients are available with at least one working table, chair for health worker and two patients’ chair",null,1]
["2.2.3.7.2","Light and ventilation are adequately maintained.",null,1]
["2.2.3.8.1","Safe drinking water with mug or glass is available for taking medicine",null,1]
["2.2.3.8.2","Hand‑washing facilities are available for patients.",null,1]
["2.2.3.9.1","Patient’s card (TB, ART) and register available and services recorded",null,1]
["2.2.3.9.2","Drug resistance, complication and referral to other sites recorded and reported",null,1]
["2.2.3.10.1","Masks and gloves are available and used",null,1]
["2.2.3.10.2","There are well labelled colored bins for waste segregation and disposal as per HCWM guideline 2014 (MoHP)",null,1]
["2.2.3.10.3","Hand‑washing facility with running water and soap is available for practitioners.",null,1]
["2.2.3.10.4","Needle cutter is used",null,1]
["2.2.3.10.5","Chlorine solution is available and utilized. ",null,1]
["2.2.4.1","Safe abortion services is available from 10 AM to 3 PM.",null,1]
["2.2.4.2","A separate area dedicated for Safe Abortion counseling and services, area is washable and has separate instrument processing space for decontamination",null,1]
["2.2.4.3.2","For surgical abortion, at least one medical officer or gynecologist or MDGP trained and certified in second trimester SAS is available",null,1]
["2.2.4.4","Appropriate techniques have been used to ensure the patient privacy (separate rooms, curtains hung, maintaining queuing of patients).",null,1]
["2.2.4.5.1","Counseling is provided to users on Safe Abortion Services, complication and family planning post abortion along with clear discharge instructions",null,1]
["2.2.4.5.2","Appropriate IEC/BCC materials on safe abortion services and post abortion family planning services –Medical Abortion Chart, CAC counseling flip chart, second trimester counseling flipchart, DMT Tools used for counseling",null,1]
["2.2.4.7.1","Instruments, equipments and supplies for Safe Abortion Services available (See Annex 2.2.2a Instruments, equipments and supplies for Safe Abortion services At the end of this standard)",{"$f":"+'Annex 2.1a- 2.14a'!E169","v":0},3]
["2.2.4.7.2","Functional BP set, stethoscope, thermometer, and weighing scale available",null,1]
["2.2.4.8.1","Adequate rooms and space for health worker and patients are available with at least one working table, chair for health worker and two patients’ chair, one examination bed, one procedure table and one foot step ",null,1]
["2.2.4.8.2","Light and ventilation are adequately maintained.",null,1]
["2.2.4.9.1","Patient’s health card and register available and services recorded along with complications if any",null,1]
["2.2.4.9.2"," Product of conception is sent for histopathlogical examination and reports followed up",null,1]
["2.2.4.10.1","Utility Gloves, Gumboot, Mask, Plastic Apron, Caps are available and used",null,1]
["2.2.4.10.2","There are well labelled colored bins for waste segregation and disposal as per HCWM guideline 2014 (MoHP)",null,1]
["2.2.4.10.3","Hand‑washing facility with running water and soap is available for practitioners.",null,1]
["2.2.4.10.4","Needle cutter is used.",null,1]
["2.2.4.10.5","Chlorine solution is available and utilized. ",null,1]
["2.3.1","Emergency room/ward is open 24 hours ",null,1]
["2.3.2.1","For 5-10 ER beds (Doctor: Nurse: Paramedics: Office Assistant = 1:1:1:1)",null,1]
["2.3.2.2","The doctor, nurse and paramedics are trained in PTC, ETM, BLS and ACLS [1]training",null,1]
["2.3.3.1","10% of the total hospital beds are allocated for ER of which 1% for red, 2% for yellow, 3% for green and 1 % for black color coded ",null,1]
["2.3.3.2","Adequate furniture and supplies (See Annex 2.3a Furniture and General Supplies for ER At the end of this standard)",{"$f":"+'Annex 2.1a- 2.14a'!E203","v":0},3]
["2.3.3.3","Light and ventilation are adequately maintained.",null,1]
["2.3.3.4","Designated area for nursing station centrally placed in ER and all beds visible from nursing station",null,1]
["2.3.3.5","Space allocated for duty room and changing room separate for male and female staffs with facilities of tea room ",null,1]
["2.3.3.6","Separate toilets for staffs at least one each-male, female and universal ",null,1]
["2.3.3.7","Separate land line/ mobile phone for emergency  ",null,1]
["2.3.4","Instruments and equipment to carry out the ER works are available and functioning (See Annex 2.3b ER Instruments and Equipment At the end of this standard)",{"$f":"+'Annex 2.1a- 2.14a'!D255","v":0},3]
["2.3.5.1","Medicines and supplies to carry out the ER works are available (See Annex 2.3c Medicines and Supplies for ER At the end of this standard)",{"$f":"+'Annex 2.1a- 2.14a'!D307","v":0},3]
["2.3.5.2","Emergency stock of medicines and supplies for mass casualty management",null,1]
["2.3.6.1","Hospital maintains a triage system in the ER with 24 hours triage service ",null,1]
["2.3.6.2","Triage category board and information to the public (Red, Yellow, Green Board) (descriptive flex)",null,1]
["2.3.7.1","In red area one of the bed is Resuscitation bed with availability of emergency crash trolley with emergency lifesaving drugs, cardiac monitor, non-invasive ventilator, oxygen concentrator   ",null,1]
["2.3.7.2","Development of 001 or Blue code call system whenever any patient visited in Emergency collapses and need immediate and urgent emergency care",null,1]
["2.3.7.3"," Emergency disposition of the patient either in observation ward or definite care ward or referral or discharge within 3-6 hours",null,1]
["2.3.7.4","Critical patient transfer from emergency to OT or Inter-hospital transfer is accompanied at least by paramedics or Nurse for handover of patient   ",null,1]
["2.3.8","Appropriate methods have been used to ensure patient privacy (separate rooms, curtains hung)",null,1]
["2.3.9","The hospital has maintained security system for ER for 24 hours with CCTV coverage",null,1]
["2.3.10.1","The hospital has mass casualty management protocol, and all staffs are updated with well labelled direction, prepositioning clipboards",null,1]
["2.3.10.2","Disaster area identified with adequate furniture to carry out Triage in case of disaster",null,1]
["2.3.10.3","Hospital carried out at least one mock preparedness once a year ",null,1]
["2.3.10.4","There must be disaster store in ER with required medicines, supplies and equipment (See Annex 2.3d List of medicine, supplies and equipment for Disaster Store At the end of this standard)",{"$f":"+'Annex 2.1a- 2.14a'!E394","v":0},3]
["2.3.11","Duty rosters of the ER are developed regularly and available in appropriate location",null,1]
["2.3.12","Separate inventories for emergency lifesaving drugs/equipment and narcotics are maintained",null,1]
["2.3.13","Narcotic drugs are kept separately and securely with mandatory recording system",null,1]
["2.3.14.1","Safe drinking water is available 24 hours",null,1]
["2.3.14.2","Hand‑washing facility with running water and liquid soap",null,1]
["2.3.14.3","There are at least 3 toilets with hand‑washing facilities (1 for males, 1 for females, and 1 universal) for every 10 ER beds and for additional beds increase proportionately for male and female ",null,1]
["2.3.15","Decontamination area specified and practiced",null,1]
["2.3.16.1","Staff wear mask and gloves at work",null,1]
["2.3.16.2","There are clearly labelled colored bins for waste segregation and disposal as per HCWM Guideline 2014 (MoHP)",null,1]
["2.3.16.3","Needle cutter is used",null,1]
["2.3.16.4","Chlorine solution is available and utilized for decontamination",null,1]
["2.4.1","A separate room for dresesing and injection service is available",null,1]
["2.4.2","Adequate furniture and general supplies are available (See Annex 2.4a Furniture and General Supplies for ER Minor OT At the end of this standard).",{"$f":"+'Annex 2.1a- 2.14a'!E416","v":0},3]
["2.4.3","Minimum dressing services and routine procedures are available (See Annex 2.4b List of Minimum Services from ER Minor OT At the end of this standard).",{"$f":"+'Annex 2.1a- 2.14a'!E438","v":0},3]
["2.4.4","Medicines and supplies needed for surgical procedures available (See Annex 2.4c Medicine and Supplies for Minor OT At the end of this standard).",{"$f":"+'Annex 2.1a- 2.14a'!E465","v":0},3]
["2.4.5.1","Sterile supply for Minor OT are available (See Annex 2.4d Sterile Supplies for Minor OT At the end of this standard).",{"$f":"+'Annex 2.1a- 2.14a'!E489","v":0},3]
["2.4.5.2","Separate containers for sterile gauze and cotton balls are available.",null,1]
["2.4.6.1","Mask, gloves, plastic apron, boots and goggles are available and used whenever required.",null,1]
["2.4.6.2","At least three color coded waste bins as per HCWM guideline are available and used",null,1]
["2.4.6.3","Supplies trolley with needle cutter is available and used",null,1]
["2.4.6.4","Hand‑washing facility with running water and soap ",null,1]
["2.4.6.5","Chlorine solution is available and utilized for decontamination",null,1]
["2.4.7","Proper records of all procedures are kept and reported.",null,1]
["2.5.1","Hospital has designated pharmacy department",null,1]
["2.5.2.1","Drug and Therapeutic committee (DTC)",null,1]
["2.5.2.2","Hospital pharmacy operation committee",null,1]
["2.5.3.1","Hospital has prepared formulary list based on Nepalese National Formulary (NNF) approved by DTC  ",null,1]
["2.5.3.2","Hospital formulary includes all medicines and supplies as per services provided by hospital",null,1]
["2.5.3.3","Hospital has all ,medicines and supplies available as per approved hospital formulary list",null,1]
["2.5.4.1","Annual procurement plan for medicines and supplies for pharmacy services is available",null,1]
["2.5.4.2","Procurement is done based on public procurement guideline",null,1]
["2.5.4.3","Product specification for each medicine and related supplies of approved formulary list is available",null,1]
["2.5.4.4","Technical criteria on quality assurance of procured medicines is included in standard bidding document",null,1]
["2.5.4.5","Certificate of analysis (CoA) from manufacturer of each batch of procured medicine is available",null,1]
["2.5.4.6","Selling price of the drugs does not exceed 20% of the procurement price",null,1]
["2.5.5","The pharmacy is open 24x7",null,1]
["2.5.6.1"," Pharmacy department is led by at least one clinical pharmacist",null,1]
["2.5.6.2","Pharmacy has at least 3 pharmacist, 6 assistant pharmacist and 2 office assistants",null,1]
["2.5.6.3","Duty roster of pharmacy to cover 24 hours service is prepared and visibly placed",null,1]
["2.5.7","The list of free medicines is displayed in a clearly visible place.",null,1]
["2.5.8","All of the required medicines and supplies for specific programs are available in pharmacy (less than 50%= 0; 50-70 =1, 70-85=2 85-100= 3)",null,3]
["2.5.9","Hospital pharmacy directly supplies  inpatient medicine and supplies to wards and OT",null,1]
["2.5.10","Pharmacy uses computer with software for inventory management and medicine use",null,1]
["2.5.11","Number of items of hospital formulary stocked in pharmacy(less than 50%= 0; 50-70 =1, 70-85=2 85-100= 3)",null,3]
["2.5.12.1","All the medicines and supplies are displayed in clean racks following either alphabetical orders and generic names or grouping as use",null,1]
["2.5.12.2","Temperature of pharmacy is monitored and recorded and is maintained in range of (25+/-2°C)",null,1]
["2.5.12.3","Functional freeze +/-4°C for thermolabile medicine",null,1]
["2.5.13.1","Pharmacy department has its allocated separate information and counseling unit with reference books or e-books",null,1]
["2.5.13.2","Information regarding the medicines is provided to the patients.",null,1]
["2.5.13.3","IEC materials (posters, leaflets, national hospital formulary) about the appropriate use for medicines are available in the pharmacy area.",null,1]
["2.5.14","Hospital has pre-printed list of medicines for  generic prescription  available",null,1]
["2.5.15.1"," Medicine is dispensed using electronic billing with barcode system",null,1]
["2.5.15.2","Each medicine is given with written instructions on how to take ",null,1]
["2.5.16","FIFO system is maintained using standard stock book/cards.",null,1]
["2.5.17","Every month, all medicines and supplies are counted, out- of-date discarded, and tallied with the medical store.",null,1]
["2.5.18.1","Pharmacy department operates pharmacovigilance  activities and adverse drug reaction (ADR) Reporting",null,1]
["2.5.18.2","Pharmacy department conducts studies on drug utilization and quantification ",null,1]
["2.5.19","Pharmaceutical waste (expired or unused pharmaceutical products, spilled contaminated pharmaceutical products surplus drugs, vaccines or sera, etc) management is done based on HCWM guideline 2014 (MoHP) or returned to the supplier on time",null,1]
["2.6.1.1","Separate space for nursing station is available in each ward (See Checklist 2.6 At the end of this standard for scoring)",{"$f":"+'Checklist 2.6'!I4","v":0},3]
[" 2.6.1.2","Separate changing room available for male and female staffs (See Checklist 2.6 At the end of this standard for scoring)",{"$f":"+'Checklist 2.6'!I5","v":0},3]
["2.6.1.3","Separate store room is available (See Checklist 2.6 At the end of this standard for scoring)",{"$f":"+'Checklist 2.6'!I6","v":0},3]
["2.6.2","Furniture and supplies to carry out the inpatient services are available and functioning "]
["2.6.2.1","Medicine Ward (See Annex 2.6a Furniture and supplies for inpatient wards At the end of this standard)",{"$f":"+'Annex 2.1a- 2.14a'!E534","v":0},3]
["2.6.2.2","Surgery Ward(See Annex 2.6a Furniture and supplies for inpatient wards At the end of this standard)",{"$f":"+'Annex 2.1a- 2.14a'!E535","v":0},3]
["2.6.2.3.1","Pediatrics Ward (See Annex 2.6a Furniture and supplies for inpatient wards At the end of this standard)",{"$f":"+'Annex 2.1a- 2.14a'!E536","v":0},3]
["2.6.2.3.2","Separate area dedicated for play room with play materials for different pediatric age groups",null,1]
["2.6.3.1","Medicine Ward (See Annex 2.6b medicine and supplies for inpatient wards At the end of this standard)",{"$f":"+'Annex 2.1a- 2.14a'!E563","v":0},3]
["2.6.3.2","Surgery Ward (See Annex 2.6b medicine and supplies for inpatient wards At the end of this standard)",{"$f":"+'Annex 2.1a- 2.14a'!E564","v":0},3]
["2.6.3.3","Pediatrics Ward (See Annex 2.6b medicine and supplies for inpatient wards At the end of this standard)",{"$f":"+'Annex 2.1a- 2.14a'!E565","v":0},3]
["2.6.4","There is a set of at least one table and two chairs in the nursing station and shelves for storage of charts and inpatient forms and formats (See Checklist 2.6 At the end of this standard for scoring)",{"$f":"+'Checklist 2.6'!I7","v":0},3]
[" 2.6.5","Adequate numbers of nursing staff are available in ward per shift (nurse patient ratio 1:6 in general ward, 1:4 in pediatric ward, 1:2 in high dependency or intermediate ward or post-operative ward or burn/plastic) and at least one trained office assistant/ward attendant per shift in each ward (See Checklist 2.6 At the end of this standard for scoring)",{"$f":"+'Checklist 2.6'!I8","v":0},3]
["2.6.6","Duty roster of doctors, nurses, paramedics and support staffs kept visibly in nursing station (See Checklist 2.6 At the end of this standard for scoring)",{"$f":"+'Checklist 2.6'!I9","v":0},3]
["2.6.7","Telephone facility is available with list of important contact numbers and hospital codes visibly kept (See Checklist 2.6 At the end of this standard for scoring)",{"$f":"+'Checklist 2.6'!I10","v":0},3]
["2.6.8.1","All staffs in wards are trained for BLS and oriented about emergency code 001 or blue code (See Checklist 2.6 At the end of this standard for scoring)",{"$f":"+'Checklist 2.6'!I11","v":0},3]
["2.6.8.2.1","Medicine Ward (See Annex 2.6c Emergency Trolley for Inpatient At the end of this standard)",null,3]
["2.6.8.2.2","Surgery Ward (See Annex 2.6c Emergency Trolley for Inpatient At the end of this standard)",null,3]
["2.6.8.2.3","Pediatrics Ward (See Annex 2.6c Emergency Trolley for Inpatient At the end of this standard)",null,3]
["2.6.8.3","At least one defibrillator in immediate accessible area (See Checklist 2.6 At the end of this standard for scoring)",{"$f":"+'Checklist 2.6'!I12","v":0},3]
["2.6.9","Safe abortion service (SAS) is available as per National SAS Implementation Guideline",null,1]
["2.6.10.1","Separate area designated for admission of male and female inpatients in wards (See Checklist 2.6 At the end of this standard for scoring)",{"$f":"+'Checklist 2.6'!I13","v":0},3]
["2.6.10.2","There are adequate separate toilets for male and female patients in each ward (1 for 6 female bed and 1 for 8 male beds) and also adequate wash basins/sinks for the patients. (See Checklist 2.6 At the end of this standard for scoring)",{"$f":"+'Checklist 2.6'!I14","v":0},3]
["2.6.10.3","Safe drinking water is available 24 hours for inpatients(See Checklist 2.6 At the end of this standard for scoring)",{"$f":"+'Checklist 2.6'!I15","v":0},3]
["2.6.10.4","Hours/ Time allocated for visitors to meet the inpatients and controlled traffic to prevent cross infection (See Checklist 2.6 At the end of this standard for scoring)",{"$f":"+'Checklist 2.6'!I16","v":0},3]
["2.6.10.5","Separate space is available for patients’ visitors (KuruwaGhar).",{"$f":"+'Checklist 2.6'!I17","v":0},1]
[" 2.6.11","Basic information regarding admitted patients is displayed in a separate board  (See Checklist 2.6 At the end of this standard for scoring)",{"$f":"+'Checklist 2.6'!I18","v":0},3]
["2.6.12","Appropriate IEC/BCC materials (posters, leaflets etc.) are available in the inpatient ward with focus on infection prevention (See Checklist 2.6 At the end of this standard for scoring)",{"$f":"+'Checklist 2.6'!I19","v":0},3]
["2.6.13","Admission and discharge registers are available and are being filled completely (HMIS 8.1 and 8.2) (See Checklist 2.6 At the end of this standard for scoring)",{"$f":"+'Checklist 2.6'!I20","v":0},3]
["2.6.14.1","PPE[2] are available and used whenever required (See Checklist 2.6 At the end of this standard for scoring)",{"$f":"+'Checklist 2.6'!I21","v":0},3]
["2.6.14.2","Each ward has hand sanitizer in visible place for health workers to use before and after touching patients (See Checklist 2.6 At the end of this standard for scoring)",{"$f":"+'Checklist 2.6'!I22","v":0},3]
["2.6.14.3","There are well labelled color-coded bins for waste segregation and disposal as per HCWM[3] guideline 2014 (MoHP) (See Checklist 2.6 At the end of this standard for scoring)",{"$f":"+'Checklist 2.6'!I23","v":0},3]
["2.6.14.4","Hand‑washing facility with running water and liquid soap is available and being practiced (See Checklist 2.6 At the end of this standard for scoring)",{"$f":"+'Checklist 2.6'!I24","v":0},3]
["2.6.14.5","Needle cutter is used (See Checklist 2.6 At the end of this standard for scoring)",{"$f":"+'Checklist 2.6'!I25","v":0},3]
["2.6.14.6","Chlorine solution is available and utilized for decontamination (See Checklist 2.6 At the end of this standard for scoring)",{"$f":"+'Checklist 2.6'!I26","v":0},3]
["2.7.1.1.1","Separate pre-labor room/ labor room with privacy is available.",null,1]
["2.7.1.1.2","Delivery service is available round the clock",null,1]
["2.7.1.1.3","At least one delivery bed is assigned for every 15 maternity beds",null,1]
["2.7.1.1.4","Labor room has adequate space for accommodating team of health workers during emergencies and easy access to OT",null,1]
["2.7.1.2.1.1","Nurse: pregnant women ratio 1:2 in pre-labor; 2:1 per delivery table and 1:6 in post-natal ward",null,1]
["2.7.1.2.1.2"," At least one ASBA trained medical officer on duty ",null,1]
["2.7.1.2.1.3"," At least one office assistant is available per shift",null,1]
["2.7.1.2.2","All staffs- nursing, medical practitioner designated for delivery services are trained skilled birth attendants",null,1]
["2.7.1.3","Duty roster to cover 24 hours shift is developed and placed in visible place",null,1]
["2.7.1.4","Partograph available and being used rationally",null,1]
["2.7.1.5","At least 2 KMC chairs available for providing KMC to premature and preterm babies",null,1]
["2.7.1.6","A formally signed standard birth certificate is issued.",null,1]
["2.7.1.7.1","Pre-labor/ during labor patient and patients’ family are adequately given counseling on labor, possible complications and written consent taken",null,1]
["2.7.1.7.2","Health education on PNC, danger signs of mother and child, Immunization, nutrition, hygiene and family planning is given ",null,1]
["2.7.1.7.3","Postpartum family planning and breastfeeding- early, exclusive and extended counseling is done prior to discharge.",null,1]
["2.7.1.8","Appropriate IEC/BCC materials (posters, leaflets etc.) on postnatal care, breastfeeding- early, exclusive and extended, nutrition, immunization are used and available for users",null,1]
[" 2.7.1.9.1","Separate store room for delivery service related logistics",null,1]
["2.7.1.9.2","The facility has adequate equipment, instrument and general supplies for delivery services (See Annex 2.7.1a Furniture, equipment, instrument and general supplies for labor room At the end of this standard)",{"$f":"+'Annex 2.1a- 2.14a'!E680","v":0},3]
["2.7.1.9.3","Labor room has medicines and supplies available for delivery services (See Annex 2.7.1bmedicines and supplies for Labor Room At the end of this standard)",{"$f":"+'Annex 2.1a- 2.14a'!D747","v":0},3]
["2.7.1.9.4","Labor room has emergency cart with medicines and supplies available (See Annex 2.7.1c Medicines and Supplies for ER[2] Trolley Labor Room At the end of this standard)",{"$f":"+'Annex 2.1a- 2.14a'!E795","v":0},3]
["2.7.1.10.1","Safe drinking water is available 24 hours.",null,1]
["2.7.1.10.2","Separate toilet for patient is available in pre-labor room and accessible to patient after delivery",null,1]
["2.7.1.10.3","There should be maternity waiting homes[3]where there is more than 20 deliveries per day and the waiting home must be taken round by every shift with at least one visit (by nurse)",null,1]
["2.7.1.11.1","Personal protective equipment are available and used whenever required.",null,1]
["2.7.1.11.2","Washable labor room",null,1]
["2.7.1.11.3","Separate slipper designated for labor room and hand sanitizer placed in visible place for use",null,1]
["2.7.1.11.4","There are at well labelled color-coded bins for waste segregation and disposal as per HCWM guideline 2014 (MoHP)",null,1]
["2.7.1.11.5","Hand‑washing facility with running water and liquid soap is available",null,1]
["2.7.1.11.6","Needle cutter is used.",null,1]
["2.7.1.11.7"," Liquid sodium hypochoride (0.5% Chlorine solution) is available and utilized for decontamination. ",null,1]
["2.7.1.11.8","Dry gauze and cotton are stored separately in clean containers.",null,1]
["2.7.1.11.9","Separate bowls/ bucket for placenta and plastic ",null,1]
["2.7.1.11.10","Placenta pit is used to dispose placenta.",null,1]
["2.7.2.1.1","Separate space for nursing station is available ",null,1]
[" 2.7.2.1.2","Separate changing room available for male and female staffs",null,1]
["2.7.2.1.3","Separate store room is available ",null,1]
["2.7.2.1.4","Separate space dedicated for pre-labor, labor and post-labor patients",null,1]
["2.7.2.2","Furniture and supplies to carry out the inpatient services are available and functioning (See annex 2.7.2a Furniture and supplies for maternity inpatient wards At the end of this standard ) (including nursing station)",{"$f":"+'Annex 2.1a- 2.14a'!D839","v":0},3]
["2.7.2.3","Medicine and supplies to carry out the inpatient services are available General Ward (See Annex 2.7.2bmedicine and supplies for maternity inpatient wards At the end of this standard)",{"$f":"+'Annex 2.1a- 2.14a'!D865","v":0},3]
[" 2.7.2.4.1","Adequate numbers of nursing staff are available in ward per shift (nurse patient ratio 1:6 in general ward)    ",null,1]
["2.7.2.4.2","At least one trained office assistant per shift in each ward",null,1]
["2.7.2.5","Duty roster of doctors, nurses, paramedics and support staffs kept visibly in nursing station ",null,1]
["2.7.2.6","Telephone facility is available with list of important contact numbers and hospital codes visibly kept ",null,1]
["2.7.2.7.1","All staffs in wards are trained for BLS and oriented about emergency code 001 or blue code",null,1]
["2.7.2.7.2","At least one emergency trolley with emergency medicine available in ward (Annex 2.7.2c Medicine and Supplies for ER Trolley for Maternity In patient Ward At the end of this standard) ",{"$f":"+'Annex 2.1a- 2.14a'!E911","v":0},3]
["2.7.2.7.3","At least one defibrillator in immediate accessible area ",null,1]
["2.7.2.8.1","Separate area designated for admission of male and female inpatients in general ward",null,1]
["2.7.2.8.2","There are adequate toilets for male and female patients in each ward (1 for 6 female bed)",null,1]
["2.7.2.8.3","Safe drinking water is available 24 hours for inpatients",null,1]
["2.7.2.8.4","Hours/ Time allocated for visitors to meet the inpatients and controlled traffic to prevent cross infection",null,1]
["2.7.2.8.5","Separate space is available for patients’ visitors (Kuruwa Ghar).",null,1]
[" 2.7.2.9","Basic information regarding admitted patients is displayed in a separate board  ",null,1]
["2.7.2.10","Appropriate IEC materials (posters, leaflets etc.) are available in the inpatient ward with focus on infection prevention",null,1]
["2.7.2.11","Admission and discharge registers are available and are being filled completely (HMIS 8.1 and 8.2)",null,1]
["2.7.2.12.1","Personal Protective equipment are available and used whenever required ",null,1]
["2.7.2.12.2","Each ward has hand sanitizer in visible place for health workers to use before and after touching patients",null,1]
["2.7.2.12.3","There are well labelled color-coded bins for waste segregation and disposal as per HCWM guideline 2014 (MoHP)",null,1]
["2.7.2.12.4","Hand washing facility with running water and liquid soap is available and being practiced ",null,1]
["2.7.2.12.5","Needle cutter  is used",null,1]
["2.7.2.12.6","Chlorine solution is available and utilized for decontamination ",null,1]
["2.8.1.1.1","Routine minor and intermediate surgeries available on scheduled days",null,1]
["2.8.1.1.2","Routine major surgeries available on scheduled days",null,1]
["2.8.1.2","Emergency surgeries available round the clock",null,1]
["2.8.1.3","At least four functional operating rooms",null,1]
["2.8.2.1","For one surgery, at least a team is composed of: MS/MDGP with one trained medical officer, two OT trained nurse (one scrub and one circulating), one Anesthesiologist/MDGP, one anesthesia assistant and one office assistant ( for cleaning and helping)",null,1]
["2.8.2.2","For overall management of operation theatre, there is one OT nurse (with minimum bachelors degree) assigned as OT in-charge",null,1]
["2.8.2.3","At least two nurses in pre-anesthesia area for receiving and transferring of the patient and ",null,1]
["2.8.2.4","At least two ICU trained nurses for post anesthesia care for receiving patient after OT ",null,1]
["2.8.3.1","General Surgeries (See Annex 2.8a List of Minimum Surgeries Available At the end of this standard)",{"$f":"+'Annex 2.1a- 2.14a'!D960","v":0},3]
["2.8.3.2","Casaerian Section",null,1]
["2.8.3.3","Orthopedic Surgeries (See Annex 2.8c List of Minimum Orthopedics Surgeries Available At the end of this standard)",{"$f":"+'Annex 2.1a- 2.14a'!D986","v":0},3]
["2.8.4.1","Indications and reviews the clinical history and physical examination is documented ",null,1]
["2.8.4.2","Pre-anesthesia checkup done for routine surgeries and documented",null,1]
["2.8.4.3","Informed consent is taken before surgery; patients and caretakers are given appropriate counseling about the surgery",null,1]
["2.8.5","The WHO Safe Surgery Checklist is available in OT and used",null,1]
["2.8.6","Preoperative instructions for patient preparation are given and practiced with routine pre-anesthesia check up",null,1]
["2.8.7.1","OT has appropriate physical set up (See Annex 2.8e Physical Set Up for OT At the end of this standard)",{"$f":"+'Annex 2.1a- 2.14a'!D1008","v":0},3]
["2.8.7.2","Each operating room has general equipment, instruments and supplies available (See Annex 2.8f Furniture, Equipment, Instruments and Supplies for OT At the end of this standard)",{"$f":"+'Annex 2.1a- 2.14a'!E1070","v":0},3]
["2.8.7.3","Each operating room has medicines and supplies available (See Annex 2.8g General Medicine and Supplies for OT At the end of this standard)",{"$f":"+'Annex 2.1a- 2.14a'!E1102","v":0},3]
["2.8.7.4","Surgical sets for minimum list of the surgical services available (See Annex 2.8h Surgical sets for Minimum list of the surgical procedures At the end of this standard) ",{"$f":"+'Annex 2.1a- 2.14a'!E1131","v":0},3]
["2.8.8.1.1","Local anesthesia ",null,1]
["2.8.8.1.2","Regional anesthesia ",null,1]
["2.8.8.1.3","Spinal anesthesia  ",null,1]
["2.8.8.1.4","General anesthesia",null,1]
["2.8.8.2","Equipment, instrument and supplies for anesthesia available (See Annex 2.8i Equipment, Instrument and Supplies for Anesthesia At the end of this standard)",{"$f":"+'Annex 2.1a- 2.14a'!E1168","v":0},3]
["2.8.8.3","Medicine and supplies for anesthesia available (See Annex 2.8j Medicine and Supplies for Anesthesia At the end of this standard)",{"$f":"+'Annex 2.1a- 2.14a'!E1241","v":0},3]
["2.8.8.4.1","Anesthesia should be provided, led, or overseen by an anesthesiologist",null,1]
["2.8.9.1","Dedicated space for pre-anesthesia assessment  and post-anesthesia recovery with patient bed, IV stand, IV cannula, fixing tapes, infusion sets, burette sets, syringes, three-way stop cocks and at least one cardiac monitor ",null,1]
["2.8.9.2","Separate area designated for post-operative care to stabilize the patient after surgery",null,1]
["2.8.9.3","Staffs are specified for the post-operative care including close monitoring of the vital signs and observation of patient",null,1]
["2.8.9.4","Patients’ pain management is prioritized, measures well documented and analgesic effect followed up",null,1]
["2.8.9.5","Patient undergoing surgical procedure is done pre- anesthetic check-up, continuously monitored during and at least 2 hours post- anesthesia",null,1]
["2.8.9.6","Adequate information shared for patient care and patient followed by at least one nurse/doctor for hand over or transfer of patient within or outside the hospital",null,1]
["2.8.10.1","Recording is done for all surgeries procedure including observation, management and complications if any",null,1]
["2.8.10.2","Records of all anesthetic procedures are kept and reported",null,1]
["2.8.11.1","Hand‑washing and scrubbing facility with running water and soap is available and being practiced with elbow tap",null,1]
["2.8.11.2","Gowns and sterile drapes for patients and sterile gown for surgery team are available and used whenever required.",null,1]
["2.8.11.3","Fumigation is done at least once a week in the OT on Saturdays and as per need",null,1]
["2.8.11.4","High Level Disinfection (e.g. Cidex) facility is available and being practiced.",null,1]
["2.8.11.5","High wash is done at least once a month in OT",null,1]
["2.8.11.6","Separate colored waste bins based on HCWM guideline 2014 (MoHP) are available and used",null,1]
["2.8.11.7","Needle cutter is used.",null,1]
["2.8.11.8","Chlorine solution is available and utilized for decontamination. ",null,1]
["2.9.1.1.1.1","Laboratory is open from 10 AM to 3 PM  for routine services and separate emergency lab service available round the clock",null,1]
["2.9.1.1.1.2","Basic investigations are available (See Annex 2.9.1a List of investigations for Laboratory At the end of this standard)",{"$f":"+'Annex 2.1a- 2.14a'!D1326","v":0},3]
["2.9.1.1.1.3","Histopathology service in coordination with other health facilites",null,1]
["2.9.1.1.2","At least 2 medical technologist, 3 lab staffs (1 lab Technician, 1 Lab Assistant and 1 Helper) in each shift",null,1]
["2.9.1.1.3.1","Instruments and equipment to carry out all parameters of tests are available and functioning (See Annex 2.9.1.1b Equipment and Instrument for Lab At the end of this standard)",{"$f":"+'Annex 2.1a- 2.14a'!E1360","v":0},3]
["2.9.1.1.4.1","Separate space with working desk and chair designated for specific laboratory procedures like- hematology, biochemistry, microbiology, serology",null,1]
["2.9.1.1.4.2","Light and ventilation are adequately maintained.",null,1]
["2.9.1.1.4.3","Designated area well labelled for reception of sample and dispatch of reports ",null,1]
["2.9.1.1.5","Duty rosters of lab are developed regularly and available in appropriate location. ",null,1]
["2.9.1.1.6.1","Waiting space with sitting arrangement is available for at least 15 persons in waiting lobby.",null,1]
["2.9.1.1.6.2","At least one each male, female and universal toilet for patients using laboratory services ",null,1]
["2.9.1.1.6.3","Safe drinking water is available in the waiting lobby throughout the day.",null,1]
["2.9.1.1.7.1","Sample is adequately recorded with requisition form with detail information of patients",null,1]
["2.9.1.1.7.2","Standard reporting sheets are being used and all reports are recorded in a standard register (HMIS 9.4).",null,1]
["2.9.1.1.7.3","Report have adequate information of patient and checked by designated person before release",null,1]
["2.9.1.1.8.1","At least three months buffer stock of laboratory supplies is available.",null,1]
["2.9.1.1.8.2","Reagents are stored at appropriate temperature in store and lab",null,1]
["2.9.1.1.9.1","Blood storage is done based on Nepal Blood Bank and Transfusion Service Guideline",null,1]
["2.9.1.1.9.2","Blood storage has required instrument and equipment ( See Annex 2.9.1c At the end of this standard)",{"$f":"+'Annex 2.1a- 2.14a'!E1377","v":0},3]
["2.9.1.1.10.1","Biohazard signs and symbols are used at appropriate places visibly",null,1]
["2.9.1.1.10.2","All staffs know how to respond in case of spillage and other incidents",null,1]
["2.9.1.1.10.3","Masks and gloves are available",null,1]
["2.9.1.1.10.4","There are colored bins for waste segregation based on HCWM guideline 2014 (MoHP) and infectious waste is sterilized using autoclave before disposal",null,1]
["2.9.1.1.10.5","Hand‑washing facility with running water and soap is available for practitioners ",null,1]
["2.9.1.1.10.6","Needle cutter is used",null,1]
["2.9.1.1.10.7","Chlorine solution and bleach is available and utilized for decontamination",null,1]
[" 2.9.1.2.1","Blood bank is open / facility is available round the clock",null,1]
["2.9.1.2.2","Adequate numbers of trained healthcare workers are available in blood bank (at least 2 blood bank staffs to cover shifts including ER)",null,1]
["2.9.1.2.3.1","Adequate rooms and space for the staffs and patients are available (area of more than 10 meter squares)",null,1]
["2.9.1.2.3.2","Light and ventilation are adequately maintained.",null,1]
["2.9.1.2.3.3","The required furniture and supplies are available (See Annex 2.9.1.2a Blood Bank Furniture and Supplies At the end of the standard)",{"$f":"+'Annex 2.1a- 2.14a'!E1401","v":0},3]
["2.9.1.2.3.4","Thermometers are attached to all equipment requiring temperature control and temperatures are recorded daily ",null,1]
["2.9.1.2.4","Instruments and equipment are calibrated, available and functioning with record of smear kept (See Annex 2.9.1.2b Equipment and Instrument for Blood Bank At the end of the standard)",{"$f":"+'Annex 2.1a- 2.14a'!E1428","v":0},3]
["2.9.1.2.5","Duty rosters of lab are developed regularly and available in appropriate location. ",null,1]
["2.9.1.2.6.1","Comfortable waiting space with sitting arrangement is available for at least 15 persons in waiting lobby.",null,1]
["2.9.1.2.6.2","Safe drinking water is available in the waiting lobby throughout the day.",null,1]
["2.9.1.2.7.1","Sample is adequately recorded with requisition form with detail information of patients",null,1]
["2.9.1.2.7.2","Standard reporting sheets are being used and all reports are recorded in a standard register or NBBTS software and computerized bill available to patients",null,1]
["2.9.1.2.7.3","Report have essential information of patient and checked by designated person before release",null,1]
["2.9.1.2.7.4","BTSC submits regular reports to NPHL/NBBTS of provided proficiency panels related to TTIs",null,1]
["2.9.1.2.8.1","At least three months buffer stock of laboratory supplies is available.",null,1]
["2.9.1.2.8.2","Blood bags, transfusion sets, blood and blood components, reagents are stored at appropriate temperature in store and lab",null,1]
["2.9.1.2.9.1","Biohazard signs and symbols are used at appropriate places",null,1]
["2.9.1.2.9.2","All staffs know how to respond in case of spillage and other incidents",null,1]
["2.9.1.2.9.3","Masks and gloves are available",null,1]
["2.9.1.2.9.4","Bio-waste disposal is done based on HCWM guideline 2014 (MoHP)",null,1]
["2.9.1.2.9.5","Hand‑washing facility with running water and soap is available for practitioners ",null,1]
["2.9.1.2.9.6","Needle cutter is used ",null,1]
["2.9.1.2.9.7","Chlorine solution and bleach is available and utilized for decontamination",null,1]
["2.9.2.1.1","X-ray service is open from 10 AM to 3 PM ",null,1]
["2.9.2.1.2","Emergency x-ray service is available round the clock",null,1]
["2.9.2.2","Adequate numbers of trained healthcare workers are available in x-ray (at least 2 staffs to cover shifts including ER) with on call radiologist",null,1]
["2.9.2.3","Counseling is provided to patients about radiation hazard, site and position for x-ray",null,1]
["2.9.2.4","Radiation sign, appropriate Radiation awareness posters, leaflets are available in the department and OPD waiting area.",null,1]
["2.9.2.5.1","General X ray unit (with minimum 125KV and 300ma X-ray machine) with floatation table top and vertical bucky",null,1]
["2.9.2.5.2","Complete CR system with CR cassette at least 5 of 14 x 17 inch   and 3 of 10x12inch.",null,1]
["2.9.2.6.1","X ray room of at least 4x4sqm with wall of at least 23cm of brick or 6cm RCC or 2mm lead equivalent.",null,1]
["2.9.2.6.2","Light and ventilation are adequately maintained.",null,1]
["2.9.2.6.3","The required furniture  and supplies including radiation protective measures for patients, visitors and staffs are available including magnetic gown",null,1]
["2.9.2.7","Duty rosters of X-ray are developed regularly and available in appropriate location. ",null,1]
["2.9.2.8","Waiting space with sitting arrangement is available for at least 5 persons in waiting lobby.",null,1]
["2.9.2.9.1","X-ray is adequately recorded as per requisition form with detail information of patients, date of x-ray and site and view",null,1]
["2.9.2.9.2","Report have adequate information of patient and checked by designated person before release",null,1]
["2.9.2.10","Biohazard signs and symbols are used at appropriate places",null,1]
["2.9.2.11.1","Radiological waste is disposed based on HCWM guideline 2014 (MoHP)",null,1]
["2.9.2.11.2","Hand‑washing facility with running water and soap is available for practitioners ",null,1]
["2.9.2.11.3","Needle cutter is used",null,1]
["2.9.2.11.4","Chlorine solution and bleach is available and utilized for decontamination",null,1]
["2.9.3.1","USG is open from 10 AM to 3 PM for obstetrics, abdominal, pelvic and superficial structure like testis, thyroid",null,1]
["2.9.3.2","USG trained medical practitioner and mid-level health worker  in each USG room ",null,1]
["2.9.3.3","Counseling is provided to patients about site and indication of USG",null,1]
["2.9.3.4","Appropriate techniques have been used to ensure the patient privacy (separate rooms, curtains hung, maintaining queuing of patients)",null,1]
["2.9.3.5","USG machine (advanced) with different probes, computer and printer with USG papers , gel and wipes is available and functional",null,1]
["2.9.3.6.1"," Adequate space for practitioner and patient for USG with working table and examination bed one per each USG machine",null,1]
["2.9.3.6.2","Proper light and ventilation maintained.",null,1]
["2.9.3.7","Waiting space with sitting arrangement is available for at least 15 persons in waiting lobby.",null,1]
["2.9.3.8.1","USG is adequately recorded as per requisition form with detail information of patients, date of USG",null,1]
["2.9.3.8.2","Report have adequate information of patient, information of area of examination and radiological opinion, further referral and checked by designated person before release",null,1]
["2.9.3.9.1","Hand‑washing facility with running water and soap is available for practitioners",null,1]
["2.9.3.9.2","Chlorine solution and bleach is available and utilized for decontamination",null,1]
["2.9.4.1","ECG service is available for patients in OPD, Emergency and Indoor  ",null,1]
["2.9.4.2","Separate space is dedicated for ECG Service",null,1]
["2.9.4.3","Counseling is provided to patients about procedure and indication of ECG",null,1]
["2.9.4.4","Appropriate techniques have been used to ensure the patient privacy (separate rooms, curtains hung, maintaining queuing of patients)",null,1]
["2.9.4.5","Functional ECG machine (12 lead with power back up), paper, gel, wipes and hand sanitizer are available in ECG trolley ",null,1]
["2.9.4.6.1","ECG is adequately recorded as per requisition form with detail information of patients, date of ECG",null,1]
["2.9.4.6.2","Reporting folder of ECG should have adequate information of patient, including analysis of 12 lead ECG with final impression of ECG diagnosis done by designated person before release",null,1]
["2.9.4.7.1","Hand‑washing facility with running water and liquid soap is available for practitioners",null,1]
["2.9.4.7.2","Chlorine solution and bleach is available and utilized for decontamination",null,1]
["2.10.1.1","Dental service is available from 10 AM to 3 PM ",null,1]
["2.10.1.2","Tickets for routine dental service are available till 2 pm",null,1]
["2.10.1.3","EHS services from 3PM onwards and tickets available from 2PM onwards",null,1]
["2.10..2","Dental Hygienist/Dentist : OPD Patients- 1:20 per day for quality of care",null,1]
["2.10.3","Patient privacy maintained with separate rooms, curtains hung, maintaining queuing of patients ",null,1]
["2.10.4.1","Counseling is provided to patients about the type of treatment being given and its consequences ",null,1]
[" 2.10.4.2","Appropriate IEC materials (posters, leaflets etc.) as an IEC corner available in the OPD waiting area.",null,1]
["2.10.5.1","At least 1 rooms with adequate space for the practitioners and patients is dedicated for Dental Service",null,1]
["2.10.5.2","Light and ventilation are adequately maintained ",null,1]
["2.10.5.3","Required furniture, supplies and space are available (See Annex 2.10a Furniture and Supplies for Dental Services At the end of this standard)",{"$f":"+'Annex 2.1a- 2.14a'!E1451","v":0},3]
["2.10.6.1","Equipment, instrument and supplies to carry out Dental Services (See Annex 2.10b Basic Equipment and Instrument for Dental Services at the end of this standard) are available and functioning",{"$f":"+'Annex 2.1a- 2.14a'!E1547","v":0},3]
["2.10.7","Duty rosters developed regularly and available in appropriate location.",null,1]
["2.10.8","OPD register available in every OPD and ICD 10 classification for diagnosis recorded (electronic health recording system) ",null,1]
["2.10.9.1","Masks and gloves are available and used ",null,1]
["2.10.9.2","There are well labelled colored bins for waste segregation and disposal as per HCWM guideline 2014 (MoHP)",null,1]
["2.10.9.3","Hand‑washing facility with running water and soap is available for practitioners ",null,1]
["2.10.9.4","Needle cutter is used",null,1]
["2.10.9.5","Chlorine solution is available and utilized for decontamination ",null,1]
["2.11.1.1.1","Designated area for mortuary room, changing room and store room and bathroom",null,1]
["2.11.1.1.2","Body dissection table (at least one) is available and used",null,1]
["2.11.1.1.3","Organ dissection table (at least one) is available and used",null,1]
["2.11.1.1.4","Adequate ventilation and light and odor management",null,1]
["2.11.2","Examination of the dead body in any unnatural death and suspicious death (Post-mortem examination or autopsy) available from 9 am to 5pm",null,1]
["2.11.3","At least one MD forensic and one trained medical officer for autopsy and clinical medico-legal services",null,1]
["2.11.4","Adequate supplies and instruments for forensic services (See Annex 2.11a Supplies and instrument for post mortem At the end of this standard)",null,3]
["2.11.5","Mortuary van is available 24 hours (at least one)",null,1]
["2.11.6","Standardized medico-legal examination formats available",null,1]
["2.11.7.1 ","Staff wear mask and gloves at work.",null,1]
["2.11.7.2","There are colored bins for waste segregation and disposal based on HCWM guideline 2014 (MoHP)",null,1]
[" 2.11.7.3","Hand‑washing facility with running water and soap is available and being practiced.",null,1]
[" 2.7.11.4","Chlorine solution is available and utilized. ",null,1]
[" 2.11.7.5","Proper disposal of anatomical waste in placenta pit after autoclaving",null,1]
["2.12.1","Designated area for medico-legal examination with examination bed and working desk with chair",null,1]
["2.12.2","Medico-legal services are available 24 hours ",null,1]
["2.12.3","Trained medical officer for medico-legal services at least one",null,1]
["2.12.4.1","Adequate supplies and instruments for medico-legal services (See Annex 2.12a Supplies and instrument for medico legal services At the end of this standard)",{"$f":"+'Annex 2.1a- 2.14a'!E1611","v":0},3]
["2.12.4.2","Preservation of sample ensured before dispatching for test",null,1]
["2.12.5","Post-traumatic counseling is done to the victims of medico-legal issues like sexual offence",null,1]
["2.12.6","Standardized medico-legal examination formats available",null,1]
["2.12.7.1","Staff wear mask and gloves at work.",null,1]
["2.12.7.2","There are well labelled colored bins for waste disposal based on HCWM guideline 2014 (MoHP)",null,1]
["2.12.7.3","Hand‑washing facility with running water and soap is available and being practiced.",null,1]
["2.12.7.4","Chlorine solution is available and utilized. ",null,1]
["2.13.1","Quarterly meeting minute of coordination committee",null,1]
[" 2.13.2","Monthly meeting minute of case management committee",null,1]
["2.13.3.1","Prioritized services for GBV victims/survivors exits",null,1]
["2.13.3.2","Treatment for GBV survivors/affected by GBV is available 24 hours ",null,1]
["2.13.4","Separate space allocated for OCMC services with adequate physical facilities (See Annex 2.13a Physical facilities for OCMC At the end of this standard)",{"$f":"+'Annex 2.1a- 2.14a'!E1638","v":0},3]
["2.13.5.1","At least one Medical officer working in the hospital trained in medico-legal issues is available",null,1]
[" 2.13.5.2","At least two Staff nurse working in the hospital and  1 trained psycho social counselor",null,1]
[" 2.13.6.1","Health check-up, medico-legal examination including documentation (See Annex2.13b  Instruments and supplies for treatment in OCMC At the end of this standard)",{"$f":"+'Annex 2.1a- 2.14a'!E1671","v":0},3]
[" 2.13.6.2","Preservation of samples as legal evidence done for future use (See Annex 2.13.3c Instruments and supplies for evidence collection in OCMC At the end of this standard)",{"$f":"+'Annex 2.1a- 2.14a'!E1707","v":0},3]
[" 2.13.6.3","Pregnancy test and emergency contraceptive services, tests for HIV/HBV available",null,1]
["2.13.7.1","Whole site orientation on GBV clinical protocol conducted ",null,1]
["2.13.7.2","Availability and use of the treatment as per the protocol and OCMC guideline",null,1]
["2.13.8.1","Mental health and psychosocial counselling services available",null,1]
[" 2.13.8.2","If the female survivor requires to stay more days or requires advance psychosocial counseling including livelihood training, she/he shall be referred to nearby appropriate safe home/ rehabilitation centers",null,1]
[" 2.13.9.1","Provide required referral and other services (as per the health service guideline and protocol). (Beyond health: security, legal, shelter, rehabilitation)",null,1]
["2.13.9.2","Health related referral services e.g. Safe abortion services ",null,1]
[" 2.13.10.1","Detailed information concerning the services being provided by OCMC to the survivors of GBV (Citizen charter, leaflets, community radio etc) ",null,1]
[" 2.13.10.2","Information is being given in an integrated manner ( Safe home related, OCMC, Police women children service unit)",null,1]
["2.13.11.1","Details of the events registered in the OCMC, services (health and non-health) being provided to the survivors, listing of the referred organizations shall be documented to be classified and analyzed in due course.   ",null,1]
[" 2.13.11.2","Confidentiality shall be maintained at all stages of documentation.",null,1]
[" 2.13.11.3","Report to concerned authority (DCC and MoHP)  in monthly report service format",null,1]
["2.13.11.4","Documentation of the current status of GBV survivors of at least last 1 year is done ",null,1]
[" 2.13.12.1","Masks and gloves are available and used",null,1]
[" 2.13.12.2","There are colored bins for waste segregation and disposal based on HCWM guideline 2014 (MoHP)",null,1]
["2.13.12.3","Hand‑washing facility with running water and soap is available for practitioners.",null,1]
["2.13.12.4","Needle cutter  is used.",null,1]
["2.13.12.5","Chlorine solution is available and utilized. ",null,1]
["2.14.1","Separate room for OPD physiotherapy with at least 10 physiotherapy beds with 5 exercise beds and 5 electric beds",null,1]
["2.14.2.1 ","Physiotherapy OPD is open from 10 AM to 5 PM.",null,1]
[" 2.14.2.2","Inpatient physiotherapy service is available based on the requisition",null,1]
[" 2.14.3","At least 1 physiotherapist trained in Masters in Physiotherapy (MPT), 2 trained in Bachelors in Physiotherapy (BPT),and 2 Certificate in physiotherapy (CPT) or Diploma in physiotherapy  (DPT) and 1 trained office assistant treating 20 patients per day on OPD basis",null,1]
["2.14.4","Appropriate techniques have been used to ensure the patient privacy (separate rooms, curtains hung, maintaining queuing of patients).",null,1]
[" 2.14.5","Counseling is provided to patients about the type of treatment being given and its consequences.",null,1]
["2.14.6","Appropriate IEC/BCC materials (posters, leaflets etc.) are available in the OPD waiting area.",null,1]
["2.14.7","Instruments and equipment to carry out the Physiotherapy works are available and functioning (See Annex 2.14a Instruments and equipment physiotherapy At the end of this standard).",{"$f":"+'Annex 2.1a- 2.14a'!E1741","v":0},3]
["2.14.8.1","Adequate rooms and space for the practitioners and patients are available.",null,1]
["2.14.8.2","Light and ventilation are adequately maintained.",null,1]
["2.14.9","Duty rosters of OPD are developed regularly and available in appropriate location.",null,1]
["2.14.10.1","Safe drinking water is available in the waiting lobby throughout the day.",null,1]
["2.14.10.2","Hand‑washing facilities are available for patients.",null,1]
["2.14.11.1","Recording and reporting throughout treatment and follow up is done",null,1]
["2.14.12.1","Masks and gloves are available and used",null,1]
["2.14.12.2","There are colored bins for waste disposal based on HCWM guideline 2014 (MoHP)",null,1]
["2.14.12.3","Hand‑washing facility with running water and soap is available for practitioners.",null,1]
["2.14.12.4","Needle cutter is used",null,1]
["2.14.12.5","Chlorine solution is available and utilized. ",null,1]
["3.1.1.1","Separate central supply sterile department (CSSD) is available with running water facility",null,1]
["3.1.1.2","There are separate rooms designated for dirty utility, cleaning, washing and drying and sterile area for sterilizing, packaging and storage",null,1]
["3.1.2","Separate staffs assigned for CSSD and is led by CSSD trained personal",null,1]
["3.1.3","Equipment and supplies for sterilization available and functional round the clock (See Annex 3.1a CSSD Equipment and Supplies At the end of this standard)",{"$f":"+'Annex 3.1a-3.11a'!D30","v":0},3]
["3.1.4","Wrapper, gauze, cotton balls, bandages are prepared.",null,1]
["3.1.5.1","All used instruments are cleaned using brush chemical/detergents in a separate room.",null,1]
["3.1.5.2","All instruments and equipment are dried in a separate place",null,1]
["3.1.5.3","All instruments are packed in double wrappers  ",null,1]
["3.1.6","All wrapped instruments are indicated with thermal indicator and autoclaved in a separate room.",null,1]
["3.1.7","All sterile packs with sticker of sterilization date are stored in separate cupboards ",null,1]
["3.1.8.1","System for single door collection and different route for distribution of the sterile supply exist and is practiced",null,1]
["3.1.8.2","Sterile supplies are distributed using basket supply system or on-demand supply system",null,1]
["3.1.9","All instruments and wrappers are recorded and inventory maintained",null,1]
["3.1.10.1","Staffs use personal protective equipment at work",null,1]
["3.1.10.2","There are well labelled colored bins for waste disposal based on HCWM[1] guideline 2014 (MoHP)",null,1]
["3.1.10.3","Hand‑washing facility with running water and liquid soap is available and being practiced.",null,1]
["3.1.10.4","Chlorine solution is available and utilized for decontamination",null,1]
["3.2.1.1","Separate laundry room is available.",null,1]
["3.2.1.2","Separate space allocated for clean and dirty linens",null,1]
["3.2.2","There is a special schedule for collection and distribution of linens with visible duty roster for staffs",null,1]
["3.2.3","Adequate equipment and supplies are available for laundry (See Annex 3.2a Equipment and Supplies for Laundry At the end of this standard).",{"$f":"+'Annex 3.1a-3.11a'!D59","v":0},3]
["3.2.4.1","Linens are segregated (soiled, unsoiled, colorful, white, blood stained) before wash ",null,1]
["3.2.4.2","Separated linens are decontaminated before wash",null,1]
["3.2.5","All linens are washed using a washing machine.",null,1]
["3.2.6.1","Space available for drying linens like blankets in direct sunlight.",null,1]
["3.2.6.2","Linen dryer is available and used",null,1]
["3.2.7","All linens are ironed and packed properly.",null,1]
["3.2.8","Linens are properly stored in separate cupboard.",null,1]
["3.2.9","All linens are distributed using a proper method (basket supply system and on-demand supply system).",null,1]
["3.2.10","All linens are recorded and inventory maintained. ",null,1]
["3.2.11.1","Staff wear mask and gloves at work.",null,1]
["3.2.11.2","There are well labelled colored bins for waste disposal based on HCWM[1] guideline 2014 (MoHP)",null,1]
["3.2.11.3","Hand‑washing facility with running water and soap is available and being practiced.",null,1]
["3.2.11.4","Chlorine solution is available and utilized for decontamination ",null,1]
["3.3.1","Separate space is allocated for storage of the housekeeping basic supplies",null,1]
["3.3.2.1","Allocation of the staff for cleaning with visible duty roster ",null,1]
["3.3.2.2","There is checklist of cleaning in each department with contact number of assigned working personnel",null,1]
["3.3.3","Basic supplies are available (See Annex 3.3a Housekeeping Basic Supplies  At the end of this standard)",{"$f":"+'Annex 3.1a-3.11a'!D98","v":0},3]
["3.3.4.1.1","The hospital premises are visibly clean and dust free",null,1]
["3.3.4.1.2.1","All hospital toilets are clean with no offensive smell",null,1]
["3.3.4.1.2.2","All toilets are cleaned at least three times a day",null,1]
["3.3.4.3","All doors and windows of hospital are dust-free and cleaned once a day.",null,1]
["3.3.4.4","All floors of the hospital are clean and cleaned at least twice a day (like- before registration in morning and after OPD closes)",null,1]
["3.3.4.5","All walls of the hospital are clean and are tiled or painted with enamel up to 4 feet",null,1]
["3.3.4.6","Every ward/unit must have high wash twice a month and fumigation as per need",null,1]
["3.3.5","Separate drainage system or pit is maintained for drainage of chlorine solution ",null,1]
["3.3.6","Garden and trees should cover at least 25% of the hospital premises ",null,1]
["3.4.1.1","Human resource trained in biomedical engineer is designated for repair and maintenance",null,1]
["3.4.1.2","Staffs assigned to cover 24 hours shift with visible duty roster for staffs.",null,1]
["3.4.2.1","Hospital has regular preventive maintenance practices (calibration, servicing of equipment) and corrective maintenance)",null,1]
["3.4.2.2","Biomedical equipment inventory of all equipment and instrument is updated ",null,1]
["3.4.2.3","Separate room for storage of repairing tools and instrument",null,1]
["3.4.2.4","Availability of spare parts for repair and maintenance of biomedical equipment and instruments ",null,1]
["3.4.2.5","Record keeping of repair and maintenance of biomedical equipment and instruments",null,1]
["3.4.2.6","Specification of annual maintenance cost of major equipment",null,1]
["3.4.3.1","Hospital has main-grid power supply with three‑phase line",null,1]
["3.4.3.2","Hospital has alternate power generator capable of running x-ray and other hospital equipment",null,1]
["3.4.3.3","Proper inventory of fuel is maintained.",null,1]
["3.4.3.4","Hospital has solar system installed (at least for essential clinical services and administrative function).",null,1]
["3.5.1","There is regular water supply system – boring or well or from drinking water supply dedicated for hospital",null,1]
[" 3.5.2.1","Water storage tank is covered to prevent contamination and cleaned on a regular basis",null,1]
[" 3.5.2.2","Water storage tank has the reserve capacity to supply water for two full days in case of interruptions in main water supply ",null,1]
[" 3.5.3","Water quality test is done every year and report is available as per Nepal Drinking Water Quality Standards, 2005  ",null,1]
["3.6.1.1","There is allocation of staff for HCWM from segregation to final disposal ",null,1]
["3.6.1.2","Whole site coaching/ orientation on health care waste management is done",null,1]
["3.6.2","There is separate area/space designated for solid waste storage and management with functional hand washing facility",null,1]
["3.6.3","Different colored bins (for risk and non-risk waste) are used during collection of waste",null,1]
["3.6.4","Staff use cap, mask, gloves, boot, and gown while collecting waste.",null,1]
["3.6.5","Information regarding proper use of waste bins is displayed publicly and basic information of HCWM is displayed in hospital premises",null,1]
["3.6.6","Medication trolley has well labeled buckets for segregation of waste during procedures  ",null,1]
[" 3.6.7","Hospital uses transportation trolleys separate for risk and non-risk waste ",null,1]
[" 3.6.8.1","Infectious waste is sterilized using autoclave before disposal",null,1]
[" 3.6.8.2","Collection of recyclable/reusable items such as plastic bottles, paper, decontaminated sharps is practiced and sold to vendor/municipality",null,1]
[" 3.6.8.3","Composting of bio-degradable waste is practiced",null,1]
[" 3.6.8.4","Collection of waste by the local municipality/ rural municipality after sterilization /decontamination",null,1]
[" 3.6.8.5","Placenta pit used for disposal of human anatomical waste such as placenta, human tissue",null,1]
["3.6.8.6","Biogas plant in place and energy generated used for hospital support services",null,1]
["3.6.9","Pharmaceutical waste and radiological waste treated  and disposed based on the HCWM guideline 2014 (MoHP)",null,1]
["3.6.10","Hospital liquid waste management is done ",null,1]
["3.7.1.1","Hospital has trained security personnel round the clock.",null,1]
["3.7.1.2","All security staffs are oriented with hospital codes like 001- call for help for crashing patients, 007- call for disaster in ER",null,1]
["3.7.1.3","All security staffs have participated in emergency drills",null,1]
["3.7.2","A separate office for security with communication system is available",null,1]
["3.7.3","Basic amenities for safety and security are available (See Annex 3.7a Safety and Security Basic Amenities Section At the end of this standard)",{"$f":"+'Annex 3.1a-3.11a'!D117","v":0},3]
["3.7.4","The hospital has replaced all mercury apparatus with other appropriate technologies.",null,1]
["3.7.5","CCTV coverage of major areas and control under Medical Superintendent and security in-charge",null,1]
["3.7.6.1","The hospital has fire extinguisher in all blocks including the fire extinguishing system ",null,1]
["3.7.6.2","The hospital has installed safety alarm system including smoke detector",null,1]
["3.7.6.3","The hospital has prevented lightening by ensuring earthing system in electrification.",null,1]
["3.7.6.4","Disaster preparedness orientation has been given to all staff at least every six months.",null,1]
["3.7.6.5","Exit signs are displayed to escape during disaster in all departments and wards",null,1]
["3.7.6.6","An assembly zone has been specified for disaster",null,1]
["3.7.6.7","Hospital has functional rapid response team ",null,1]
["3.7.6.8","Medicine stock for post disaster response is available",null,1]
["3.8.1.1","24-hour ambulance service is available.",null,1]
["3.8.1.2","Hospital has its own well-equipped ambulance at least 2",null,1]
["3.8.1.3","The hospital has access to utility van",null,1]
["3.8.2.1","The hospital has telephone with intercom (EPABX) network.",null,1]
["3.8.2.2","Internal communication (paging) system has been installed in all major service stations.",null,1]
["3.8.2.3","A notice board is available and being utilized.",null,1]
["3.8.2.4","List of important phone numbers including emergency contacts like ambulance, fire brigade, blood banks, hospital administration, hospital staffs is available in the reception, emergency and administration office",null,1]
["3.8.2.5","There should be a public contact or information center in prime location of hospital with 24 hours staff availability",null,1]
["3.9.1","Separate space allocated for store for hospital- medicine and logistics",null,1]
["3.9.2.1","A separate hospital medical store with 3 months' buffer stock is available",null,1]
[" 3.9.2.2","Minimum and Maximum stock levels for each item are calculated and used when re-ordering stock",null,1]
[" 3.9.3.1","Electronic database system is used in the hospital medical store.",null,1]
[" 3.9.3.2","Hospital submits quarterly reports to LMIS utilizing either paper report or web-based (eLMIS-7)",null,1]
["3.9.4","Disposal of expired medicine as per HCWM guideline 2014 (MoHP) is practiced in every six month",null,1]
["3.9.5","Auction of identified old logistics is done annually",null,1]
["3.10.1","Hospital has canteen in its premises with 24 hours service",null,1]
["3.10.2","A list of food items with price list approved by Hospital Management Committee is available",null,1]
["3.10.3.1","Visibly clean floors and space allocated for cooking, cleaning and storage of stock",null,1]
["3.10.3.2","Light and ventilation are adequately maintained.",null,1]
["3.10.3.3","All walls of the canteen are clean and are tiled or painted with enamel up to 4 feet",null,1]
["3.10.3.4","Safe drinking water is available 24 hours",null,1]
["3.10.4","Dress code is maintained",null,1]
["3.10.5","The inpatients who are identified needy or covered by SSU are provided with food at least four times a day and the food contains carbohydrate, fats, proteins and at least one vegetable item",null,1]
["3.10.6","Appropriate IEC/ BCC materials (posters, leaflets, television) are available in the canteen for balanced diet",null,1]
["3.10.7","Comfortable space with sitting arrangement is available for at least 50 people",null,1]
["3.10.8.1","Separate area designated for washing dishes and visibly clean.",null,1]
["3.10.8.2","There are colored bins for waste segregation and  disposal based on HCWM guideline 2014 (MoHP)",null,1]
["3.10.8.3","Hand‑washing facility with running water and soap is available  ",null,1]
["3.10.8.4","Mesh/ net to cover food and refrigerator used to store food used to cover food ",null,1]
["3.10.8.5","Rat proofing and daily scrubbing of the canteen is done",null,1]
["3.10.8.6","Use of refrigerator for storage of food",null,1]
[" 3.11.1.1","SSU open from 8am to 7pm",null,1]
[" 3.11.1.2","Management committee to manage 24 hours SSU services for patients",null,1]
[" 3.11.2","Separate space allocated for SSU is accessible to patients (See Annex 3.11a Physical Facilities SSU At the end of this standard)",{"$f":"+'Annex 3.1a-3.11a'!D137","v":0},3]
[" 3.11.3","Allocation of staffs for SSU under unit chief  a team of 2 to 10 facilitators",null,1]
[" 3.11.4","Refer to ‘deprived citizen treatment fund guideline 2071’ to identify target group, and display target group and services covered",null,1]
[" 3.11.5.1","Referral of patients based on treatment protocol",null,1]
[" 3.11.5.2","Documentation of referral based on  ‘deprived citizen treatment fund guideline 2071’   ",null,1]
[" 3.11.5.3","SSU allocates fund for transportation for referral ",null,1]
[" 3.11.6.1","Meetings of SSU every two months to review and discuss problems",null,1]
[" 3.11.6.2","Daily display of names of persons receiving free and partially free services from the unit",null,1]
[" 3.11.6.3"," Record information on free and partially free service recipients on the formats to records section of the concerned hospital",null,1]
[" 3.11.6.4","Prepare and submit monthly, trimester and annual report to concerned authority",null,1]